{"text_format":"2","workbook":"xlsx","n_sheets":3,"sheets":["Лист1","Лист2","Лист3"],"not_rendered":{"charts":0,"images":0,"macros":0,"external_links":1,"defined_names":0,"comments":0,"pivot_tables":0},"unopened":[],"bounds":{"document_bytes":16777216,"sheet_cells":100000,"run_cost":"one","rows_first":2000,"rows_last":500,"rows_between":2000,"halvings":0,"cell_chars":16384,"cell_head_chars":4096},"cells_cut":0,"cells_raw":0,"read":"whole","date_system":"1900"}

{"sheet":"Лист1","index":0,"n_rows":99,"n_cols":36,"rows_kept":99,"cut":false,"hidden":false,"merged":[[1,27,1,35]]}
[null,"ОЧКИ = (17-\"Место в дивизионе\")*СТЕПЕНЬ(EXP(1);2*(4-\"дивизион(1,2,3 или 4)\"))",{"$nulls":24},{"$f":"IF([1]!Cell_Color(O4)=[1]!Cell_Color($A$4),1,IF([1]!Cell_Color(O4)=[1]!Cell_Color($A$5),2,IF([1]!Cell_Color(O4)=[1]!Cell_Color($A$6),3,IF([1]!Cell_Color(O4)=[1]!Cell_Color($A$7),3,IF([1]!Cell_Color(O4)=[1]!Cell_Color($A$8),4,IF([1]!Cell_Color(O4)=[1]!Cell_Color($A$9),4,0))))))","v":1}]
[{"$nulls":27},"Очки"]
[null,null,null,"Место 3 сезона назад","Прогресс за 3 сезона","Место сезон назад","Прогресс за сезон","Место",null,4,{"$f":"J3+1","v":5},{"$f":"K3+1","v":6},7,8,9,10,11,12,13,14,15,16,17,"Очки (9-13)","Очки (11-15)","Очки (12-16)",null,9,{"$f":"AB3+1","v":10},{"$f":"AC3+1","v":11},12,13,14,15,16,17]
[null,1,1,2,{"$f":"D4-H4","v":1},2,{"$f":"F4-H4","v":1},1,"Гонвед",15,2,8,1,3,1,2,5,1,7,2,4,1,null,{"$f":"SUM(AB4:AF4)","v":27836.586750998711},{"$f":"SUM(AD4:AH4)","v":26626.300370520512},{"$f":"SUM(AE4:AI4)","v":28240.015544491449},null,{"$f":"(17-O4)*POWER(EXP(1),2*(4-IF([1]!Cell_Color(O4)=[1]!Cell_Color($A$4),1,IF([1]!Cell_Color(O4)=[1]!Cell_Color($A$5),2,IF([1]!Cell_Color(O4)=[1]!Cell_Color($A$6),3,IF([1]!Cell_Color(O4)=[1]!Cell_Color($A$7),3,IF([1]!Cell_Color(O4)=[1]!Cell_Color($A$8),4,IF([1]!Cell_Color(O4)=[1]!Cell_Color($A$9),4,0))))))))","v":6454.8606958837599},{"$f":"(17-P4)*POWER(EXP(1),2*(4-IF([1]!Cell_Color(P4)=[1]!Cell_Color($A$4),1,IF([1]!Cell_Color(P4)=[1]!Cell_Color($A$5),2,IF([1]!Cell_Color(P4)=[1]!Cell_Color($A$6),3,IF([1]!Cell_Color(P4)=[1]!Cell_Color($A$7),3,IF([1]!Cell_Color(P4)=[1]!Cell_Color($A$8),4,IF([1]!Cell_Color(P4)=[1]!Cell_Color($A$9),4,0))))))))","v":6051.4319023910248},{"$f":"(17-Q4)*POWER(EXP(1),2*(4-IF([1]!Cell_Color(Q4)=[1]!Cell_Color($A$4),1,IF([1]!Cell_Color(Q4)=[1]!Cell_Color($A$5),2,IF([1]!Cell_Color(Q4)=[1]!Cell_Color($A$6),3,IF([1]!Cell_Color(Q4)=[1]!Cell_Color($A$7),3,IF([1]!Cell_Color(Q4)=[1]!Cell_Color($A$8),4,IF([1]!Cell_Color(Q4)=[1]!Cell_Color($A$9),4,0))))))))","v":4841.1455219128202},{"$f":"(17-R4)*POWER(EXP(1),2*(4-IF([1]!Cell_Color(R4)=[1]!Cell_Color($A$4),1,IF([1]!Cell_Color(R4)=[1]!Cell_Color($A$5),2,IF([1]!Cell_Color(R4)=[1]!Cell_Color($A$6),3,IF([1]!Cell_Color(R4)=[1]!Cell_Color($A$7),3,IF([1]!Cell_Color(R4)=[1]!Cell_Color($A$8),4,IF([1]!Cell_Color(R4)=[1]!Cell_Color($A$9),4,0))))))))","v":6454.8606958837599},{"$f":"(17-S4)*POWER(EXP(1),2*(4-IF([1]!Cell_Color(S4)=[1]!Cell_Color($A$4),1,IF([1]!Cell_Color(S4)=[1]!Cell_Color($A$5),2,IF([1]!Cell_Color(S4)=[1]!Cell_Color($A$6),3,IF([1]!Cell_Color(S4)=[1]!Cell_Color($A$7),3,IF([1]!Cell_Color(S4)=[1]!Cell_Color($A$8),4,IF([1]!Cell_Color(S4)=[1]!Cell_Color($A$9),4,0))))))))","v":4034.2879349273499},{"$f":"(17-T4)*POWER(EXP(1),2*(4-IF([1]!Cell_Color(T4)=[1]!Cell_Color($A$4),1,IF([1]!Cell_Color(T4)=[1]!Cell_Color($A$5),2,IF([1]!Cell_Color(T4)=[1]!Cell_Color($A$6),3,IF([1]!Cell_Color(T4)=[1]!Cell_Color($A$7),3,IF([1]!Cell_Color(T4)=[1]!Cell_Color($A$8),4,IF([1]!Cell_Color(T4)=[1]!Cell_Color($A$9),4,0))))))))","v":6051.4319023910248},{"$f":"(17-U4)*POWER(EXP(1),2*(4-IF([1]!Cell_Color(U4)=[1]!Cell_Color($A$4),1,IF([1]!Cell_Color(U4)=[1]!Cell_Color($A$5),2,IF([1]!Cell_Color(U4)=[1]!Cell_Color($A$6),3,IF([1]!Cell_Color(U4)=[1]!Cell_Color($A$7),3,IF([1]!Cell_Color(U4)=[1]!Cell_Color($A$8),4,IF([1]!Cell_Color(U4)=[1]!Cell_Color($A$9),4,0))))))))","v":5244.5743154055554},{"$f":"(17-V4)*POWER(EXP(1),2*(4-IF([1]!Cell_Color(V4)=[1]!Cell_Color($A$4),1,IF([1]!Cell_Color(V4)=[1]!Cell_Color($A$5),2,IF([1]!Cell_Color(V4)=[1]!Cell_Color($A$6),3,IF([1]!Cell_Color(V4)=[1]!Cell_Color($A$7),3,IF([1]!Cell_Color(V4)=[1]!Cell_Color($A$8),4,IF([1]!Cell_Color(V4)=[1]!Cell_Color($A$9),4,0))))))))","v":6454.8606958837599}]
[null,2,{"$f":"C4+1","v":2},8,{"$f":"D5-H5","v":6},3,{"$f":"F5-H5","v":1},2,"Вечеш ФК",1,7,4,6,8,14,1,6,8,3,4,1,2,null,{"$f":"SUM(AB5:AF5)","v":15800.435759761502},{"$f":"SUM(AD5:AH5)","v":25416.013990042306},{"$f":"SUM(AE5:AI5)","v":27029.729164013243},null,{"$f":"(17-O5)*POWER(EXP(1),2*(4-IF([1]!Cell_Color(O5)=[1]!Cell_Color($A$4),1,IF([1]!Cell_Color(O5)=[1]!Cell_Color($A$5),2,IF([1]!Cell_Color(O5)=[1]!Cell_Color($A$6),3,IF([1]!Cell_Color(O5)=[1]!Cell_Color($A$7),3,IF([1]!Cell_Color(O5)=[1]!Cell_Color($A$8),4,IF([1]!Cell_Color(O5)=[1]!Cell_Color($A$9),4,0))))))))","v":1210.286380478205},{"$f":"(17-P5)*POWER(EXP(1),2*(4-IF([1]!Cell_Color(P5)=[1]!Cell_Color($A$4),1,IF([1]!Cell_Color(P5)=[1]!Cell_Color($A$5),2,IF([1]!Cell_Color(P5)=[1]!Cell_Color($A$6),3,IF([1]!Cell_Color(P5)=[1]!Cell_Color($A$7),3,IF([1]!Cell_Color(P5)=[1]!Cell_Color($A$8),4,IF([1]!Cell_Color(P5)=[1]!Cell_Color($A$9),4,0))))))))","v":873.57040053030767},{"$f":"(17-Q5)*POWER(EXP(1),2*(4-IF([1]!Cell_Color(Q5)=[1]!Cell_Color($A$4),1,IF([1]!Cell_Color(Q5)=[1]!Cell_Color($A$5),2,IF([1]!Cell_Color(Q5)=[1]!Cell_Color($A$6),3,IF([1]!Cell_Color(Q5)=[1]!Cell_Color($A$7),3,IF([1]!Cell_Color(Q5)=[1]!Cell_Color($A$8),4,IF([1]!Cell_Color(Q5)=[1]!Cell_Color($A$9),4,0))))))))","v":4437.716728420085},{"$f":"(17-R5)*POWER(EXP(1),2*(4-IF([1]!Cell_Color(R5)=[1]!Cell_Color($A$4),1,IF([1]!Cell_Color(R5)=[1]!Cell_Color($A$5),2,IF([1]!Cell_Color(R5)=[1]!Cell_Color($A$6),3,IF([1]!Cell_Color(R5)=[1]!Cell_Color($A$7),3,IF([1]!Cell_Color(R5)=[1]!Cell_Color($A$8),4,IF([1]!Cell_Color(R5)=[1]!Cell_Color($A$9),4,0))))))))","v":3630.8591414346151},{"$f":"(17-S5)*POWER(EXP(1),2*(4-IF([1]!Cell_Color(S5)=[1]!Cell_Color($A$4),1,IF([1]!Cell_Color(S5)=[1]!Cell_Color($A$5),2,IF([1]!Cell_Color(S5)=[1]!Cell_Color($A$6),3,IF([1]!Cell_Color(S5)=[1]!Cell_Color($A$7),3,IF([1]!Cell_Color(S5)=[1]!Cell_Color($A$8),4,IF([1]!Cell_Color(S5)=[1]!Cell_Color($A$9),4,0))))))))","v":5648.0031088982896},{"$f":"(17-T5)*POWER(EXP(1),2*(4-IF([1]!Cell_Color(T5)=[1]!Cell_Color($A$4),1,IF([1]!Cell_Color(T5)=[1]!Cell_Color($A$5),2,IF([1]!Cell_Color(T5)=[1]!Cell_Color($A$6),3,IF([1]!Cell_Color(T5)=[1]!Cell_Color($A$7),3,IF([1]!Cell_Color(T5)=[1]!Cell_Color($A$8),4,IF([1]!Cell_Color(T5)=[1]!Cell_Color($A$9),4,0))))))))","v":5244.5743154055554},{"$f":"(17-U5)*POWER(EXP(1),2*(4-IF([1]!Cell_Color(U5)=[1]!Cell_Color($A$4),1,IF([1]!Cell_Color(U5)=[1]!Cell_Color($A$5),2,IF([1]!Cell_Color(U5)=[1]!Cell_Color($A$6),3,IF([1]!Cell_Color(U5)=[1]!Cell_Color($A$7),3,IF([1]!Cell_Color(U5)=[1]!Cell_Color($A$8),4,IF([1]!Cell_Color(U5)=[1]!Cell_Color($A$9),4,0))))))))","v":6454.8606958837599},{"$f":"(17-V5)*POWER(EXP(1),2*(4-IF([1]!Cell_Color(V5)=[1]!Cell_Color($A$4),1,IF([1]!Cell_Color(V5)=[1]!Cell_Color($A$5),2,IF([1]!Cell_Color(V5)=[1]!Cell_Color($A$6),3,IF([1]!Cell_Color(V5)=[1]!Cell_Color($A$7),3,IF([1]!Cell_Color(V5)=[1]!Cell_Color($A$8),4,IF([1]!Cell_Color(V5)=[1]!Cell_Color($A$9),4,0))))))))","v":6051.4319023910248}]
[null,"3-А",{"$f":"C5+1","v":3},4,1,1,-2,3,"Варда СЕ",5,5,11,8,12,11,8,2,7,5,1,2,7,null,{"$f":"SUM(AB6:AF6)","v":20978.297261622218},{"$f":"SUM(AD6:AH6)","v":27433.15795750598},{"$f":"SUM(AE6:AI6)","v":25416.013990042306},null,{"$f":"(17-O6)*POWER(EXP(1),2*(4-IF([1]!Cell_Color(O6)=[1]!Cell_Color($A$4),1,IF([1]!Cell_Color(O6)=[1]!Cell_Color($A$5),2,IF([1]!Cell_Color(O6)=[1]!Cell_Color($A$6),3,IF([1]!Cell_Color(O6)=[1]!Cell_Color($A$7),3,IF([1]!Cell_Color(O6)=[1]!Cell_Color($A$8),4,IF([1]!Cell_Color(O6)=[1]!Cell_Color($A$9),4,0))))))))","v":2420.5727609564101},{"$f":"(17-P6)*POWER(EXP(1),2*(4-IF([1]!Cell_Color(P6)=[1]!Cell_Color($A$4),1,IF([1]!Cell_Color(P6)=[1]!Cell_Color($A$5),2,IF([1]!Cell_Color(P6)=[1]!Cell_Color($A$6),3,IF([1]!Cell_Color(P6)=[1]!Cell_Color($A$7),3,IF([1]!Cell_Color(P6)=[1]!Cell_Color($A$8),4,IF([1]!Cell_Color(P6)=[1]!Cell_Color($A$9),4,0))))))))","v":3630.8591414346151},{"$f":"(17-Q6)*POWER(EXP(1),2*(4-IF([1]!Cell_Color(Q6)=[1]!Cell_Color($A$4),1,IF([1]!Cell_Color(Q6)=[1]!Cell_Color($A$5),2,IF([1]!Cell_Color(Q6)=[1]!Cell_Color($A$6),3,IF([1]!Cell_Color(Q6)=[1]!Cell_Color($A$7),3,IF([1]!Cell_Color(Q6)=[1]!Cell_Color($A$8),4,IF([1]!Cell_Color(Q6)=[1]!Cell_Color($A$9),4,0))))))))","v":6051.4319023910248},{"$f":"(17-R6)*POWER(EXP(1),2*(4-IF([1]!Cell_Color(R6)=[1]!Cell_Color($A$4),1,IF([1]!Cell_Color(R6)=[1]!Cell_Color($A$5),2,IF([1]!Cell_Color(R6)=[1]!Cell_Color($A$6),3,IF([1]!Cell_Color(R6)=[1]!Cell_Color($A$7),3,IF([1]!Cell_Color(R6)=[1]!Cell_Color($A$8),4,IF([1]!Cell_Color(R6)=[1]!Cell_Color($A$9),4,0))))))))","v":4034.2879349273499},{"$f":"(17-S6)*POWER(EXP(1),2*(4-IF([1]!Cell_Color(S6)=[1]!Cell_Color($A$4),1,IF([1]!Cell_Color(S6)=[1]!Cell_Color($A$5),2,IF([1]!Cell_Color(S6)=[1]!Cell_Color($A$6),3,IF([1]!Cell_Color(S6)=[1]!Cell_Color($A$7),3,IF([1]!Cell_Color(S6)=[1]!Cell_Color($A$8),4,IF([1]!Cell_Color(S6)=[1]!Cell_Color($A$9),4,0))))))))","v":4841.1455219128202},{"$f":"(17-T6)*POWER(EXP(1),2*(4-IF([1]!Cell_Color(T6)=[1]!Cell_Color($A$4),1,IF([1]!Cell_Color(T6)=[1]!Cell_Color($A$5),2,IF([1]!Cell_Color(T6)=[1]!Cell_Color($A$6),3,IF([1]!Cell_Color(T6)=[1]!Cell_Color($A$7),3,IF([1]!Cell_Color(T6)=[1]!Cell_Color($A$8),4,IF([1]!Cell_Color(T6)=[1]!Cell_Color($A$9),4,0))))))))","v":6454.8606958837599},{"$f":"(17-U6)*POWER(EXP(1),2*(4-IF([1]!Cell_Color(U6)=[1]!Cell_Color($A$4),1,IF([1]!Cell_Color(U6)=[1]!Cell_Color($A$5),2,IF([1]!Cell_Color(U6)=[1]!Cell_Color($A$6),3,IF([1]!Cell_Color(U6)=[1]!Cell_Color($A$7),3,IF([1]!Cell_Color(U6)=[1]!Cell_Color($A$8),4,IF([1]!Cell_Color(U6)=[1]!Cell_Color($A$9),4,0))))))))","v":6051.4319023910248},{"$f":"(17-V6)*POWER(EXP(1),2*(4-IF([1]!Cell_Color(V6)=[1]!Cell_Color($A$4),1,IF([1]!Cell_Color(V6)=[1]!Cell_Color($A$5),2,IF([1]!Cell_Color(V6)=[1]!Cell_Color($A$6),3,IF([1]!Cell_Color(V6)=[1]!Cell_Color($A$7),3,IF([1]!Cell_Color(V6)=[1]!Cell_Color($A$8),4,IF([1]!Cell_Color(V6)=[1]!Cell_Color($A$9),4,0))))))))","v":4034.2879349273499}]
[null,"3-Б",4,3,-1,5,1,4,"МТК",1,2,5,3,4,3,7,3,6,2,10,5,3,null,{"$f":"SUM(AB7:AF7)","v":25819.44278353504},{"$f":"SUM(AD7:AH7)","v":23802.298816071365},{"$f":"SUM(AE7:AI7)","v":23802.298816071365},null,{"$f":"(17-O7)*POWER(EXP(1),2*(4-IF([1]!Cell_Color(O7)=[1]!Cell_Color($A$4),1,IF([1]!Cell_Color(O7)=[1]!Cell_Color($A$5),2,IF([1]!Cell_Color(O7)=[1]!Cell_Color($A$6),3,IF([1]!Cell_Color(O7)=[1]!Cell_Color($A$7),3,IF([1]!Cell_Color(O7)=[1]!Cell_Color($A$8),4,IF([1]!Cell_Color(O7)=[1]!Cell_Color($A$9),4,0))))))))","v":5648.0031088982896},{"$f":"(17-P7)*POWER(EXP(1),2*(4-IF([1]!Cell_Color(P7)=[1]!Cell_Color($A$4),1,IF([1]!Cell_Color(P7)=[1]!Cell_Color($A$5),2,IF([1]!Cell_Color(P7)=[1]!Cell_Color($A$6),3,IF([1]!Cell_Color(P7)=[1]!Cell_Color($A$7),3,IF([1]!Cell_Color(P7)=[1]!Cell_Color($A$8),4,IF([1]!Cell_Color(P7)=[1]!Cell_Color($A$9),4,0))))))))","v":4034.2879349273499},{"$f":"(17-Q7)*POWER(EXP(1),2*(4-IF([1]!Cell_Color(Q7)=[1]!Cell_Color($A$4),1,IF([1]!Cell_Color(Q7)=[1]!Cell_Color($A$5),2,IF([1]!Cell_Color(Q7)=[1]!Cell_Color($A$6),3,IF([1]!Cell_Color(Q7)=[1]!Cell_Color($A$7),3,IF([1]!Cell_Color(Q7)=[1]!Cell_Color($A$8),4,IF([1]!Cell_Color(Q7)=[1]!Cell_Color($A$9),4,0))))))))","v":5648.0031088982896},{"$f":"(17-R7)*POWER(EXP(1),2*(4-IF([1]!Cell_Color(R7)=[1]!Cell_Color($A$4),1,IF([1]!Cell_Color(R7)=[1]!Cell_Color($A$5),2,IF([1]!Cell_Color(R7)=[1]!Cell_Color($A$6),3,IF([1]!Cell_Color(R7)=[1]!Cell_Color($A$7),3,IF([1]!Cell_Color(R7)=[1]!Cell_Color($A$8),4,IF([1]!Cell_Color(R7)=[1]!Cell_Color($A$9),4,0))))))))","v":4437.716728420085},{"$f":"(17-S7)*POWER(EXP(1),2*(4-IF([1]!Cell_Color(S7)=[1]!Cell_Color($A$4),1,IF([1]!Cell_Color(S7)=[1]!Cell_Color($A$5),2,IF([1]!Cell_Color(S7)=[1]!Cell_Color($A$6),3,IF([1]!Cell_Color(S7)=[1]!Cell_Color($A$7),3,IF([1]!Cell_Color(S7)=[1]!Cell_Color($A$8),4,IF([1]!Cell_Color(S7)=[1]!Cell_Color($A$9),4,0))))))))","v":6051.4319023910248},{"$f":"(17-T7)*POWER(EXP(1),2*(4-IF([1]!Cell_Color(T7)=[1]!Cell_Color($A$4),1,IF([1]!Cell_Color(T7)=[1]!Cell_Color($A$5),2,IF([1]!Cell_Color(T7)=[1]!Cell_Color($A$6),3,IF([1]!Cell_Color(T7)=[1]!Cell_Color($A$7),3,IF([1]!Cell_Color(T7)=[1]!Cell_Color($A$8),4,IF([1]!Cell_Color(T7)=[1]!Cell_Color($A$9),4,0))))))))","v":2824.0015544491448},{"$f":"(17-U7)*POWER(EXP(1),2*(4-IF([1]!Cell_Color(U7)=[1]!Cell_Color($A$4),1,IF([1]!Cell_Color(U7)=[1]!Cell_Color($A$5),2,IF([1]!Cell_Color(U7)=[1]!Cell_Color($A$6),3,IF([1]!Cell_Color(U7)=[1]!Cell_Color($A$7),3,IF([1]!Cell_Color(U7)=[1]!Cell_Color($A$8),4,IF([1]!Cell_Color(U7)=[1]!Cell_Color($A$9),4,0))))))))","v":4841.1455219128202},{"$f":"(17-V7)*POWER(EXP(1),2*(4-IF([1]!Cell_Color(V7)=[1]!Cell_Color($A$4),1,IF([1]!Cell_Color(V7)=[1]!Cell_Color($A$5),2,IF([1]!Cell_Color(V7)=[1]!Cell_Color($A$6),3,IF([1]!Cell_Color(V7)=[1]!Cell_Color($A$7),3,IF([1]!Cell_Color(V7)=[1]!Cell_Color($A$8),4,IF([1]!Cell_Color(V7)=[1]!Cell_Color($A$9),4,0))))))))","v":5648.0031088982896}]
[null,"4-А",5,5,null,6,1,5,"Комлой Баньяж СК",1,5,4,1,11,4,12,8,4,6,7,6,5,null,{"$f":"SUM(AB8:AF8)","v":20574.868468129484},{"$f":"SUM(AD8:AH8)","v":21785.15484860769},{"$f":"SUM(AE8:AI8)","v":22995.441229085896},null,{"$f":"(17-O8)*POWER(EXP(1),2*(4-IF([1]!Cell_Color(O8)=[1]!Cell_Color($A$4),1,IF([1]!Cell_Color(O8)=[1]!Cell_Color($A$5),2,IF([1]!Cell_Color(O8)=[1]!Cell_Color($A$6),3,IF([1]!Cell_Color(O8)=[1]!Cell_Color($A$7),3,IF([1]!Cell_Color(O8)=[1]!Cell_Color($A$8),4,IF([1]!Cell_Color(O8)=[1]!Cell_Color($A$9),4,0))))))))","v":5244.5743154055554},{"$f":"(17-P8)*POWER(EXP(1),2*(4-IF([1]!Cell_Color(P8)=[1]!Cell_Color($A$4),1,IF([1]!Cell_Color(P8)=[1]!Cell_Color($A$5),2,IF([1]!Cell_Color(P8)=[1]!Cell_Color($A$6),3,IF([1]!Cell_Color(P8)=[1]!Cell_Color($A$7),3,IF([1]!Cell_Color(P8)=[1]!Cell_Color($A$8),4,IF([1]!Cell_Color(P8)=[1]!Cell_Color($A$9),4,0))))))))","v":2017.1439674636749},{"$f":"(17-Q8)*POWER(EXP(1),2*(4-IF([1]!Cell_Color(Q8)=[1]!Cell_Color($A$4),1,IF([1]!Cell_Color(Q8)=[1]!Cell_Color($A$5),2,IF([1]!Cell_Color(Q8)=[1]!Cell_Color($A$6),3,IF([1]!Cell_Color(Q8)=[1]!Cell_Color($A$7),3,IF([1]!Cell_Color(Q8)=[1]!Cell_Color($A$8),4,IF([1]!Cell_Color(Q8)=[1]!Cell_Color($A$9),4,0))))))))","v":3630.8591414346151},{"$f":"(17-R8)*POWER(EXP(1),2*(4-IF([1]!Cell_Color(R8)=[1]!Cell_Color($A$4),1,IF([1]!Cell_Color(R8)=[1]!Cell_Color($A$5),2,IF([1]!Cell_Color(R8)=[1]!Cell_Color($A$6),3,IF([1]!Cell_Color(R8)=[1]!Cell_Color($A$7),3,IF([1]!Cell_Color(R8)=[1]!Cell_Color($A$8),4,IF([1]!Cell_Color(R8)=[1]!Cell_Color($A$9),4,0))))))))","v":5244.5743154055554},{"$f":"(17-S8)*POWER(EXP(1),2*(4-IF([1]!Cell_Color(S8)=[1]!Cell_Color($A$4),1,IF([1]!Cell_Color(S8)=[1]!Cell_Color($A$5),2,IF([1]!Cell_Color(S8)=[1]!Cell_Color($A$6),3,IF([1]!Cell_Color(S8)=[1]!Cell_Color($A$7),3,IF([1]!Cell_Color(S8)=[1]!Cell_Color($A$8),4,IF([1]!Cell_Color(S8)=[1]!Cell_Color($A$9),4,0))))))))","v":4437.716728420085},{"$f":"(17-T8)*POWER(EXP(1),2*(4-IF([1]!Cell_Color(T8)=[1]!Cell_Color($A$4),1,IF([1]!Cell_Color(T8)=[1]!Cell_Color($A$5),2,IF([1]!Cell_Color(T8)=[1]!Cell_Color($A$6),3,IF([1]!Cell_Color(T8)=[1]!Cell_Color($A$7),3,IF([1]!Cell_Color(T8)=[1]!Cell_Color($A$8),4,IF([1]!Cell_Color(T8)=[1]!Cell_Color($A$9),4,0))))))))","v":4034.2879349273499},{"$f":"(17-U8)*POWER(EXP(1),2*(4-IF([1]!Cell_Color(U8)=[1]!Cell_Color($A$4),1,IF([1]!Cell_Color(U8)=[1]!Cell_Color($A$5),2,IF([1]!Cell_Color(U8)=[1]!Cell_Color($A$6),3,IF([1]!Cell_Color(U8)=[1]!Cell_Color($A$7),3,IF([1]!Cell_Color(U8)=[1]!Cell_Color($A$8),4,IF([1]!Cell_Color(U8)=[1]!Cell_Color($A$9),4,0))))))))","v":4437.716728420085},{"$f":"(17-V8)*POWER(EXP(1),2*(4-IF([1]!Cell_Color(V8)=[1]!Cell_Color($A$4),1,IF([1]!Cell_Color(V8)=[1]!Cell_Color($A$5),2,IF([1]!Cell_Color(V8)=[1]!Cell_Color($A$6),3,IF([1]!Cell_Color(V8)=[1]!Cell_Color($A$7),3,IF([1]!Cell_Color(V8)=[1]!Cell_Color($A$8),4,IF([1]!Cell_Color(V8)=[1]!Cell_Color($A$9),4,0))))))))","v":4841.1455219128202}]
[null,"4-Б",6,10,4,8,2,6,"Орошаза ФК",1,3,9,11,5,6,13,13,3,1,5,7,4,null,{"$f":"SUM(AB9:AF9)","v":14884.381872709742},{"$f":"SUM(AD9:AH9)","v":17708.383427158889},{"$f":"SUM(AE9:AI9)","v":21339.242568593505},null,{"$f":"(17-O9)*POWER(EXP(1),2*(4-IF([1]!Cell_Color(O9)=[1]!Cell_Color($A$4),1,IF([1]!Cell_Color(O9)=[1]!Cell_Color($A$5),2,IF([1]!Cell_Color(O9)=[1]!Cell_Color($A$6),3,IF([1]!Cell_Color(O9)=[1]!Cell_Color($A$7),3,IF([1]!Cell_Color(O9)=[1]!Cell_Color($A$8),4,IF([1]!Cell_Color(O9)=[1]!Cell_Color($A$9),4,0))))))))","v":4437.716728420085},{"$f":"(17-P9)*POWER(EXP(1),2*(4-IF([1]!Cell_Color(P9)=[1]!Cell_Color($A$4),1,IF([1]!Cell_Color(P9)=[1]!Cell_Color($A$5),2,IF([1]!Cell_Color(P9)=[1]!Cell_Color($A$6),3,IF([1]!Cell_Color(P9)=[1]!Cell_Color($A$7),3,IF([1]!Cell_Color(P9)=[1]!Cell_Color($A$8),4,IF([1]!Cell_Color(P9)=[1]!Cell_Color($A$9),4,0))))))))","v":1613.71517397094},{"$f":"(17-Q9)*POWER(EXP(1),2*(4-IF([1]!Cell_Color(Q9)=[1]!Cell_Color($A$4),1,IF([1]!Cell_Color(Q9)=[1]!Cell_Color($A$5),2,IF([1]!Cell_Color(Q9)=[1]!Cell_Color($A$6),3,IF([1]!Cell_Color(Q9)=[1]!Cell_Color($A$7),3,IF([1]!Cell_Color(Q9)=[1]!Cell_Color($A$8),4,IF([1]!Cell_Color(Q9)=[1]!Cell_Color($A$9),4,0))))))))","v":1613.71517397094},{"$f":"(17-R9)*POWER(EXP(1),2*(4-IF([1]!Cell_Color(R9)=[1]!Cell_Color($A$4),1,IF([1]!Cell_Color(R9)=[1]!Cell_Color($A$5),2,IF([1]!Cell_Color(R9)=[1]!Cell_Color($A$6),3,IF([1]!Cell_Color(R9)=[1]!Cell_Color($A$7),3,IF([1]!Cell_Color(R9)=[1]!Cell_Color($A$8),4,IF([1]!Cell_Color(R9)=[1]!Cell_Color($A$9),4,0))))))))","v":764.37410046401919},{"$f":"(17-S9)*POWER(EXP(1),2*(4-IF([1]!Cell_Color(S9)=[1]!Cell_Color($A$4),1,IF([1]!Cell_Color(S9)=[1]!Cell_Color($A$5),2,IF([1]!Cell_Color(S9)=[1]!Cell_Color($A$6),3,IF([1]!Cell_Color(S9)=[1]!Cell_Color($A$7),3,IF([1]!Cell_Color(S9)=[1]!Cell_Color($A$8),4,IF([1]!Cell_Color(S9)=[1]!Cell_Color($A$9),4,0))))))))","v":6454.8606958837599},{"$f":"(17-T9)*POWER(EXP(1),2*(4-IF([1]!Cell_Color(T9)=[1]!Cell_Color($A$4),1,IF([1]!Cell_Color(T9)=[1]!Cell_Color($A$5),2,IF([1]!Cell_Color(T9)=[1]!Cell_Color($A$6),3,IF([1]!Cell_Color(T9)=[1]!Cell_Color($A$7),3,IF([1]!Cell_Color(T9)=[1]!Cell_Color($A$8),4,IF([1]!Cell_Color(T9)=[1]!Cell_Color($A$9),4,0))))))))","v":4841.1455219128202},{"$f":"(17-U9)*POWER(EXP(1),2*(4-IF([1]!Cell_Color(U9)=[1]!Cell_Color($A$4),1,IF([1]!Cell_Color(U9)=[1]!Cell_Color($A$5),2,IF([1]!Cell_Color(U9)=[1]!Cell_Color($A$6),3,IF([1]!Cell_Color(U9)=[1]!Cell_Color($A$7),3,IF([1]!Cell_Color(U9)=[1]!Cell_Color($A$8),4,IF([1]!Cell_Color(U9)=[1]!Cell_Color($A$9),4,0))))))))","v":4034.2879349273499},{"$f":"(17-V9)*POWER(EXP(1),2*(4-IF([1]!Cell_Color(V9)=[1]!Cell_Color($A$4),1,IF([1]!Cell_Color(V9)=[1]!Cell_Color($A$5),2,IF([1]!Cell_Color(V9)=[1]!Cell_Color($A$6),3,IF([1]!Cell_Color(V9)=[1]!Cell_Color($A$7),3,IF([1]!Cell_Color(V9)=[1]!Cell_Color($A$8),4,IF([1]!Cell_Color(V9)=[1]!Cell_Color($A$9),4,0))))))))","v":5244.5743154055554}]
[null,null,7,1,-6,4,-3,7,"Залаэгерсеги",3,1,1,2,1,2,1,1,2,4,11,8,11,null,{"$f":"SUM(AB10:AF10)","v":30257.159511955124},{"$f":"SUM(AD10:AH10)","v":23802.298816071365},{"$f":"SUM(AE10:AI10)","v":19768.010881144015},null,{"$f":"(17-O10)*POWER(EXP(1),2*(4-IF([1]!Cell_Color(O10)=[1]!Cell_Color($A$4),1,IF([1]!Cell_Color(O10)=[1]!Cell_Color($A$5),2,IF([1]!Cell_Color(O10)=[1]!Cell_Color($A$6),3,IF([1]!Cell_Color(O10)=[1]!Cell_Color($A$7),3,IF([1]!Cell_Color(O10)=[1]!Cell_Color($A$8),4,IF([1]!Cell_Color(O10)=[1]!Cell_Color($A$9),4,0))))))))","v":6051.4319023910248},{"$f":"(17-P10)*POWER(EXP(1),2*(4-IF([1]!Cell_Color(P10)=[1]!Cell_Color($A$4),1,IF([1]!Cell_Color(P10)=[1]!Cell_Color($A$5),2,IF([1]!Cell_Color(P10)=[1]!Cell_Color($A$6),3,IF([1]!Cell_Color(P10)=[1]!Cell_Color($A$7),3,IF([1]!Cell_Color(P10)=[1]!Cell_Color($A$8),4,IF([1]!Cell_Color(P10)=[1]!Cell_Color($A$9),4,0))))))))","v":6454.8606958837599},{"$f":"(17-Q10)*POWER(EXP(1),2*(4-IF([1]!Cell_Color(Q10)=[1]!Cell_Color($A$4),1,IF([1]!Cell_Color(Q10)=[1]!Cell_Color($A$5),2,IF([1]!Cell_Color(Q10)=[1]!Cell_Color($A$6),3,IF([1]!Cell_Color(Q10)=[1]!Cell_Color($A$7),3,IF([1]!Cell_Color(Q10)=[1]!Cell_Color($A$8),4,IF([1]!Cell_Color(Q10)=[1]!Cell_Color($A$9),4,0))))))))","v":6454.8606958837599},{"$f":"(17-R10)*POWER(EXP(1),2*(4-IF([1]!Cell_Color(R10)=[1]!Cell_Color($A$4),1,IF([1]!Cell_Color(R10)=[1]!Cell_Color($A$5),2,IF([1]!Cell_Color(R10)=[1]!Cell_Color($A$6),3,IF([1]!Cell_Color(R10)=[1]!Cell_Color($A$7),3,IF([1]!Cell_Color(R10)=[1]!Cell_Color($A$8),4,IF([1]!Cell_Color(R10)=[1]!Cell_Color($A$9),4,0))))))))","v":6051.4319023910248},{"$f":"(17-S10)*POWER(EXP(1),2*(4-IF([1]!Cell_Color(S10)=[1]!Cell_Color($A$4),1,IF([1]!Cell_Color(S10)=[1]!Cell_Color($A$5),2,IF([1]!Cell_Color(S10)=[1]!Cell_Color($A$6),3,IF([1]!Cell_Color(S10)=[1]!Cell_Color($A$7),3,IF([1]!Cell_Color(S10)=[1]!Cell_Color($A$8),4,IF([1]!Cell_Color(S10)=[1]!Cell_Color($A$9),4,0))))))))","v":5244.5743154055554},{"$f":"(17-T10)*POWER(EXP(1),2*(4-IF([1]!Cell_Color(T10)=[1]!Cell_Color($A$4),1,IF([1]!Cell_Color(T10)=[1]!Cell_Color($A$5),2,IF([1]!Cell_Color(T10)=[1]!Cell_Color($A$6),3,IF([1]!Cell_Color(T10)=[1]!Cell_Color($A$7),3,IF([1]!Cell_Color(T10)=[1]!Cell_Color($A$8),4,IF([1]!Cell_Color(T10)=[1]!Cell_Color($A$9),4,0))))))))","v":2420.5727609564101},{"$f":"(17-U10)*POWER(EXP(1),2*(4-IF([1]!Cell_Color(U10)=[1]!Cell_Color($A$4),1,IF([1]!Cell_Color(U10)=[1]!Cell_Color($A$5),2,IF([1]!Cell_Color(U10)=[1]!Cell_Color($A$6),3,IF([1]!Cell_Color(U10)=[1]!Cell_Color($A$7),3,IF([1]!Cell_Color(U10)=[1]!Cell_Color($A$8),4,IF([1]!Cell_Color(U10)=[1]!Cell_Color($A$9),4,0))))))))","v":3630.8591414346151},{"$f":"(17-V10)*POWER(EXP(1),2*(4-IF([1]!Cell_Color(V10)=[1]!Cell_Color($A$4),1,IF([1]!Cell_Color(V10)=[1]!Cell_Color($A$5),2,IF([1]!Cell_Color(V10)=[1]!Cell_Color($A$6),3,IF([1]!Cell_Color(V10)=[1]!Cell_Color($A$7),3,IF([1]!Cell_Color(V10)=[1]!Cell_Color($A$8),4,IF([1]!Cell_Color(V10)=[1]!Cell_Color($A$9),4,0))))))))","v":2420.5727609564101}]
[null,null,8,11,3,7,-1,8,"Надьканизша ФК",5,10,2,16,8,1,5,11,11,10,3,3,10,null,{"$f":"SUM(AB11:AF11)","v":13379.862998805094},{"$f":"SUM(AD11:AH11)","v":18961.153294158546},{"$f":"SUM(AE11:AI11)","v":19364.582087651277},null,{"$f":"(17-O11)*POWER(EXP(1),2*(4-IF([1]!Cell_Color(O11)=[1]!Cell_Color($A$4),1,IF([1]!Cell_Color(O11)=[1]!Cell_Color($A$5),2,IF([1]!Cell_Color(O11)=[1]!Cell_Color($A$6),3,IF([1]!Cell_Color(O11)=[1]!Cell_Color($A$7),3,IF([1]!Cell_Color(O11)=[1]!Cell_Color($A$8),4,IF([1]!Cell_Color(O11)=[1]!Cell_Color($A$9),4,0))))))))","v":873.57040053030767},{"$f":"(17-P11)*POWER(EXP(1),2*(4-IF([1]!Cell_Color(P11)=[1]!Cell_Color($A$4),1,IF([1]!Cell_Color(P11)=[1]!Cell_Color($A$5),2,IF([1]!Cell_Color(P11)=[1]!Cell_Color($A$6),3,IF([1]!Cell_Color(P11)=[1]!Cell_Color($A$7),3,IF([1]!Cell_Color(P11)=[1]!Cell_Color($A$8),4,IF([1]!Cell_Color(P11)=[1]!Cell_Color($A$9),4,0))))))))","v":4841.1455219128202},{"$f":"(17-Q11)*POWER(EXP(1),2*(4-IF([1]!Cell_Color(Q11)=[1]!Cell_Color($A$4),1,IF([1]!Cell_Color(Q11)=[1]!Cell_Color($A$5),2,IF([1]!Cell_Color(Q11)=[1]!Cell_Color($A$6),3,IF([1]!Cell_Color(Q11)=[1]!Cell_Color($A$7),3,IF([1]!Cell_Color(Q11)=[1]!Cell_Color($A$8),4,IF([1]!Cell_Color(Q11)=[1]!Cell_Color($A$9),4,0))))))))","v":2420.5727609564101},{"$f":"(17-R11)*POWER(EXP(1),2*(4-IF([1]!Cell_Color(R11)=[1]!Cell_Color($A$4),1,IF([1]!Cell_Color(R11)=[1]!Cell_Color($A$5),2,IF([1]!Cell_Color(R11)=[1]!Cell_Color($A$6),3,IF([1]!Cell_Color(R11)=[1]!Cell_Color($A$7),3,IF([1]!Cell_Color(R11)=[1]!Cell_Color($A$8),4,IF([1]!Cell_Color(R11)=[1]!Cell_Color($A$9),4,0))))))))","v":2420.5727609564101},{"$f":"(17-S11)*POWER(EXP(1),2*(4-IF([1]!Cell_Color(S11)=[1]!Cell_Color($A$4),1,IF([1]!Cell_Color(S11)=[1]!Cell_Color($A$5),2,IF([1]!Cell_Color(S11)=[1]!Cell_Color($A$6),3,IF([1]!Cell_Color(S11)=[1]!Cell_Color($A$7),3,IF([1]!Cell_Color(S11)=[1]!Cell_Color($A$8),4,IF([1]!Cell_Color(S11)=[1]!Cell_Color($A$9),4,0))))))))","v":2824.0015544491448},{"$f":"(17-T11)*POWER(EXP(1),2*(4-IF([1]!Cell_Color(T11)=[1]!Cell_Color($A$4),1,IF([1]!Cell_Color(T11)=[1]!Cell_Color($A$5),2,IF([1]!Cell_Color(T11)=[1]!Cell_Color($A$6),3,IF([1]!Cell_Color(T11)=[1]!Cell_Color($A$7),3,IF([1]!Cell_Color(T11)=[1]!Cell_Color($A$8),4,IF([1]!Cell_Color(T11)=[1]!Cell_Color($A$9),4,0))))))))","v":5648.0031088982896},{"$f":"(17-U11)*POWER(EXP(1),2*(4-IF([1]!Cell_Color(U11)=[1]!Cell_Color($A$4),1,IF([1]!Cell_Color(U11)=[1]!Cell_Color($A$5),2,IF([1]!Cell_Color(U11)=[1]!Cell_Color($A$6),3,IF([1]!Cell_Color(U11)=[1]!Cell_Color($A$7),3,IF([1]!Cell_Color(U11)=[1]!Cell_Color($A$8),4,IF([1]!Cell_Color(U11)=[1]!Cell_Color($A$9),4,0))))))))","v":5648.0031088982896},{"$f":"(17-V11)*POWER(EXP(1),2*(4-IF([1]!Cell_Color(V11)=[1]!Cell_Color($A$4),1,IF([1]!Cell_Color(V11)=[1]!Cell_Color($A$5),2,IF([1]!Cell_Color(V11)=[1]!Cell_Color($A$6),3,IF([1]!Cell_Color(V11)=[1]!Cell_Color($A$7),3,IF([1]!Cell_Color(V11)=[1]!Cell_Color($A$8),4,IF([1]!Cell_Color(V11)=[1]!Cell_Color($A$9),4,0))))))))","v":2824.0015544491448}]
[null,null,9,17,8,10,1,9,"Папай ФК",13,13,13,2,1,3,16,10,2,8,6,10,6,null,{"$f":"SUM(AB12:AF12)","v":5999.8213361205417},{"$f":"SUM(AD12:AH12)","v":12093.736725033019},{"$f":"SUM(AE12:AI12)","v":16149.266403221096},null,{"$f":"(17-O12)*POWER(EXP(1),2*(4-IF([1]!Cell_Color(O12)=[1]!Cell_Color($A$4),1,IF([1]!Cell_Color(O12)=[1]!Cell_Color($A$5),2,IF([1]!Cell_Color(O12)=[1]!Cell_Color($A$6),3,IF([1]!Cell_Color(O12)=[1]!Cell_Color($A$7),3,IF([1]!Cell_Color(O12)=[1]!Cell_Color($A$8),4,IF([1]!Cell_Color(O12)=[1]!Cell_Color($A$9),4,0))))))))","v":764.37410046401919},{"$f":"(17-P12)*POWER(EXP(1),2*(4-IF([1]!Cell_Color(P12)=[1]!Cell_Color($A$4),1,IF([1]!Cell_Color(P12)=[1]!Cell_Color($A$5),2,IF([1]!Cell_Color(P12)=[1]!Cell_Color($A$6),3,IF([1]!Cell_Color(P12)=[1]!Cell_Color($A$7),3,IF([1]!Cell_Color(P12)=[1]!Cell_Color($A$8),4,IF([1]!Cell_Color(P12)=[1]!Cell_Color($A$9),4,0))))))))","v":403.428793492735},{"$f":"(17-Q12)*POWER(EXP(1),2*(4-IF([1]!Cell_Color(Q12)=[1]!Cell_Color($A$4),1,IF([1]!Cell_Color(Q12)=[1]!Cell_Color($A$5),2,IF([1]!Cell_Color(Q12)=[1]!Cell_Color($A$6),3,IF([1]!Cell_Color(Q12)=[1]!Cell_Color($A$7),3,IF([1]!Cell_Color(Q12)=[1]!Cell_Color($A$8),4,IF([1]!Cell_Color(Q12)=[1]!Cell_Color($A$9),4,0))))))))","v":382.1870502320096},{"$f":"(17-R12)*POWER(EXP(1),2*(4-IF([1]!Cell_Color(R12)=[1]!Cell_Color($A$4),1,IF([1]!Cell_Color(R12)=[1]!Cell_Color($A$5),2,IF([1]!Cell_Color(R12)=[1]!Cell_Color($A$6),3,IF([1]!Cell_Color(R12)=[1]!Cell_Color($A$7),3,IF([1]!Cell_Color(R12)=[1]!Cell_Color($A$8),4,IF([1]!Cell_Color(R12)=[1]!Cell_Color($A$9),4,0))))))))","v":818.97225049716349},{"$f":"(17-S12)*POWER(EXP(1),2*(4-IF([1]!Cell_Color(S12)=[1]!Cell_Color($A$4),1,IF([1]!Cell_Color(S12)=[1]!Cell_Color($A$5),2,IF([1]!Cell_Color(S12)=[1]!Cell_Color($A$6),3,IF([1]!Cell_Color(S12)=[1]!Cell_Color($A$7),3,IF([1]!Cell_Color(S12)=[1]!Cell_Color($A$8),4,IF([1]!Cell_Color(S12)=[1]!Cell_Color($A$9),4,0))))))))","v":3630.8591414346151},{"$f":"(17-T12)*POWER(EXP(1),2*(4-IF([1]!Cell_Color(T12)=[1]!Cell_Color($A$4),1,IF([1]!Cell_Color(T12)=[1]!Cell_Color($A$5),2,IF([1]!Cell_Color(T12)=[1]!Cell_Color($A$6),3,IF([1]!Cell_Color(T12)=[1]!Cell_Color($A$7),3,IF([1]!Cell_Color(T12)=[1]!Cell_Color($A$8),4,IF([1]!Cell_Color(T12)=[1]!Cell_Color($A$9),4,0))))))))","v":4437.716728420085},{"$f":"(17-U12)*POWER(EXP(1),2*(4-IF([1]!Cell_Color(U12)=[1]!Cell_Color($A$4),1,IF([1]!Cell_Color(U12)=[1]!Cell_Color($A$5),2,IF([1]!Cell_Color(U12)=[1]!Cell_Color($A$6),3,IF([1]!Cell_Color(U12)=[1]!Cell_Color($A$7),3,IF([1]!Cell_Color(U12)=[1]!Cell_Color($A$8),4,IF([1]!Cell_Color(U12)=[1]!Cell_Color($A$9),4,0))))))))","v":2824.0015544491448},{"$f":"(17-V12)*POWER(EXP(1),2*(4-IF([1]!Cell_Color(V12)=[1]!Cell_Color($A$4),1,IF([1]!Cell_Color(V12)=[1]!Cell_Color($A$5),2,IF([1]!Cell_Color(V12)=[1]!Cell_Color($A$6),3,IF([1]!Cell_Color(V12)=[1]!Cell_Color($A$7),3,IF([1]!Cell_Color(V12)=[1]!Cell_Color($A$8),4,IF([1]!Cell_Color(V12)=[1]!Cell_Color($A$9),4,0))))))))","v":4437.716728420085}]
[null,null,10,7,-3,9,-1,10,"Дьери ЭТО",10,6,13,13,7,10,9,10,5,9,13,3,7,null,{"$f":"SUM(AB13:AF13)","v":16944.009326694872},{"$f":"SUM(AD13:AH13)","v":13270.666698738805},{"$f":"SUM(AE13:AI13)","v":10992.646644621102},null,{"$f":"(17-O13)*POWER(EXP(1),2*(4-IF([1]!Cell_Color(O13)=[1]!Cell_Color($A$4),1,IF([1]!Cell_Color(O13)=[1]!Cell_Color($A$5),2,IF([1]!Cell_Color(O13)=[1]!Cell_Color($A$6),3,IF([1]!Cell_Color(O13)=[1]!Cell_Color($A$7),3,IF([1]!Cell_Color(O13)=[1]!Cell_Color($A$8),4,IF([1]!Cell_Color(O13)=[1]!Cell_Color($A$9),4,0))))))))","v":2824.0015544491448},{"$f":"(17-P13)*POWER(EXP(1),2*(4-IF([1]!Cell_Color(P13)=[1]!Cell_Color($A$4),1,IF([1]!Cell_Color(P13)=[1]!Cell_Color($A$5),2,IF([1]!Cell_Color(P13)=[1]!Cell_Color($A$6),3,IF([1]!Cell_Color(P13)=[1]!Cell_Color($A$7),3,IF([1]!Cell_Color(P13)=[1]!Cell_Color($A$8),4,IF([1]!Cell_Color(P13)=[1]!Cell_Color($A$9),4,0))))))))","v":3227.43034794188},{"$f":"(17-Q13)*POWER(EXP(1),2*(4-IF([1]!Cell_Color(Q13)=[1]!Cell_Color($A$4),1,IF([1]!Cell_Color(Q13)=[1]!Cell_Color($A$5),2,IF([1]!Cell_Color(Q13)=[1]!Cell_Color($A$6),3,IF([1]!Cell_Color(Q13)=[1]!Cell_Color($A$7),3,IF([1]!Cell_Color(Q13)=[1]!Cell_Color($A$8),4,IF([1]!Cell_Color(Q13)=[1]!Cell_Color($A$9),4,0))))))))","v":2824.0015544491448},{"$f":"(17-R13)*POWER(EXP(1),2*(4-IF([1]!Cell_Color(R13)=[1]!Cell_Color($A$4),1,IF([1]!Cell_Color(R13)=[1]!Cell_Color($A$5),2,IF([1]!Cell_Color(R13)=[1]!Cell_Color($A$6),3,IF([1]!Cell_Color(R13)=[1]!Cell_Color($A$7),3,IF([1]!Cell_Color(R13)=[1]!Cell_Color($A$8),4,IF([1]!Cell_Color(R13)=[1]!Cell_Color($A$9),4,0))))))))","v":4841.1455219128202},{"$f":"(17-S13)*POWER(EXP(1),2*(4-IF([1]!Cell_Color(S13)=[1]!Cell_Color($A$4),1,IF([1]!Cell_Color(S13)=[1]!Cell_Color($A$5),2,IF([1]!Cell_Color(S13)=[1]!Cell_Color($A$6),3,IF([1]!Cell_Color(S13)=[1]!Cell_Color($A$7),3,IF([1]!Cell_Color(S13)=[1]!Cell_Color($A$8),4,IF([1]!Cell_Color(S13)=[1]!Cell_Color($A$9),4,0))))))))","v":3227.43034794188},{"$f":"(17-T13)*POWER(EXP(1),2*(4-IF([1]!Cell_Color(T13)=[1]!Cell_Color($A$4),1,IF([1]!Cell_Color(T13)=[1]!Cell_Color($A$5),2,IF([1]!Cell_Color(T13)=[1]!Cell_Color($A$6),3,IF([1]!Cell_Color(T13)=[1]!Cell_Color($A$7),3,IF([1]!Cell_Color(T13)=[1]!Cell_Color($A$8),4,IF([1]!Cell_Color(T13)=[1]!Cell_Color($A$9),4,0))))))))","v":1613.71517397094},{"$f":"(17-U13)*POWER(EXP(1),2*(4-IF([1]!Cell_Color(U13)=[1]!Cell_Color($A$4),1,IF([1]!Cell_Color(U13)=[1]!Cell_Color($A$5),2,IF([1]!Cell_Color(U13)=[1]!Cell_Color($A$6),3,IF([1]!Cell_Color(U13)=[1]!Cell_Color($A$7),3,IF([1]!Cell_Color(U13)=[1]!Cell_Color($A$8),4,IF([1]!Cell_Color(U13)=[1]!Cell_Color($A$9),4,0))))))))","v":764.37410046401919},{"$f":"(17-V13)*POWER(EXP(1),2*(4-IF([1]!Cell_Color(V13)=[1]!Cell_Color($A$4),1,IF([1]!Cell_Color(V13)=[1]!Cell_Color($A$5),2,IF([1]!Cell_Color(V13)=[1]!Cell_Color($A$6),3,IF([1]!Cell_Color(V13)=[1]!Cell_Color($A$7),3,IF([1]!Cell_Color(V13)=[1]!Cell_Color($A$8),4,IF([1]!Cell_Color(V13)=[1]!Cell_Color($A$9),4,0))))))))","v":545.98150033144225}]
[null,null,11,19,8,17,6,11,"Балатонлелль",2,14,11,9,6,4,4,4,14,4,3,9,8,null,{"$f":"SUM(AB14:AF14)","v":4049.3901822017051},{"$f":"SUM(AD14:AH14)","v":6621.642729745854},{"$f":"SUM(AE14:AI14)","v":9542.7259207495954},null,{"$f":"(17-O14)*POWER(EXP(1),2*(4-IF([1]!Cell_Color(O14)=[1]!Cell_Color($A$4),1,IF([1]!Cell_Color(O14)=[1]!Cell_Color($A$5),2,IF([1]!Cell_Color(O14)=[1]!Cell_Color($A$6),3,IF([1]!Cell_Color(O14)=[1]!Cell_Color($A$7),3,IF([1]!Cell_Color(O14)=[1]!Cell_Color($A$8),4,IF([1]!Cell_Color(O14)=[1]!Cell_Color($A$9),4,0))))))))","v":709.77595043087501},{"$f":"(17-P14)*POWER(EXP(1),2*(4-IF([1]!Cell_Color(P14)=[1]!Cell_Color($A$4),1,IF([1]!Cell_Color(P14)=[1]!Cell_Color($A$5),2,IF([1]!Cell_Color(P14)=[1]!Cell_Color($A$6),3,IF([1]!Cell_Color(P14)=[1]!Cell_Color($A$7),3,IF([1]!Cell_Color(P14)=[1]!Cell_Color($A$8),4,IF([1]!Cell_Color(P14)=[1]!Cell_Color($A$9),4,0))))))))","v":709.77595043087501},{"$f":"(17-Q14)*POWER(EXP(1),2*(4-IF([1]!Cell_Color(Q14)=[1]!Cell_Color($A$4),1,IF([1]!Cell_Color(Q14)=[1]!Cell_Color($A$5),2,IF([1]!Cell_Color(Q14)=[1]!Cell_Color($A$6),3,IF([1]!Cell_Color(Q14)=[1]!Cell_Color($A$7),3,IF([1]!Cell_Color(Q14)=[1]!Cell_Color($A$8),4,IF([1]!Cell_Color(Q14)=[1]!Cell_Color($A$9),4,0))))))))","v":709.77595043087501},{"$f":"(17-R14)*POWER(EXP(1),2*(4-IF([1]!Cell_Color(R14)=[1]!Cell_Color($A$4),1,IF([1]!Cell_Color(R14)=[1]!Cell_Color($A$5),2,IF([1]!Cell_Color(R14)=[1]!Cell_Color($A$6),3,IF([1]!Cell_Color(R14)=[1]!Cell_Color($A$7),3,IF([1]!Cell_Color(R14)=[1]!Cell_Color($A$8),4,IF([1]!Cell_Color(R14)=[1]!Cell_Color($A$9),4,0))))))))","v":1210.286380478205},{"$f":"(17-S14)*POWER(EXP(1),2*(4-IF([1]!Cell_Color(S14)=[1]!Cell_Color($A$4),1,IF([1]!Cell_Color(S14)=[1]!Cell_Color($A$5),2,IF([1]!Cell_Color(S14)=[1]!Cell_Color($A$6),3,IF([1]!Cell_Color(S14)=[1]!Cell_Color($A$7),3,IF([1]!Cell_Color(S14)=[1]!Cell_Color($A$8),4,IF([1]!Cell_Color(S14)=[1]!Cell_Color($A$9),4,0))))))))","v":709.77595043087501},{"$f":"(17-T14)*POWER(EXP(1),2*(4-IF([1]!Cell_Color(T14)=[1]!Cell_Color($A$4),1,IF([1]!Cell_Color(T14)=[1]!Cell_Color($A$5),2,IF([1]!Cell_Color(T14)=[1]!Cell_Color($A$6),3,IF([1]!Cell_Color(T14)=[1]!Cell_Color($A$7),3,IF([1]!Cell_Color(T14)=[1]!Cell_Color($A$8),4,IF([1]!Cell_Color(T14)=[1]!Cell_Color($A$9),4,0))))))))","v":764.37410046401919},{"$f":"(17-U14)*POWER(EXP(1),2*(4-IF([1]!Cell_Color(U14)=[1]!Cell_Color($A$4),1,IF([1]!Cell_Color(U14)=[1]!Cell_Color($A$5),2,IF([1]!Cell_Color(U14)=[1]!Cell_Color($A$6),3,IF([1]!Cell_Color(U14)=[1]!Cell_Color($A$7),3,IF([1]!Cell_Color(U14)=[1]!Cell_Color($A$8),4,IF([1]!Cell_Color(U14)=[1]!Cell_Color($A$9),4,0))))))))","v":3227.43034794188},{"$f":"(17-V14)*POWER(EXP(1),2*(4-IF([1]!Cell_Color(V14)=[1]!Cell_Color($A$4),1,IF([1]!Cell_Color(V14)=[1]!Cell_Color($A$5),2,IF([1]!Cell_Color(V14)=[1]!Cell_Color($A$6),3,IF([1]!Cell_Color(V14)=[1]!Cell_Color($A$7),3,IF([1]!Cell_Color(V14)=[1]!Cell_Color($A$8),4,IF([1]!Cell_Color(V14)=[1]!Cell_Color($A$9),4,0))))))))","v":3630.8591414346151}]
[null,null,12,15,3,13,1,12,"Боли",14,7,4,3,1,5,3,2,12,11,12,14,14,null,{"$f":"SUM(AB15:AF15)","v":6676.2408797789985},{"$f":"SUM(AD15:AH15)","v":8484.1193268591287},{"$f":"SUM(AE15:AI15)","v":8875.43345684017},null,{"$f":"(17-O15)*POWER(EXP(1),2*(4-IF([1]!Cell_Color(O15)=[1]!Cell_Color($A$4),1,IF([1]!Cell_Color(O15)=[1]!Cell_Color($A$5),2,IF([1]!Cell_Color(O15)=[1]!Cell_Color($A$6),3,IF([1]!Cell_Color(O15)=[1]!Cell_Color($A$7),3,IF([1]!Cell_Color(O15)=[1]!Cell_Color($A$8),4,IF([1]!Cell_Color(O15)=[1]!Cell_Color($A$9),4,0))))))))","v":655.17780039773072},{"$f":"(17-P15)*POWER(EXP(1),2*(4-IF([1]!Cell_Color(P15)=[1]!Cell_Color($A$4),1,IF([1]!Cell_Color(P15)=[1]!Cell_Color($A$5),2,IF([1]!Cell_Color(P15)=[1]!Cell_Color($A$6),3,IF([1]!Cell_Color(P15)=[1]!Cell_Color($A$7),3,IF([1]!Cell_Color(P15)=[1]!Cell_Color($A$8),4,IF([1]!Cell_Color(P15)=[1]!Cell_Color($A$9),4,0))))))))","v":764.37410046401919},{"$f":"(17-Q15)*POWER(EXP(1),2*(4-IF([1]!Cell_Color(Q15)=[1]!Cell_Color($A$4),1,IF([1]!Cell_Color(Q15)=[1]!Cell_Color($A$5),2,IF([1]!Cell_Color(Q15)=[1]!Cell_Color($A$6),3,IF([1]!Cell_Color(Q15)=[1]!Cell_Color($A$7),3,IF([1]!Cell_Color(Q15)=[1]!Cell_Color($A$8),4,IF([1]!Cell_Color(Q15)=[1]!Cell_Color($A$9),4,0))))))))","v":818.97225049716349},{"$f":"(17-R15)*POWER(EXP(1),2*(4-IF([1]!Cell_Color(R15)=[1]!Cell_Color($A$4),1,IF([1]!Cell_Color(R15)=[1]!Cell_Color($A$5),2,IF([1]!Cell_Color(R15)=[1]!Cell_Color($A$6),3,IF([1]!Cell_Color(R15)=[1]!Cell_Color($A$7),3,IF([1]!Cell_Color(R15)=[1]!Cell_Color($A$8),4,IF([1]!Cell_Color(R15)=[1]!Cell_Color($A$9),4,0))))))))","v":2017.1439674636749},{"$f":"(17-S15)*POWER(EXP(1),2*(4-IF([1]!Cell_Color(S15)=[1]!Cell_Color($A$4),1,IF([1]!Cell_Color(S15)=[1]!Cell_Color($A$5),2,IF([1]!Cell_Color(S15)=[1]!Cell_Color($A$6),3,IF([1]!Cell_Color(S15)=[1]!Cell_Color($A$7),3,IF([1]!Cell_Color(S15)=[1]!Cell_Color($A$8),4,IF([1]!Cell_Color(S15)=[1]!Cell_Color($A$9),4,0))))))))","v":2420.5727609564101},{"$f":"(17-T15)*POWER(EXP(1),2*(4-IF([1]!Cell_Color(T15)=[1]!Cell_Color($A$4),1,IF([1]!Cell_Color(T15)=[1]!Cell_Color($A$5),2,IF([1]!Cell_Color(T15)=[1]!Cell_Color($A$6),3,IF([1]!Cell_Color(T15)=[1]!Cell_Color($A$7),3,IF([1]!Cell_Color(T15)=[1]!Cell_Color($A$8),4,IF([1]!Cell_Color(T15)=[1]!Cell_Color($A$9),4,0))))))))","v":2017.1439674636749},{"$f":"(17-U15)*POWER(EXP(1),2*(4-IF([1]!Cell_Color(U15)=[1]!Cell_Color($A$4),1,IF([1]!Cell_Color(U15)=[1]!Cell_Color($A$5),2,IF([1]!Cell_Color(U15)=[1]!Cell_Color($A$6),3,IF([1]!Cell_Color(U15)=[1]!Cell_Color($A$7),3,IF([1]!Cell_Color(U15)=[1]!Cell_Color($A$8),4,IF([1]!Cell_Color(U15)=[1]!Cell_Color($A$9),4,0))))))))","v":1210.286380478205},{"$f":"(17-V15)*POWER(EXP(1),2*(4-IF([1]!Cell_Color(V15)=[1]!Cell_Color($A$4),1,IF([1]!Cell_Color(V15)=[1]!Cell_Color($A$5),2,IF([1]!Cell_Color(V15)=[1]!Cell_Color($A$6),3,IF([1]!Cell_Color(V15)=[1]!Cell_Color($A$7),3,IF([1]!Cell_Color(V15)=[1]!Cell_Color($A$8),4,IF([1]!Cell_Color(V15)=[1]!Cell_Color($A$9),4,0))))))))","v":1210.286380478205}]
[null,null,13,20,7,15,2,13,"МАВ",4,6,9,8,13,12,2,14,15,1,9,12,16,null,{"$f":"SUM(AB16:AF16)","v":3982.6773686568672},{"$f":"SUM(AD16:AH16)","v":8135.2886833995381},{"$f":"SUM(AE16:AI16)","v":7328.4310964140677},null,{"$f":"(17-O16)*POWER(EXP(1),2*(4-IF([1]!Cell_Color(O16)=[1]!Cell_Color($A$4),1,IF([1]!Cell_Color(O16)=[1]!Cell_Color($A$5),2,IF([1]!Cell_Color(O16)=[1]!Cell_Color($A$6),3,IF([1]!Cell_Color(O16)=[1]!Cell_Color($A$7),3,IF([1]!Cell_Color(O16)=[1]!Cell_Color($A$8),4,IF([1]!Cell_Color(O16)=[1]!Cell_Color($A$9),4,0))))))))","v":272.99075016572112},{"$f":"(17-P16)*POWER(EXP(1),2*(4-IF([1]!Cell_Color(P16)=[1]!Cell_Color($A$4),1,IF([1]!Cell_Color(P16)=[1]!Cell_Color($A$5),2,IF([1]!Cell_Color(P16)=[1]!Cell_Color($A$6),3,IF([1]!Cell_Color(P16)=[1]!Cell_Color($A$7),3,IF([1]!Cell_Color(P16)=[1]!Cell_Color($A$8),4,IF([1]!Cell_Color(P16)=[1]!Cell_Color($A$9),4,0))))))))","v":818.97225049716349},{"$f":"(17-Q16)*POWER(EXP(1),2*(4-IF([1]!Cell_Color(Q16)=[1]!Cell_Color($A$4),1,IF([1]!Cell_Color(Q16)=[1]!Cell_Color($A$5),2,IF([1]!Cell_Color(Q16)=[1]!Cell_Color($A$6),3,IF([1]!Cell_Color(Q16)=[1]!Cell_Color($A$7),3,IF([1]!Cell_Color(Q16)=[1]!Cell_Color($A$8),4,IF([1]!Cell_Color(Q16)=[1]!Cell_Color($A$9),4,0))))))))","v":1210.286380478205},{"$f":"(17-R16)*POWER(EXP(1),2*(4-IF([1]!Cell_Color(R16)=[1]!Cell_Color($A$4),1,IF([1]!Cell_Color(R16)=[1]!Cell_Color($A$5),2,IF([1]!Cell_Color(R16)=[1]!Cell_Color($A$6),3,IF([1]!Cell_Color(R16)=[1]!Cell_Color($A$7),3,IF([1]!Cell_Color(R16)=[1]!Cell_Color($A$8),4,IF([1]!Cell_Color(R16)=[1]!Cell_Color($A$9),4,0))))))))","v":806.85758698546999},{"$f":"(17-S16)*POWER(EXP(1),2*(4-IF([1]!Cell_Color(S16)=[1]!Cell_Color($A$4),1,IF([1]!Cell_Color(S16)=[1]!Cell_Color($A$5),2,IF([1]!Cell_Color(S16)=[1]!Cell_Color($A$6),3,IF([1]!Cell_Color(S16)=[1]!Cell_Color($A$7),3,IF([1]!Cell_Color(S16)=[1]!Cell_Color($A$8),4,IF([1]!Cell_Color(S16)=[1]!Cell_Color($A$9),4,0))))))))","v":873.57040053030767},{"$f":"(17-T16)*POWER(EXP(1),2*(4-IF([1]!Cell_Color(T16)=[1]!Cell_Color($A$4),1,IF([1]!Cell_Color(T16)=[1]!Cell_Color($A$5),2,IF([1]!Cell_Color(T16)=[1]!Cell_Color($A$6),3,IF([1]!Cell_Color(T16)=[1]!Cell_Color($A$7),3,IF([1]!Cell_Color(T16)=[1]!Cell_Color($A$8),4,IF([1]!Cell_Color(T16)=[1]!Cell_Color($A$9),4,0))))))))","v":3227.43034794188},{"$f":"(17-U16)*POWER(EXP(1),2*(4-IF([1]!Cell_Color(U16)=[1]!Cell_Color($A$4),1,IF([1]!Cell_Color(U16)=[1]!Cell_Color($A$5),2,IF([1]!Cell_Color(U16)=[1]!Cell_Color($A$6),3,IF([1]!Cell_Color(U16)=[1]!Cell_Color($A$7),3,IF([1]!Cell_Color(U16)=[1]!Cell_Color($A$8),4,IF([1]!Cell_Color(U16)=[1]!Cell_Color($A$9),4,0))))))))","v":2017.1439674636749},{"$f":"(17-V16)*POWER(EXP(1),2*(4-IF([1]!Cell_Color(V16)=[1]!Cell_Color($A$4),1,IF([1]!Cell_Color(V16)=[1]!Cell_Color($A$5),2,IF([1]!Cell_Color(V16)=[1]!Cell_Color($A$6),3,IF([1]!Cell_Color(V16)=[1]!Cell_Color($A$7),3,IF([1]!Cell_Color(V16)=[1]!Cell_Color($A$8),4,IF([1]!Cell_Color(V16)=[1]!Cell_Color($A$9),4,0))))))))","v":403.428793492735}]
[null,null,14,18,4,16,2,14,"Ломбард",6,4,15,13,12,15,2,1,9,14,1,15,2,null,{"$f":"SUM(AB17:AF17)","v":5531.3192705006404},{"$f":"SUM(AD17:AH17)","v":6991.7151164661709},{"$f":"SUM(AE17:AI17)","v":6937.1169664330264},null,{"$f":"(17-O17)*POWER(EXP(1),2*(4-IF([1]!Cell_Color(O17)=[1]!Cell_Color($A$4),1,IF([1]!Cell_Color(O17)=[1]!Cell_Color($A$5),2,IF([1]!Cell_Color(O17)=[1]!Cell_Color($A$6),3,IF([1]!Cell_Color(O17)=[1]!Cell_Color($A$7),3,IF([1]!Cell_Color(O17)=[1]!Cell_Color($A$8),4,IF([1]!Cell_Color(O17)=[1]!Cell_Color($A$9),4,0))))))))","v":109.19630006628846},{"$f":"(17-P17)*POWER(EXP(1),2*(4-IF([1]!Cell_Color(P17)=[1]!Cell_Color($A$4),1,IF([1]!Cell_Color(P17)=[1]!Cell_Color($A$5),2,IF([1]!Cell_Color(P17)=[1]!Cell_Color($A$6),3,IF([1]!Cell_Color(P17)=[1]!Cell_Color($A$7),3,IF([1]!Cell_Color(P17)=[1]!Cell_Color($A$8),4,IF([1]!Cell_Color(P17)=[1]!Cell_Color($A$9),4,0))))))))","v":110.83584148395974},{"$f":"(17-Q17)*POWER(EXP(1),2*(4-IF([1]!Cell_Color(Q17)=[1]!Cell_Color($A$4),1,IF([1]!Cell_Color(Q17)=[1]!Cell_Color($A$5),2,IF([1]!Cell_Color(Q17)=[1]!Cell_Color($A$6),3,IF([1]!Cell_Color(Q17)=[1]!Cell_Color($A$7),3,IF([1]!Cell_Color(Q17)=[1]!Cell_Color($A$8),4,IF([1]!Cell_Color(Q17)=[1]!Cell_Color($A$9),4,0))))))))","v":873.57040053030767},{"$f":"(17-R17)*POWER(EXP(1),2*(4-IF([1]!Cell_Color(R17)=[1]!Cell_Color($A$4),1,IF([1]!Cell_Color(R17)=[1]!Cell_Color($A$5),2,IF([1]!Cell_Color(R17)=[1]!Cell_Color($A$6),3,IF([1]!Cell_Color(R17)=[1]!Cell_Color($A$7),3,IF([1]!Cell_Color(R17)=[1]!Cell_Color($A$8),4,IF([1]!Cell_Color(R17)=[1]!Cell_Color($A$9),4,0))))))))","v":3227.43034794188},{"$f":"(17-S17)*POWER(EXP(1),2*(4-IF([1]!Cell_Color(S17)=[1]!Cell_Color($A$4),1,IF([1]!Cell_Color(S17)=[1]!Cell_Color($A$5),2,IF([1]!Cell_Color(S17)=[1]!Cell_Color($A$6),3,IF([1]!Cell_Color(S17)=[1]!Cell_Color($A$7),3,IF([1]!Cell_Color(S17)=[1]!Cell_Color($A$8),4,IF([1]!Cell_Color(S17)=[1]!Cell_Color($A$9),4,0))))))))","v":1210.286380478205},{"$f":"(17-T17)*POWER(EXP(1),2*(4-IF([1]!Cell_Color(T17)=[1]!Cell_Color($A$4),1,IF([1]!Cell_Color(T17)=[1]!Cell_Color($A$5),2,IF([1]!Cell_Color(T17)=[1]!Cell_Color($A$6),3,IF([1]!Cell_Color(T17)=[1]!Cell_Color($A$7),3,IF([1]!Cell_Color(T17)=[1]!Cell_Color($A$8),4,IF([1]!Cell_Color(T17)=[1]!Cell_Color($A$9),4,0))))))))","v":873.57040053030767},{"$f":"(17-U17)*POWER(EXP(1),2*(4-IF([1]!Cell_Color(U17)=[1]!Cell_Color($A$4),1,IF([1]!Cell_Color(U17)=[1]!Cell_Color($A$5),2,IF([1]!Cell_Color(U17)=[1]!Cell_Color($A$6),3,IF([1]!Cell_Color(U17)=[1]!Cell_Color($A$7),3,IF([1]!Cell_Color(U17)=[1]!Cell_Color($A$8),4,IF([1]!Cell_Color(U17)=[1]!Cell_Color($A$9),4,0))))))))","v":806.85758698546999},{"$f":"(17-V17)*POWER(EXP(1),2*(4-IF([1]!Cell_Color(V17)=[1]!Cell_Color($A$4),1,IF([1]!Cell_Color(V17)=[1]!Cell_Color($A$5),2,IF([1]!Cell_Color(V17)=[1]!Cell_Color($A$6),3,IF([1]!Cell_Color(V17)=[1]!Cell_Color($A$7),3,IF([1]!Cell_Color(V17)=[1]!Cell_Color($A$8),4,IF([1]!Cell_Color(V17)=[1]!Cell_Color($A$9),4,0))))))))","v":818.97225049716349}]
[null,null,15,12,-3,12,-3,15,"Бекешчаба",6,10,12,10,10,12,6,12,10,12,14,5,13,null,{"$f":"SUM(AB18:AF18)","v":13313.150185260254},{"$f":"SUM(AD18:AH18)","v":8723.7536702524303},{"$f":"SUM(AE18:AI18)","v":6925.0023029213326},null,{"$f":"(17-O18)*POWER(EXP(1),2*(4-IF([1]!Cell_Color(O18)=[1]!Cell_Color($A$4),1,IF([1]!Cell_Color(O18)=[1]!Cell_Color($A$5),2,IF([1]!Cell_Color(O18)=[1]!Cell_Color($A$6),3,IF([1]!Cell_Color(O18)=[1]!Cell_Color($A$7),3,IF([1]!Cell_Color(O18)=[1]!Cell_Color($A$8),4,IF([1]!Cell_Color(O18)=[1]!Cell_Color($A$9),4,0))))))))","v":2017.1439674636749},{"$f":"(17-P18)*POWER(EXP(1),2*(4-IF([1]!Cell_Color(P18)=[1]!Cell_Color($A$4),1,IF([1]!Cell_Color(P18)=[1]!Cell_Color($A$5),2,IF([1]!Cell_Color(P18)=[1]!Cell_Color($A$6),3,IF([1]!Cell_Color(P18)=[1]!Cell_Color($A$7),3,IF([1]!Cell_Color(P18)=[1]!Cell_Color($A$8),4,IF([1]!Cell_Color(P18)=[1]!Cell_Color($A$9),4,0))))))))","v":4437.716728420085},{"$f":"(17-Q18)*POWER(EXP(1),2*(4-IF([1]!Cell_Color(Q18)=[1]!Cell_Color($A$4),1,IF([1]!Cell_Color(Q18)=[1]!Cell_Color($A$5),2,IF([1]!Cell_Color(Q18)=[1]!Cell_Color($A$6),3,IF([1]!Cell_Color(Q18)=[1]!Cell_Color($A$7),3,IF([1]!Cell_Color(Q18)=[1]!Cell_Color($A$8),4,IF([1]!Cell_Color(Q18)=[1]!Cell_Color($A$9),4,0))))))))","v":2017.1439674636749},{"$f":"(17-R18)*POWER(EXP(1),2*(4-IF([1]!Cell_Color(R18)=[1]!Cell_Color($A$4),1,IF([1]!Cell_Color(R18)=[1]!Cell_Color($A$5),2,IF([1]!Cell_Color(R18)=[1]!Cell_Color($A$6),3,IF([1]!Cell_Color(R18)=[1]!Cell_Color($A$7),3,IF([1]!Cell_Color(R18)=[1]!Cell_Color($A$8),4,IF([1]!Cell_Color(R18)=[1]!Cell_Color($A$9),4,0))))))))","v":2824.0015544491448},{"$f":"(17-S18)*POWER(EXP(1),2*(4-IF([1]!Cell_Color(S18)=[1]!Cell_Color($A$4),1,IF([1]!Cell_Color(S18)=[1]!Cell_Color($A$5),2,IF([1]!Cell_Color(S18)=[1]!Cell_Color($A$6),3,IF([1]!Cell_Color(S18)=[1]!Cell_Color($A$7),3,IF([1]!Cell_Color(S18)=[1]!Cell_Color($A$8),4,IF([1]!Cell_Color(S18)=[1]!Cell_Color($A$9),4,0))))))))","v":2017.1439674636749},{"$f":"(17-T18)*POWER(EXP(1),2*(4-IF([1]!Cell_Color(T18)=[1]!Cell_Color($A$4),1,IF([1]!Cell_Color(T18)=[1]!Cell_Color($A$5),2,IF([1]!Cell_Color(T18)=[1]!Cell_Color($A$6),3,IF([1]!Cell_Color(T18)=[1]!Cell_Color($A$7),3,IF([1]!Cell_Color(T18)=[1]!Cell_Color($A$8),4,IF([1]!Cell_Color(T18)=[1]!Cell_Color($A$9),4,0))))))))","v":1210.286380478205},{"$f":"(17-U18)*POWER(EXP(1),2*(4-IF([1]!Cell_Color(U18)=[1]!Cell_Color($A$4),1,IF([1]!Cell_Color(U18)=[1]!Cell_Color($A$5),2,IF([1]!Cell_Color(U18)=[1]!Cell_Color($A$6),3,IF([1]!Cell_Color(U18)=[1]!Cell_Color($A$7),3,IF([1]!Cell_Color(U18)=[1]!Cell_Color($A$8),4,IF([1]!Cell_Color(U18)=[1]!Cell_Color($A$9),4,0))))))))","v":655.17780039773072},{"$f":"(17-V18)*POWER(EXP(1),2*(4-IF([1]!Cell_Color(V18)=[1]!Cell_Color($A$4),1,IF([1]!Cell_Color(V18)=[1]!Cell_Color($A$5),2,IF([1]!Cell_Color(V18)=[1]!Cell_Color($A$6),3,IF([1]!Cell_Color(V18)=[1]!Cell_Color($A$7),3,IF([1]!Cell_Color(V18)=[1]!Cell_Color($A$8),4,IF([1]!Cell_Color(V18)=[1]!Cell_Color($A$9),4,0))))))))","v":218.39260013257692}]
[null,null,16,6,-10,11,-5,16,"БКВ Элёре",11,8,6,9,13,8,3,9,3,16,5,15,3,null,{"$f":"SUM(AB19:AF19)","v":18557.724500665809},{"$f":"SUM(AD19:AH19)","v":10043.236350796924},{"$f":"SUM(AE19:AI19)","v":6919.2527882400727},null,{"$f":"(17-O19)*POWER(EXP(1),2*(4-IF([1]!Cell_Color(O19)=[1]!Cell_Color($A$4),1,IF([1]!Cell_Color(O19)=[1]!Cell_Color($A$5),2,IF([1]!Cell_Color(O19)=[1]!Cell_Color($A$6),3,IF([1]!Cell_Color(O19)=[1]!Cell_Color($A$7),3,IF([1]!Cell_Color(O19)=[1]!Cell_Color($A$8),4,IF([1]!Cell_Color(O19)=[1]!Cell_Color($A$9),4,0))))))))","v":3630.8591414346151},{"$f":"(17-P19)*POWER(EXP(1),2*(4-IF([1]!Cell_Color(P19)=[1]!Cell_Color($A$4),1,IF([1]!Cell_Color(P19)=[1]!Cell_Color($A$5),2,IF([1]!Cell_Color(P19)=[1]!Cell_Color($A$6),3,IF([1]!Cell_Color(P19)=[1]!Cell_Color($A$7),3,IF([1]!Cell_Color(P19)=[1]!Cell_Color($A$8),4,IF([1]!Cell_Color(P19)=[1]!Cell_Color($A$9),4,0))))))))","v":5648.0031088982896},{"$f":"(17-Q19)*POWER(EXP(1),2*(4-IF([1]!Cell_Color(Q19)=[1]!Cell_Color($A$4),1,IF([1]!Cell_Color(Q19)=[1]!Cell_Color($A$5),2,IF([1]!Cell_Color(Q19)=[1]!Cell_Color($A$6),3,IF([1]!Cell_Color(Q19)=[1]!Cell_Color($A$7),3,IF([1]!Cell_Color(Q19)=[1]!Cell_Color($A$8),4,IF([1]!Cell_Color(Q19)=[1]!Cell_Color($A$9),4,0))))))))","v":3227.43034794188},{"$f":"(17-R19)*POWER(EXP(1),2*(4-IF([1]!Cell_Color(R19)=[1]!Cell_Color($A$4),1,IF([1]!Cell_Color(R19)=[1]!Cell_Color($A$5),2,IF([1]!Cell_Color(R19)=[1]!Cell_Color($A$6),3,IF([1]!Cell_Color(R19)=[1]!Cell_Color($A$7),3,IF([1]!Cell_Color(R19)=[1]!Cell_Color($A$8),4,IF([1]!Cell_Color(R19)=[1]!Cell_Color($A$9),4,0))))))))","v":5648.0031088982896},{"$f":"(17-S19)*POWER(EXP(1),2*(4-IF([1]!Cell_Color(S19)=[1]!Cell_Color($A$4),1,IF([1]!Cell_Color(S19)=[1]!Cell_Color($A$5),2,IF([1]!Cell_Color(S19)=[1]!Cell_Color($A$6),3,IF([1]!Cell_Color(S19)=[1]!Cell_Color($A$7),3,IF([1]!Cell_Color(S19)=[1]!Cell_Color($A$8),4,IF([1]!Cell_Color(S19)=[1]!Cell_Color($A$9),4,0))))))))","v":403.428793492735},{"$f":"(17-T19)*POWER(EXP(1),2*(4-IF([1]!Cell_Color(T19)=[1]!Cell_Color($A$4),1,IF([1]!Cell_Color(T19)=[1]!Cell_Color($A$5),2,IF([1]!Cell_Color(T19)=[1]!Cell_Color($A$6),3,IF([1]!Cell_Color(T19)=[1]!Cell_Color($A$7),3,IF([1]!Cell_Color(T19)=[1]!Cell_Color($A$8),4,IF([1]!Cell_Color(T19)=[1]!Cell_Color($A$9),4,0))))))))","v":655.17780039773072},{"$f":"(17-U19)*POWER(EXP(1),2*(4-IF([1]!Cell_Color(U19)=[1]!Cell_Color($A$4),1,IF([1]!Cell_Color(U19)=[1]!Cell_Color($A$5),2,IF([1]!Cell_Color(U19)=[1]!Cell_Color($A$6),3,IF([1]!Cell_Color(U19)=[1]!Cell_Color($A$7),3,IF([1]!Cell_Color(U19)=[1]!Cell_Color($A$8),4,IF([1]!Cell_Color(U19)=[1]!Cell_Color($A$9),4,0))))))))","v":109.19630006628846},{"$f":"(17-V19)*POWER(EXP(1),2*(4-IF([1]!Cell_Color(V19)=[1]!Cell_Color($A$4),1,IF([1]!Cell_Color(V19)=[1]!Cell_Color($A$5),2,IF([1]!Cell_Color(V19)=[1]!Cell_Color($A$6),3,IF([1]!Cell_Color(V19)=[1]!Cell_Color($A$7),3,IF([1]!Cell_Color(V19)=[1]!Cell_Color($A$8),4,IF([1]!Cell_Color(V19)=[1]!Cell_Color($A$9),4,0))))))))","v":103.44678538502909}]
[null,null,17,24,7,19,2,17,"ФК Айка",9,7,1,14,15,10,7,8,10,2,8,16,14,null,{"$f":"SUM(AB20:AF20)","v":2620.7112015909229},{"$f":"SUM(AD20:AH20)","v":5726.8305859548209},{"$f":"SUM(AE20:AI20)","v":5399.2416857559556},null,{"$f":"(17-O20)*POWER(EXP(1),2*(4-IF([1]!Cell_Color(O20)=[1]!Cell_Color($A$4),1,IF([1]!Cell_Color(O20)=[1]!Cell_Color($A$5),2,IF([1]!Cell_Color(O20)=[1]!Cell_Color($A$6),3,IF([1]!Cell_Color(O20)=[1]!Cell_Color($A$7),3,IF([1]!Cell_Color(O20)=[1]!Cell_Color($A$8),4,IF([1]!Cell_Color(O20)=[1]!Cell_Color($A$9),4,0))))))))","v":382.1870502320096},{"$f":"(17-P20)*POWER(EXP(1),2*(4-IF([1]!Cell_Color(P20)=[1]!Cell_Color($A$4),1,IF([1]!Cell_Color(P20)=[1]!Cell_Color($A$5),2,IF([1]!Cell_Color(P20)=[1]!Cell_Color($A$6),3,IF([1]!Cell_Color(P20)=[1]!Cell_Color($A$7),3,IF([1]!Cell_Color(P20)=[1]!Cell_Color($A$8),4,IF([1]!Cell_Color(P20)=[1]!Cell_Color($A$9),4,0))))))))","v":545.98150033144225},{"$f":"(17-Q20)*POWER(EXP(1),2*(4-IF([1]!Cell_Color(Q20)=[1]!Cell_Color($A$4),1,IF([1]!Cell_Color(Q20)=[1]!Cell_Color($A$5),2,IF([1]!Cell_Color(Q20)=[1]!Cell_Color($A$6),3,IF([1]!Cell_Color(Q20)=[1]!Cell_Color($A$7),3,IF([1]!Cell_Color(Q20)=[1]!Cell_Color($A$8),4,IF([1]!Cell_Color(Q20)=[1]!Cell_Color($A$9),4,0))))))))","v":491.38335029829807},{"$f":"(17-R20)*POWER(EXP(1),2*(4-IF([1]!Cell_Color(R20)=[1]!Cell_Color($A$4),1,IF([1]!Cell_Color(R20)=[1]!Cell_Color($A$5),2,IF([1]!Cell_Color(R20)=[1]!Cell_Color($A$6),3,IF([1]!Cell_Color(R20)=[1]!Cell_Color($A$7),3,IF([1]!Cell_Color(R20)=[1]!Cell_Color($A$8),4,IF([1]!Cell_Color(R20)=[1]!Cell_Color($A$9),4,0))))))))","v":382.1870502320096},{"$f":"(17-S20)*POWER(EXP(1),2*(4-IF([1]!Cell_Color(S20)=[1]!Cell_Color($A$4),1,IF([1]!Cell_Color(S20)=[1]!Cell_Color($A$5),2,IF([1]!Cell_Color(S20)=[1]!Cell_Color($A$6),3,IF([1]!Cell_Color(S20)=[1]!Cell_Color($A$7),3,IF([1]!Cell_Color(S20)=[1]!Cell_Color($A$8),4,IF([1]!Cell_Color(S20)=[1]!Cell_Color($A$9),4,0))))))))","v":818.97225049716349},{"$f":"(17-T20)*POWER(EXP(1),2*(4-IF([1]!Cell_Color(T20)=[1]!Cell_Color($A$4),1,IF([1]!Cell_Color(T20)=[1]!Cell_Color($A$5),2,IF([1]!Cell_Color(T20)=[1]!Cell_Color($A$6),3,IF([1]!Cell_Color(T20)=[1]!Cell_Color($A$7),3,IF([1]!Cell_Color(T20)=[1]!Cell_Color($A$8),4,IF([1]!Cell_Color(T20)=[1]!Cell_Color($A$9),4,0))))))))","v":3630.8591414346151},{"$f":"(17-U20)*POWER(EXP(1),2*(4-IF([1]!Cell_Color(U20)=[1]!Cell_Color($A$4),1,IF([1]!Cell_Color(U20)=[1]!Cell_Color($A$5),2,IF([1]!Cell_Color(U20)=[1]!Cell_Color($A$6),3,IF([1]!Cell_Color(U20)=[1]!Cell_Color($A$7),3,IF([1]!Cell_Color(U20)=[1]!Cell_Color($A$8),4,IF([1]!Cell_Color(U20)=[1]!Cell_Color($A$9),4,0))))))))","v":403.428793492735},{"$f":"(17-V20)*POWER(EXP(1),2*(4-IF([1]!Cell_Color(V20)=[1]!Cell_Color($A$4),1,IF([1]!Cell_Color(V20)=[1]!Cell_Color($A$5),2,IF([1]!Cell_Color(V20)=[1]!Cell_Color($A$6),3,IF([1]!Cell_Color(V20)=[1]!Cell_Color($A$7),3,IF([1]!Cell_Color(V20)=[1]!Cell_Color($A$8),4,IF([1]!Cell_Color(V20)=[1]!Cell_Color($A$9),4,0))))))))","v":163.79445009943268}]
[null,null,18,28,10,25,7,18,"Мошонмадьяровари ТЭ",16,3,14,6,11,11,5,15,1,11,6,1,9,null,{"$f":"SUM(AB21:AF21)","v":1537.7767984446402},{"$f":"SUM(AD21:AH21)","v":2029.1601487429384},{"$f":"SUM(AE21:AI21)","v":5147.3941966185303},null,{"$f":"(17-O21)*POWER(EXP(1),2*(4-IF([1]!Cell_Color(O21)=[1]!Cell_Color($A$4),1,IF([1]!Cell_Color(O21)=[1]!Cell_Color($A$5),2,IF([1]!Cell_Color(O21)=[1]!Cell_Color($A$6),3,IF([1]!Cell_Color(O21)=[1]!Cell_Color($A$7),3,IF([1]!Cell_Color(O21)=[1]!Cell_Color($A$8),4,IF([1]!Cell_Color(O21)=[1]!Cell_Color($A$9),4,0))))))))","v":327.58890019886536},{"$f":"(17-P21)*POWER(EXP(1),2*(4-IF([1]!Cell_Color(P21)=[1]!Cell_Color($A$4),1,IF([1]!Cell_Color(P21)=[1]!Cell_Color($A$5),2,IF([1]!Cell_Color(P21)=[1]!Cell_Color($A$6),3,IF([1]!Cell_Color(P21)=[1]!Cell_Color($A$7),3,IF([1]!Cell_Color(P21)=[1]!Cell_Color($A$8),4,IF([1]!Cell_Color(P21)=[1]!Cell_Color($A$9),4,0))))))))","v":655.17780039773072},{"$f":"(17-Q21)*POWER(EXP(1),2*(4-IF([1]!Cell_Color(Q21)=[1]!Cell_Color($A$4),1,IF([1]!Cell_Color(Q21)=[1]!Cell_Color($A$5),2,IF([1]!Cell_Color(Q21)=[1]!Cell_Color($A$6),3,IF([1]!Cell_Color(Q21)=[1]!Cell_Color($A$7),3,IF([1]!Cell_Color(Q21)=[1]!Cell_Color($A$8),4,IF([1]!Cell_Color(Q21)=[1]!Cell_Color($A$9),4,0))))))))","v":109.19630006628846},{"$f":"(17-R21)*POWER(EXP(1),2*(4-IF([1]!Cell_Color(R21)=[1]!Cell_Color($A$4),1,IF([1]!Cell_Color(R21)=[1]!Cell_Color($A$5),2,IF([1]!Cell_Color(R21)=[1]!Cell_Color($A$6),3,IF([1]!Cell_Color(R21)=[1]!Cell_Color($A$7),3,IF([1]!Cell_Color(R21)=[1]!Cell_Color($A$8),4,IF([1]!Cell_Color(R21)=[1]!Cell_Color($A$9),4,0))))))))","v":118.22489758289039},{"$f":"(17-S21)*POWER(EXP(1),2*(4-IF([1]!Cell_Color(S21)=[1]!Cell_Color($A$4),1,IF([1]!Cell_Color(S21)=[1]!Cell_Color($A$5),2,IF([1]!Cell_Color(S21)=[1]!Cell_Color($A$6),3,IF([1]!Cell_Color(S21)=[1]!Cell_Color($A$7),3,IF([1]!Cell_Color(S21)=[1]!Cell_Color($A$8),4,IF([1]!Cell_Color(S21)=[1]!Cell_Color($A$9),4,0))))))))","v":327.58890019886536},{"$f":"(17-T21)*POWER(EXP(1),2*(4-IF([1]!Cell_Color(T21)=[1]!Cell_Color($A$4),1,IF([1]!Cell_Color(T21)=[1]!Cell_Color($A$5),2,IF([1]!Cell_Color(T21)=[1]!Cell_Color($A$6),3,IF([1]!Cell_Color(T21)=[1]!Cell_Color($A$7),3,IF([1]!Cell_Color(T21)=[1]!Cell_Color($A$8),4,IF([1]!Cell_Color(T21)=[1]!Cell_Color($A$9),4,0))))))))","v":600.57965036458654},{"$f":"(17-U21)*POWER(EXP(1),2*(4-IF([1]!Cell_Color(U21)=[1]!Cell_Color($A$4),1,IF([1]!Cell_Color(U21)=[1]!Cell_Color($A$5),2,IF([1]!Cell_Color(U21)=[1]!Cell_Color($A$6),3,IF([1]!Cell_Color(U21)=[1]!Cell_Color($A$7),3,IF([1]!Cell_Color(U21)=[1]!Cell_Color($A$8),4,IF([1]!Cell_Color(U21)=[1]!Cell_Color($A$9),4,0))))))))","v":873.57040053030767},{"$f":"(17-V21)*POWER(EXP(1),2*(4-IF([1]!Cell_Color(V21)=[1]!Cell_Color($A$4),1,IF([1]!Cell_Color(V21)=[1]!Cell_Color($A$5),2,IF([1]!Cell_Color(V21)=[1]!Cell_Color($A$6),3,IF([1]!Cell_Color(V21)=[1]!Cell_Color($A$7),3,IF([1]!Cell_Color(V21)=[1]!Cell_Color($A$8),4,IF([1]!Cell_Color(V21)=[1]!Cell_Color($A$9),4,0))))))))","v":3227.43034794188}]
[null,null,19,22,3,20,1,19,"Балатон",10,13,10,3,4,2,15,5,5,12,4,11,15,null,{"$f":"SUM(AB22:AF22)","v":3209.176188443816},{"$f":"SUM(AD22:AH22)","v":4713.6950623484681},{"$f":"SUM(AE22:AI22)","v":4865.3748489362069},null,{"$f":"(17-O22)*POWER(EXP(1),2*(4-IF([1]!Cell_Color(O22)=[1]!Cell_Color($A$4),1,IF([1]!Cell_Color(O22)=[1]!Cell_Color($A$5),2,IF([1]!Cell_Color(O22)=[1]!Cell_Color($A$6),3,IF([1]!Cell_Color(O22)=[1]!Cell_Color($A$7),3,IF([1]!Cell_Color(O22)=[1]!Cell_Color($A$8),4,IF([1]!Cell_Color(O22)=[1]!Cell_Color($A$9),4,0))))))))","v":818.97225049716349},{"$f":"(17-P22)*POWER(EXP(1),2*(4-IF([1]!Cell_Color(P22)=[1]!Cell_Color($A$4),1,IF([1]!Cell_Color(P22)=[1]!Cell_Color($A$5),2,IF([1]!Cell_Color(P22)=[1]!Cell_Color($A$6),3,IF([1]!Cell_Color(P22)=[1]!Cell_Color($A$7),3,IF([1]!Cell_Color(P22)=[1]!Cell_Color($A$8),4,IF([1]!Cell_Color(P22)=[1]!Cell_Color($A$9),4,0))))))))","v":806.85758698546999},{"$f":"(17-Q22)*POWER(EXP(1),2*(4-IF([1]!Cell_Color(Q22)=[1]!Cell_Color($A$4),1,IF([1]!Cell_Color(Q22)=[1]!Cell_Color($A$5),2,IF([1]!Cell_Color(Q22)=[1]!Cell_Color($A$6),3,IF([1]!Cell_Color(Q22)=[1]!Cell_Color($A$7),3,IF([1]!Cell_Color(Q22)=[1]!Cell_Color($A$8),4,IF([1]!Cell_Color(Q22)=[1]!Cell_Color($A$9),4,0))))))))","v":655.17780039773072},{"$f":"(17-R22)*POWER(EXP(1),2*(4-IF([1]!Cell_Color(R22)=[1]!Cell_Color($A$4),1,IF([1]!Cell_Color(R22)=[1]!Cell_Color($A$5),2,IF([1]!Cell_Color(R22)=[1]!Cell_Color($A$6),3,IF([1]!Cell_Color(R22)=[1]!Cell_Color($A$7),3,IF([1]!Cell_Color(R22)=[1]!Cell_Color($A$8),4,IF([1]!Cell_Color(R22)=[1]!Cell_Color($A$9),4,0))))))))","v":655.17780039773072},{"$f":"(17-S22)*POWER(EXP(1),2*(4-IF([1]!Cell_Color(S22)=[1]!Cell_Color($A$4),1,IF([1]!Cell_Color(S22)=[1]!Cell_Color($A$5),2,IF([1]!Cell_Color(S22)=[1]!Cell_Color($A$6),3,IF([1]!Cell_Color(S22)=[1]!Cell_Color($A$7),3,IF([1]!Cell_Color(S22)=[1]!Cell_Color($A$8),4,IF([1]!Cell_Color(S22)=[1]!Cell_Color($A$9),4,0))))))))","v":272.99075016572112},{"$f":"(17-T22)*POWER(EXP(1),2*(4-IF([1]!Cell_Color(T22)=[1]!Cell_Color($A$4),1,IF([1]!Cell_Color(T22)=[1]!Cell_Color($A$5),2,IF([1]!Cell_Color(T22)=[1]!Cell_Color($A$6),3,IF([1]!Cell_Color(T22)=[1]!Cell_Color($A$7),3,IF([1]!Cell_Color(T22)=[1]!Cell_Color($A$8),4,IF([1]!Cell_Color(T22)=[1]!Cell_Color($A$9),4,0))))))))","v":709.77595043087501},{"$f":"(17-U22)*POWER(EXP(1),2*(4-IF([1]!Cell_Color(U22)=[1]!Cell_Color($A$4),1,IF([1]!Cell_Color(U22)=[1]!Cell_Color($A$5),2,IF([1]!Cell_Color(U22)=[1]!Cell_Color($A$6),3,IF([1]!Cell_Color(U22)=[1]!Cell_Color($A$7),3,IF([1]!Cell_Color(U22)=[1]!Cell_Color($A$8),4,IF([1]!Cell_Color(U22)=[1]!Cell_Color($A$9),4,0))))))))","v":2420.5727609564101},{"$f":"(17-V22)*POWER(EXP(1),2*(4-IF([1]!Cell_Color(V22)=[1]!Cell_Color($A$4),1,IF([1]!Cell_Color(V22)=[1]!Cell_Color($A$5),2,IF([1]!Cell_Color(V22)=[1]!Cell_Color($A$6),3,IF([1]!Cell_Color(V22)=[1]!Cell_Color($A$7),3,IF([1]!Cell_Color(V22)=[1]!Cell_Color($A$8),4,IF([1]!Cell_Color(V22)=[1]!Cell_Color($A$9),4,0))))))))","v":806.85758698546999}]
[null,null,20,9,-11,14,-6,20,"Дунайварош",4,4,2,5,9,9,4,7,13,13,15,10,9,null,{"$f":"SUM(AB23:AF23)","v":15733.722946216667},{"$f":"SUM(AD23:AH23)","v":8450.7629200867086},{"$f":"SUM(AE23:AI23)","v":4853.2601854245131},null,{"$f":"(17-O23)*POWER(EXP(1),2*(4-IF([1]!Cell_Color(O23)=[1]!Cell_Color($A$4),1,IF([1]!Cell_Color(O23)=[1]!Cell_Color($A$5),2,IF([1]!Cell_Color(O23)=[1]!Cell_Color($A$6),3,IF([1]!Cell_Color(O23)=[1]!Cell_Color($A$7),3,IF([1]!Cell_Color(O23)=[1]!Cell_Color($A$8),4,IF([1]!Cell_Color(O23)=[1]!Cell_Color($A$9),4,0))))))))","v":3227.43034794188},{"$f":"(17-P23)*POWER(EXP(1),2*(4-IF([1]!Cell_Color(P23)=[1]!Cell_Color($A$4),1,IF([1]!Cell_Color(P23)=[1]!Cell_Color($A$5),2,IF([1]!Cell_Color(P23)=[1]!Cell_Color($A$6),3,IF([1]!Cell_Color(P23)=[1]!Cell_Color($A$7),3,IF([1]!Cell_Color(P23)=[1]!Cell_Color($A$8),4,IF([1]!Cell_Color(P23)=[1]!Cell_Color($A$9),4,0))))))))","v":5244.5743154055554},{"$f":"(17-Q23)*POWER(EXP(1),2*(4-IF([1]!Cell_Color(Q23)=[1]!Cell_Color($A$4),1,IF([1]!Cell_Color(Q23)=[1]!Cell_Color($A$5),2,IF([1]!Cell_Color(Q23)=[1]!Cell_Color($A$6),3,IF([1]!Cell_Color(Q23)=[1]!Cell_Color($A$7),3,IF([1]!Cell_Color(Q23)=[1]!Cell_Color($A$8),4,IF([1]!Cell_Color(Q23)=[1]!Cell_Color($A$9),4,0))))))))","v":4034.2879349273499},{"$f":"(17-R23)*POWER(EXP(1),2*(4-IF([1]!Cell_Color(R23)=[1]!Cell_Color($A$4),1,IF([1]!Cell_Color(R23)=[1]!Cell_Color($A$5),2,IF([1]!Cell_Color(R23)=[1]!Cell_Color($A$6),3,IF([1]!Cell_Color(R23)=[1]!Cell_Color($A$7),3,IF([1]!Cell_Color(R23)=[1]!Cell_Color($A$8),4,IF([1]!Cell_Color(R23)=[1]!Cell_Color($A$9),4,0))))))))","v":1613.71517397094},{"$f":"(17-S23)*POWER(EXP(1),2*(4-IF([1]!Cell_Color(S23)=[1]!Cell_Color($A$4),1,IF([1]!Cell_Color(S23)=[1]!Cell_Color($A$5),2,IF([1]!Cell_Color(S23)=[1]!Cell_Color($A$6),3,IF([1]!Cell_Color(S23)=[1]!Cell_Color($A$7),3,IF([1]!Cell_Color(S23)=[1]!Cell_Color($A$8),4,IF([1]!Cell_Color(S23)=[1]!Cell_Color($A$9),4,0))))))))","v":1613.71517397094},{"$f":"(17-T23)*POWER(EXP(1),2*(4-IF([1]!Cell_Color(T23)=[1]!Cell_Color($A$4),1,IF([1]!Cell_Color(T23)=[1]!Cell_Color($A$5),2,IF([1]!Cell_Color(T23)=[1]!Cell_Color($A$6),3,IF([1]!Cell_Color(T23)=[1]!Cell_Color($A$7),3,IF([1]!Cell_Color(T23)=[1]!Cell_Color($A$8),4,IF([1]!Cell_Color(T23)=[1]!Cell_Color($A$9),4,0))))))))","v":806.85758698546999},{"$f":"(17-U23)*POWER(EXP(1),2*(4-IF([1]!Cell_Color(U23)=[1]!Cell_Color($A$4),1,IF([1]!Cell_Color(U23)=[1]!Cell_Color($A$5),2,IF([1]!Cell_Color(U23)=[1]!Cell_Color($A$6),3,IF([1]!Cell_Color(U23)=[1]!Cell_Color($A$7),3,IF([1]!Cell_Color(U23)=[1]!Cell_Color($A$8),4,IF([1]!Cell_Color(U23)=[1]!Cell_Color($A$9),4,0))))))))","v":382.1870502320096},{"$f":"(17-V23)*POWER(EXP(1),2*(4-IF([1]!Cell_Color(V23)=[1]!Cell_Color($A$4),1,IF([1]!Cell_Color(V23)=[1]!Cell_Color($A$5),2,IF([1]!Cell_Color(V23)=[1]!Cell_Color($A$6),3,IF([1]!Cell_Color(V23)=[1]!Cell_Color($A$7),3,IF([1]!Cell_Color(V23)=[1]!Cell_Color($A$8),4,IF([1]!Cell_Color(V23)=[1]!Cell_Color($A$9),4,0))))))))","v":436.78520026515383}]
[null,null,21,29,8,21,null,21,"Сегед",3,2,3,14,5,3,5,1,6,6,2,13,3,null,{"$f":"SUM(AB24:AF24)","v":1511.4996568842603},{"$f":"SUM(AD24:AH24)","v":3752.0716227801668},{"$f":"SUM(AE24:AI24)","v":4398.2208256612957},null,{"$f":"(17-O24)*POWER(EXP(1),2*(4-IF([1]!Cell_Color(O24)=[1]!Cell_Color($A$4),1,IF([1]!Cell_Color(O24)=[1]!Cell_Color($A$5),2,IF([1]!Cell_Color(O24)=[1]!Cell_Color($A$6),3,IF([1]!Cell_Color(O24)=[1]!Cell_Color($A$7),3,IF([1]!Cell_Color(O24)=[1]!Cell_Color($A$8),4,IF([1]!Cell_Color(O24)=[1]!Cell_Color($A$9),4,0))))))))","v":103.44678538502909},{"$f":"(17-P24)*POWER(EXP(1),2*(4-IF([1]!Cell_Color(P24)=[1]!Cell_Color($A$4),1,IF([1]!Cell_Color(P24)=[1]!Cell_Color($A$5),2,IF([1]!Cell_Color(P24)=[1]!Cell_Color($A$6),3,IF([1]!Cell_Color(P24)=[1]!Cell_Color($A$7),3,IF([1]!Cell_Color(P24)=[1]!Cell_Color($A$8),4,IF([1]!Cell_Color(P24)=[1]!Cell_Color($A$9),4,0))))))))","v":88.668673187167798},{"$f":"(17-Q24)*POWER(EXP(1),2*(4-IF([1]!Cell_Color(Q24)=[1]!Cell_Color($A$4),1,IF([1]!Cell_Color(Q24)=[1]!Cell_Color($A$5),2,IF([1]!Cell_Color(Q24)=[1]!Cell_Color($A$6),3,IF([1]!Cell_Color(Q24)=[1]!Cell_Color($A$7),3,IF([1]!Cell_Color(Q24)=[1]!Cell_Color($A$8),4,IF([1]!Cell_Color(Q24)=[1]!Cell_Color($A$9),4,0))))))))","v":118.22489758289039},{"$f":"(17-R24)*POWER(EXP(1),2*(4-IF([1]!Cell_Color(R24)=[1]!Cell_Color($A$4),1,IF([1]!Cell_Color(R24)=[1]!Cell_Color($A$5),2,IF([1]!Cell_Color(R24)=[1]!Cell_Color($A$6),3,IF([1]!Cell_Color(R24)=[1]!Cell_Color($A$7),3,IF([1]!Cell_Color(R24)=[1]!Cell_Color($A$8),4,IF([1]!Cell_Color(R24)=[1]!Cell_Color($A$9),4,0))))))))","v":600.57965036458654},{"$f":"(17-S24)*POWER(EXP(1),2*(4-IF([1]!Cell_Color(S24)=[1]!Cell_Color($A$4),1,IF([1]!Cell_Color(S24)=[1]!Cell_Color($A$5),2,IF([1]!Cell_Color(S24)=[1]!Cell_Color($A$6),3,IF([1]!Cell_Color(S24)=[1]!Cell_Color($A$7),3,IF([1]!Cell_Color(S24)=[1]!Cell_Color($A$8),4,IF([1]!Cell_Color(S24)=[1]!Cell_Color($A$9),4,0))))))))","v":600.57965036458654},{"$f":"(17-T24)*POWER(EXP(1),2*(4-IF([1]!Cell_Color(T24)=[1]!Cell_Color($A$4),1,IF([1]!Cell_Color(T24)=[1]!Cell_Color($A$5),2,IF([1]!Cell_Color(T24)=[1]!Cell_Color($A$6),3,IF([1]!Cell_Color(T24)=[1]!Cell_Color($A$7),3,IF([1]!Cell_Color(T24)=[1]!Cell_Color($A$8),4,IF([1]!Cell_Color(T24)=[1]!Cell_Color($A$9),4,0))))))))","v":818.97225049716349},{"$f":"(17-U24)*POWER(EXP(1),2*(4-IF([1]!Cell_Color(U24)=[1]!Cell_Color($A$4),1,IF([1]!Cell_Color(U24)=[1]!Cell_Color($A$5),2,IF([1]!Cell_Color(U24)=[1]!Cell_Color($A$6),3,IF([1]!Cell_Color(U24)=[1]!Cell_Color($A$7),3,IF([1]!Cell_Color(U24)=[1]!Cell_Color($A$8),4,IF([1]!Cell_Color(U24)=[1]!Cell_Color($A$9),4,0))))))))","v":1613.71517397094},{"$f":"(17-V24)*POWER(EXP(1),2*(4-IF([1]!Cell_Color(V24)=[1]!Cell_Color($A$4),1,IF([1]!Cell_Color(V24)=[1]!Cell_Color($A$5),2,IF([1]!Cell_Color(V24)=[1]!Cell_Color($A$6),3,IF([1]!Cell_Color(V24)=[1]!Cell_Color($A$7),3,IF([1]!Cell_Color(V24)=[1]!Cell_Color($A$8),4,IF([1]!Cell_Color(V24)=[1]!Cell_Color($A$9),4,0))))))))","v":764.37410046401919}]
[null,null,22,26,4,26,4,22,"Кишкунхалаш ФК",2,12,5,12,10,9,11,12,13,10,11,2,13,null,{"$f":"SUM(AB25:AF25)","v":1637.944500994327},{"$f":"SUM(AD25:AH25)","v":2020.1315512263366},{"$f":"SUM(AE25:AI25)","v":3360.8559750315553},null,{"$f":"(17-O25)*POWER(EXP(1),2*(4-IF([1]!Cell_Color(O25)=[1]!Cell_Color($A$4),1,IF([1]!Cell_Color(O25)=[1]!Cell_Color($A$5),2,IF([1]!Cell_Color(O25)=[1]!Cell_Color($A$6),3,IF([1]!Cell_Color(O25)=[1]!Cell_Color($A$7),3,IF([1]!Cell_Color(O25)=[1]!Cell_Color($A$8),4,IF([1]!Cell_Color(O25)=[1]!Cell_Color($A$9),4,0))))))))","v":436.78520026515383},{"$f":"(17-P25)*POWER(EXP(1),2*(4-IF([1]!Cell_Color(P25)=[1]!Cell_Color($A$4),1,IF([1]!Cell_Color(P25)=[1]!Cell_Color($A$5),2,IF([1]!Cell_Color(P25)=[1]!Cell_Color($A$6),3,IF([1]!Cell_Color(P25)=[1]!Cell_Color($A$7),3,IF([1]!Cell_Color(P25)=[1]!Cell_Color($A$8),4,IF([1]!Cell_Color(P25)=[1]!Cell_Color($A$9),4,0))))))))","v":327.58890019886536},{"$f":"(17-Q25)*POWER(EXP(1),2*(4-IF([1]!Cell_Color(Q25)=[1]!Cell_Color($A$4),1,IF([1]!Cell_Color(Q25)=[1]!Cell_Color($A$5),2,IF([1]!Cell_Color(Q25)=[1]!Cell_Color($A$6),3,IF([1]!Cell_Color(Q25)=[1]!Cell_Color($A$7),3,IF([1]!Cell_Color(Q25)=[1]!Cell_Color($A$8),4,IF([1]!Cell_Color(Q25)=[1]!Cell_Color($A$9),4,0))))))))","v":272.99075016572112},{"$f":"(17-R25)*POWER(EXP(1),2*(4-IF([1]!Cell_Color(R25)=[1]!Cell_Color($A$4),1,IF([1]!Cell_Color(R25)=[1]!Cell_Color($A$5),2,IF([1]!Cell_Color(R25)=[1]!Cell_Color($A$6),3,IF([1]!Cell_Color(R25)=[1]!Cell_Color($A$7),3,IF([1]!Cell_Color(R25)=[1]!Cell_Color($A$8),4,IF([1]!Cell_Color(R25)=[1]!Cell_Color($A$9),4,0))))))))","v":218.39260013257692},{"$f":"(17-S25)*POWER(EXP(1),2*(4-IF([1]!Cell_Color(S25)=[1]!Cell_Color($A$4),1,IF([1]!Cell_Color(S25)=[1]!Cell_Color($A$5),2,IF([1]!Cell_Color(S25)=[1]!Cell_Color($A$6),3,IF([1]!Cell_Color(S25)=[1]!Cell_Color($A$7),3,IF([1]!Cell_Color(S25)=[1]!Cell_Color($A$8),4,IF([1]!Cell_Color(S25)=[1]!Cell_Color($A$9),4,0))))))))","v":382.1870502320096},{"$f":"(17-T25)*POWER(EXP(1),2*(4-IF([1]!Cell_Color(T25)=[1]!Cell_Color($A$4),1,IF([1]!Cell_Color(T25)=[1]!Cell_Color($A$5),2,IF([1]!Cell_Color(T25)=[1]!Cell_Color($A$6),3,IF([1]!Cell_Color(T25)=[1]!Cell_Color($A$7),3,IF([1]!Cell_Color(T25)=[1]!Cell_Color($A$8),4,IF([1]!Cell_Color(T25)=[1]!Cell_Color($A$9),4,0))))))))","v":327.58890019886536},{"$f":"(17-U25)*POWER(EXP(1),2*(4-IF([1]!Cell_Color(U25)=[1]!Cell_Color($A$4),1,IF([1]!Cell_Color(U25)=[1]!Cell_Color($A$5),2,IF([1]!Cell_Color(U25)=[1]!Cell_Color($A$6),3,IF([1]!Cell_Color(U25)=[1]!Cell_Color($A$7),3,IF([1]!Cell_Color(U25)=[1]!Cell_Color($A$8),4,IF([1]!Cell_Color(U25)=[1]!Cell_Color($A$9),4,0))))))))","v":818.97225049716349},{"$f":"(17-V25)*POWER(EXP(1),2*(4-IF([1]!Cell_Color(V25)=[1]!Cell_Color($A$4),1,IF([1]!Cell_Color(V25)=[1]!Cell_Color($A$5),2,IF([1]!Cell_Color(V25)=[1]!Cell_Color($A$6),3,IF([1]!Cell_Color(V25)=[1]!Cell_Color($A$7),3,IF([1]!Cell_Color(V25)=[1]!Cell_Color($A$8),4,IF([1]!Cell_Color(V25)=[1]!Cell_Color($A$9),4,0))))))))","v":1613.71517397094}]
[null,null,23,13,-10,18,-5,23,"Спартакус",2,3,3,7,2,5,14,4,16,15,1,4,12,null,{"$f":"SUM(AB26:AF26)","v":11808.631311355604},{"$f":"SUM(AD26:AH26)","v":6585.2002569783444},{"$f":"SUM(AE26:AI26)","v":3357.769909036464},null,{"$f":"(17-O26)*POWER(EXP(1),2*(4-IF([1]!Cell_Color(O26)=[1]!Cell_Color($A$4),1,IF([1]!Cell_Color(O26)=[1]!Cell_Color($A$5),2,IF([1]!Cell_Color(O26)=[1]!Cell_Color($A$6),3,IF([1]!Cell_Color(O26)=[1]!Cell_Color($A$7),3,IF([1]!Cell_Color(O26)=[1]!Cell_Color($A$8),4,IF([1]!Cell_Color(O26)=[1]!Cell_Color($A$9),4,0))))))))","v":4841.1455219128202},{"$f":"(17-P26)*POWER(EXP(1),2*(4-IF([1]!Cell_Color(P26)=[1]!Cell_Color($A$4),1,IF([1]!Cell_Color(P26)=[1]!Cell_Color($A$5),2,IF([1]!Cell_Color(P26)=[1]!Cell_Color($A$6),3,IF([1]!Cell_Color(P26)=[1]!Cell_Color($A$7),3,IF([1]!Cell_Color(P26)=[1]!Cell_Color($A$8),4,IF([1]!Cell_Color(P26)=[1]!Cell_Color($A$9),4,0))))))))","v":1210.286380478205},{"$f":"(17-Q26)*POWER(EXP(1),2*(4-IF([1]!Cell_Color(Q26)=[1]!Cell_Color($A$4),1,IF([1]!Cell_Color(Q26)=[1]!Cell_Color($A$5),2,IF([1]!Cell_Color(Q26)=[1]!Cell_Color($A$6),3,IF([1]!Cell_Color(Q26)=[1]!Cell_Color($A$7),3,IF([1]!Cell_Color(Q26)=[1]!Cell_Color($A$8),4,IF([1]!Cell_Color(Q26)=[1]!Cell_Color($A$9),4,0))))))))","v":5244.5743154055554},{"$f":"(17-R26)*POWER(EXP(1),2*(4-IF([1]!Cell_Color(R26)=[1]!Cell_Color($A$4),1,IF([1]!Cell_Color(R26)=[1]!Cell_Color($A$5),2,IF([1]!Cell_Color(R26)=[1]!Cell_Color($A$6),3,IF([1]!Cell_Color(R26)=[1]!Cell_Color($A$7),3,IF([1]!Cell_Color(R26)=[1]!Cell_Color($A$8),4,IF([1]!Cell_Color(R26)=[1]!Cell_Color($A$9),4,0))))))))","v":403.428793492735},{"$f":"(17-S26)*POWER(EXP(1),2*(4-IF([1]!Cell_Color(S26)=[1]!Cell_Color($A$4),1,IF([1]!Cell_Color(S26)=[1]!Cell_Color($A$5),2,IF([1]!Cell_Color(S26)=[1]!Cell_Color($A$6),3,IF([1]!Cell_Color(S26)=[1]!Cell_Color($A$7),3,IF([1]!Cell_Color(S26)=[1]!Cell_Color($A$8),4,IF([1]!Cell_Color(S26)=[1]!Cell_Color($A$9),4,0))))))))","v":109.19630006628846},{"$f":"(17-T26)*POWER(EXP(1),2*(4-IF([1]!Cell_Color(T26)=[1]!Cell_Color($A$4),1,IF([1]!Cell_Color(T26)=[1]!Cell_Color($A$5),2,IF([1]!Cell_Color(T26)=[1]!Cell_Color($A$6),3,IF([1]!Cell_Color(T26)=[1]!Cell_Color($A$7),3,IF([1]!Cell_Color(T26)=[1]!Cell_Color($A$8),4,IF([1]!Cell_Color(T26)=[1]!Cell_Color($A$9),4,0))))))))","v":118.22489758289039},{"$f":"(17-U26)*POWER(EXP(1),2*(4-IF([1]!Cell_Color(U26)=[1]!Cell_Color($A$4),1,IF([1]!Cell_Color(U26)=[1]!Cell_Color($A$5),2,IF([1]!Cell_Color(U26)=[1]!Cell_Color($A$6),3,IF([1]!Cell_Color(U26)=[1]!Cell_Color($A$7),3,IF([1]!Cell_Color(U26)=[1]!Cell_Color($A$8),4,IF([1]!Cell_Color(U26)=[1]!Cell_Color($A$9),4,0))))))))","v":709.77595043087501},{"$f":"(17-V26)*POWER(EXP(1),2*(4-IF([1]!Cell_Color(V26)=[1]!Cell_Color($A$4),1,IF([1]!Cell_Color(V26)=[1]!Cell_Color($A$5),2,IF([1]!Cell_Color(V26)=[1]!Cell_Color($A$6),3,IF([1]!Cell_Color(V26)=[1]!Cell_Color($A$7),3,IF([1]!Cell_Color(V26)=[1]!Cell_Color($A$8),4,IF([1]!Cell_Color(V26)=[1]!Cell_Color($A$9),4,0))))))))","v":2017.1439674636749}]
[null,null,24,21,-3,22,-2,24,"Мако ФК",3,12,10,15,3,15,12,6,1,15,9,7,6,null,{"$f":"SUM(AB27:AF27)","v":3360.8559750315553},{"$f":"SUM(AD27:AH27)","v":3263.7743384769601},{"$f":"SUM(AE27:AI27)","v":3263.7743384769606},null,{"$f":"(17-O27)*POWER(EXP(1),2*(4-IF([1]!Cell_Color(O27)=[1]!Cell_Color($A$4),1,IF([1]!Cell_Color(O27)=[1]!Cell_Color($A$5),2,IF([1]!Cell_Color(O27)=[1]!Cell_Color($A$6),3,IF([1]!Cell_Color(O27)=[1]!Cell_Color($A$7),3,IF([1]!Cell_Color(O27)=[1]!Cell_Color($A$8),4,IF([1]!Cell_Color(O27)=[1]!Cell_Color($A$9),4,0))))))))","v":806.85758698546999},{"$f":"(17-P27)*POWER(EXP(1),2*(4-IF([1]!Cell_Color(P27)=[1]!Cell_Color($A$4),1,IF([1]!Cell_Color(P27)=[1]!Cell_Color($A$5),2,IF([1]!Cell_Color(P27)=[1]!Cell_Color($A$6),3,IF([1]!Cell_Color(P27)=[1]!Cell_Color($A$7),3,IF([1]!Cell_Color(P27)=[1]!Cell_Color($A$8),4,IF([1]!Cell_Color(P27)=[1]!Cell_Color($A$9),4,0))))))))","v":272.99075016572112},{"$f":"(17-Q27)*POWER(EXP(1),2*(4-IF([1]!Cell_Color(Q27)=[1]!Cell_Color($A$4),1,IF([1]!Cell_Color(Q27)=[1]!Cell_Color($A$5),2,IF([1]!Cell_Color(Q27)=[1]!Cell_Color($A$6),3,IF([1]!Cell_Color(Q27)=[1]!Cell_Color($A$7),3,IF([1]!Cell_Color(Q27)=[1]!Cell_Color($A$8),4,IF([1]!Cell_Color(Q27)=[1]!Cell_Color($A$9),4,0))))))))","v":600.57965036458654},{"$f":"(17-R27)*POWER(EXP(1),2*(4-IF([1]!Cell_Color(R27)=[1]!Cell_Color($A$4),1,IF([1]!Cell_Color(R27)=[1]!Cell_Color($A$5),2,IF([1]!Cell_Color(R27)=[1]!Cell_Color($A$6),3,IF([1]!Cell_Color(R27)=[1]!Cell_Color($A$7),3,IF([1]!Cell_Color(R27)=[1]!Cell_Color($A$8),4,IF([1]!Cell_Color(R27)=[1]!Cell_Color($A$9),4,0))))))))","v":873.57040053030767},{"$f":"(17-S27)*POWER(EXP(1),2*(4-IF([1]!Cell_Color(S27)=[1]!Cell_Color($A$4),1,IF([1]!Cell_Color(S27)=[1]!Cell_Color($A$5),2,IF([1]!Cell_Color(S27)=[1]!Cell_Color($A$6),3,IF([1]!Cell_Color(S27)=[1]!Cell_Color($A$7),3,IF([1]!Cell_Color(S27)=[1]!Cell_Color($A$8),4,IF([1]!Cell_Color(S27)=[1]!Cell_Color($A$9),4,0))))))))","v":806.85758698546999},{"$f":"(17-T27)*POWER(EXP(1),2*(4-IF([1]!Cell_Color(T27)=[1]!Cell_Color($A$4),1,IF([1]!Cell_Color(T27)=[1]!Cell_Color($A$5),2,IF([1]!Cell_Color(T27)=[1]!Cell_Color($A$6),3,IF([1]!Cell_Color(T27)=[1]!Cell_Color($A$7),3,IF([1]!Cell_Color(T27)=[1]!Cell_Color($A$8),4,IF([1]!Cell_Color(T27)=[1]!Cell_Color($A$9),4,0))))))))","v":436.78520026515383},{"$f":"(17-U27)*POWER(EXP(1),2*(4-IF([1]!Cell_Color(U27)=[1]!Cell_Color($A$4),1,IF([1]!Cell_Color(U27)=[1]!Cell_Color($A$5),2,IF([1]!Cell_Color(U27)=[1]!Cell_Color($A$6),3,IF([1]!Cell_Color(U27)=[1]!Cell_Color($A$7),3,IF([1]!Cell_Color(U27)=[1]!Cell_Color($A$8),4,IF([1]!Cell_Color(U27)=[1]!Cell_Color($A$9),4,0))))))))","v":545.98150033144225},{"$f":"(17-V27)*POWER(EXP(1),2*(4-IF([1]!Cell_Color(V27)=[1]!Cell_Color($A$4),1,IF([1]!Cell_Color(V27)=[1]!Cell_Color($A$5),2,IF([1]!Cell_Color(V27)=[1]!Cell_Color($A$6),3,IF([1]!Cell_Color(V27)=[1]!Cell_Color($A$7),3,IF([1]!Cell_Color(V27)=[1]!Cell_Color($A$8),4,IF([1]!Cell_Color(V27)=[1]!Cell_Color($A$9),4,0))))))))","v":600.57965036458654}]
[null,null,25,23,-2,23,-2,25,"Пенцугьор",2,11,6,2,16,7,6,3,7,7,8,6,5,null,{"$f":"SUM(AB28:AF28)","v":3002.8982518229323},{"$f":"SUM(AD28:AH28)","v":2948.3001017897882},{"$f":"SUM(AE28:AI28)","v":2839.1038017234996},null,{"$f":"(17-O28)*POWER(EXP(1),2*(4-IF([1]!Cell_Color(O28)=[1]!Cell_Color($A$4),1,IF([1]!Cell_Color(O28)=[1]!Cell_Color($A$5),2,IF([1]!Cell_Color(O28)=[1]!Cell_Color($A$6),3,IF([1]!Cell_Color(O28)=[1]!Cell_Color($A$7),3,IF([1]!Cell_Color(O28)=[1]!Cell_Color($A$8),4,IF([1]!Cell_Color(O28)=[1]!Cell_Color($A$9),4,0))))))))","v":545.98150033144225},{"$f":"(17-P28)*POWER(EXP(1),2*(4-IF([1]!Cell_Color(P28)=[1]!Cell_Color($A$4),1,IF([1]!Cell_Color(P28)=[1]!Cell_Color($A$5),2,IF([1]!Cell_Color(P28)=[1]!Cell_Color($A$6),3,IF([1]!Cell_Color(P28)=[1]!Cell_Color($A$7),3,IF([1]!Cell_Color(P28)=[1]!Cell_Color($A$8),4,IF([1]!Cell_Color(P28)=[1]!Cell_Color($A$9),4,0))))))))","v":600.57965036458654},{"$f":"(17-Q28)*POWER(EXP(1),2*(4-IF([1]!Cell_Color(Q28)=[1]!Cell_Color($A$4),1,IF([1]!Cell_Color(Q28)=[1]!Cell_Color($A$5),2,IF([1]!Cell_Color(Q28)=[1]!Cell_Color($A$6),3,IF([1]!Cell_Color(Q28)=[1]!Cell_Color($A$7),3,IF([1]!Cell_Color(Q28)=[1]!Cell_Color($A$8),4,IF([1]!Cell_Color(Q28)=[1]!Cell_Color($A$9),4,0))))))))","v":764.37410046401919},{"$f":"(17-R28)*POWER(EXP(1),2*(4-IF([1]!Cell_Color(R28)=[1]!Cell_Color($A$4),1,IF([1]!Cell_Color(R28)=[1]!Cell_Color($A$5),2,IF([1]!Cell_Color(R28)=[1]!Cell_Color($A$6),3,IF([1]!Cell_Color(R28)=[1]!Cell_Color($A$7),3,IF([1]!Cell_Color(R28)=[1]!Cell_Color($A$8),4,IF([1]!Cell_Color(R28)=[1]!Cell_Color($A$9),4,0))))))))","v":545.98150033144225},{"$f":"(17-S28)*POWER(EXP(1),2*(4-IF([1]!Cell_Color(S28)=[1]!Cell_Color($A$4),1,IF([1]!Cell_Color(S28)=[1]!Cell_Color($A$5),2,IF([1]!Cell_Color(S28)=[1]!Cell_Color($A$6),3,IF([1]!Cell_Color(S28)=[1]!Cell_Color($A$7),3,IF([1]!Cell_Color(S28)=[1]!Cell_Color($A$8),4,IF([1]!Cell_Color(S28)=[1]!Cell_Color($A$9),4,0))))))))","v":545.98150033144225},{"$f":"(17-T28)*POWER(EXP(1),2*(4-IF([1]!Cell_Color(T28)=[1]!Cell_Color($A$4),1,IF([1]!Cell_Color(T28)=[1]!Cell_Color($A$5),2,IF([1]!Cell_Color(T28)=[1]!Cell_Color($A$6),3,IF([1]!Cell_Color(T28)=[1]!Cell_Color($A$7),3,IF([1]!Cell_Color(T28)=[1]!Cell_Color($A$8),4,IF([1]!Cell_Color(T28)=[1]!Cell_Color($A$9),4,0))))))))","v":491.38335029829807},{"$f":"(17-U28)*POWER(EXP(1),2*(4-IF([1]!Cell_Color(U28)=[1]!Cell_Color($A$4),1,IF([1]!Cell_Color(U28)=[1]!Cell_Color($A$5),2,IF([1]!Cell_Color(U28)=[1]!Cell_Color($A$6),3,IF([1]!Cell_Color(U28)=[1]!Cell_Color($A$7),3,IF([1]!Cell_Color(U28)=[1]!Cell_Color($A$8),4,IF([1]!Cell_Color(U28)=[1]!Cell_Color($A$9),4,0))))))))","v":600.57965036458654},{"$f":"(17-V28)*POWER(EXP(1),2*(4-IF([1]!Cell_Color(V28)=[1]!Cell_Color($A$4),1,IF([1]!Cell_Color(V28)=[1]!Cell_Color($A$5),2,IF([1]!Cell_Color(V28)=[1]!Cell_Color($A$6),3,IF([1]!Cell_Color(V28)=[1]!Cell_Color($A$7),3,IF([1]!Cell_Color(V28)=[1]!Cell_Color($A$8),4,IF([1]!Cell_Color(V28)=[1]!Cell_Color($A$9),4,0))))))))","v":655.17780039773072}]
[null,null,26,16,-10,27,1,26,"Тиса",7,8,3,12,6,13,10,15,8,8,15,1,1,null,{"$f":"SUM(AB29:AF29)","v":6227.3410160021513},{"$f":"SUM(AD29:AH29)","v":2017.045485231245},{"$f":"SUM(AE29:AI29)","v":2083.7582987760825},null,{"$f":"(17-O29)*POWER(EXP(1),2*(4-IF([1]!Cell_Color(O29)=[1]!Cell_Color($A$4),1,IF([1]!Cell_Color(O29)=[1]!Cell_Color($A$5),2,IF([1]!Cell_Color(O29)=[1]!Cell_Color($A$6),3,IF([1]!Cell_Color(O29)=[1]!Cell_Color($A$7),3,IF([1]!Cell_Color(O29)=[1]!Cell_Color($A$8),4,IF([1]!Cell_Color(O29)=[1]!Cell_Color($A$9),4,0))))))))","v":1613.71517397094},{"$f":"(17-P29)*POWER(EXP(1),2*(4-IF([1]!Cell_Color(P29)=[1]!Cell_Color($A$4),1,IF([1]!Cell_Color(P29)=[1]!Cell_Color($A$5),2,IF([1]!Cell_Color(P29)=[1]!Cell_Color($A$6),3,IF([1]!Cell_Color(P29)=[1]!Cell_Color($A$7),3,IF([1]!Cell_Color(P29)=[1]!Cell_Color($A$8),4,IF([1]!Cell_Color(P29)=[1]!Cell_Color($A$9),4,0))))))))","v":2824.0015544491448},{"$f":"(17-Q29)*POWER(EXP(1),2*(4-IF([1]!Cell_Color(Q29)=[1]!Cell_Color($A$4),1,IF([1]!Cell_Color(Q29)=[1]!Cell_Color($A$5),2,IF([1]!Cell_Color(Q29)=[1]!Cell_Color($A$6),3,IF([1]!Cell_Color(Q29)=[1]!Cell_Color($A$7),3,IF([1]!Cell_Color(Q29)=[1]!Cell_Color($A$8),4,IF([1]!Cell_Color(Q29)=[1]!Cell_Color($A$9),4,0))))))))","v":806.85758698546999},{"$f":"(17-R29)*POWER(EXP(1),2*(4-IF([1]!Cell_Color(R29)=[1]!Cell_Color($A$4),1,IF([1]!Cell_Color(R29)=[1]!Cell_Color($A$5),2,IF([1]!Cell_Color(R29)=[1]!Cell_Color($A$6),3,IF([1]!Cell_Color(R29)=[1]!Cell_Color($A$7),3,IF([1]!Cell_Color(R29)=[1]!Cell_Color($A$8),4,IF([1]!Cell_Color(R29)=[1]!Cell_Color($A$9),4,0))))))))","v":491.38335029829807},{"$f":"(17-S29)*POWER(EXP(1),2*(4-IF([1]!Cell_Color(S29)=[1]!Cell_Color($A$4),1,IF([1]!Cell_Color(S29)=[1]!Cell_Color($A$5),2,IF([1]!Cell_Color(S29)=[1]!Cell_Color($A$6),3,IF([1]!Cell_Color(S29)=[1]!Cell_Color($A$7),3,IF([1]!Cell_Color(S29)=[1]!Cell_Color($A$8),4,IF([1]!Cell_Color(S29)=[1]!Cell_Color($A$9),4,0))))))))","v":491.38335029829807},{"$f":"(17-T29)*POWER(EXP(1),2*(4-IF([1]!Cell_Color(T29)=[1]!Cell_Color($A$4),1,IF([1]!Cell_Color(T29)=[1]!Cell_Color($A$5),2,IF([1]!Cell_Color(T29)=[1]!Cell_Color($A$6),3,IF([1]!Cell_Color(T29)=[1]!Cell_Color($A$7),3,IF([1]!Cell_Color(T29)=[1]!Cell_Color($A$8),4,IF([1]!Cell_Color(T29)=[1]!Cell_Color($A$9),4,0))))))))","v":109.19630006628846},{"$f":"(17-U29)*POWER(EXP(1),2*(4-IF([1]!Cell_Color(U29)=[1]!Cell_Color($A$4),1,IF([1]!Cell_Color(U29)=[1]!Cell_Color($A$5),2,IF([1]!Cell_Color(U29)=[1]!Cell_Color($A$6),3,IF([1]!Cell_Color(U29)=[1]!Cell_Color($A$7),3,IF([1]!Cell_Color(U29)=[1]!Cell_Color($A$8),4,IF([1]!Cell_Color(U29)=[1]!Cell_Color($A$9),4,0))))))))","v":118.22489758289039},{"$f":"(17-V29)*POWER(EXP(1),2*(4-IF([1]!Cell_Color(V29)=[1]!Cell_Color($A$4),1,IF([1]!Cell_Color(V29)=[1]!Cell_Color($A$5),2,IF([1]!Cell_Color(V29)=[1]!Cell_Color($A$6),3,IF([1]!Cell_Color(V29)=[1]!Cell_Color($A$7),3,IF([1]!Cell_Color(V29)=[1]!Cell_Color($A$8),4,IF([1]!Cell_Color(V29)=[1]!Cell_Color($A$9),4,0))))))))","v":873.57040053030767}]
[null,null,27,14,-13,24,-3,27,"Дунаканьяр",7,15,7,10,1,7,11,16,4,3,16,14,14,null,{"$f":"SUM(AB30:AF30)","v":8332.439540271389},{"$f":"SUM(AD30:AH30)","v":2444.8020879797969},{"$f":"SUM(AE30:AI30)","v":2063.5404627838539},null,{"$f":"(17-O30)*POWER(EXP(1),2*(4-IF([1]!Cell_Color(O30)=[1]!Cell_Color($A$4),1,IF([1]!Cell_Color(O30)=[1]!Cell_Color($A$5),2,IF([1]!Cell_Color(O30)=[1]!Cell_Color($A$6),3,IF([1]!Cell_Color(O30)=[1]!Cell_Color($A$7),3,IF([1]!Cell_Color(O30)=[1]!Cell_Color($A$8),4,IF([1]!Cell_Color(O30)=[1]!Cell_Color($A$9),4,0))))))))","v":4034.2879349273499},{"$f":"(17-P30)*POWER(EXP(1),2*(4-IF([1]!Cell_Color(P30)=[1]!Cell_Color($A$4),1,IF([1]!Cell_Color(P30)=[1]!Cell_Color($A$5),2,IF([1]!Cell_Color(P30)=[1]!Cell_Color($A$6),3,IF([1]!Cell_Color(P30)=[1]!Cell_Color($A$7),3,IF([1]!Cell_Color(P30)=[1]!Cell_Color($A$8),4,IF([1]!Cell_Color(P30)=[1]!Cell_Color($A$9),4,0))))))))","v":2420.5727609564101},{"$f":"(17-Q30)*POWER(EXP(1),2*(4-IF([1]!Cell_Color(Q30)=[1]!Cell_Color($A$4),1,IF([1]!Cell_Color(Q30)=[1]!Cell_Color($A$5),2,IF([1]!Cell_Color(Q30)=[1]!Cell_Color($A$6),3,IF([1]!Cell_Color(Q30)=[1]!Cell_Color($A$7),3,IF([1]!Cell_Color(Q30)=[1]!Cell_Color($A$8),4,IF([1]!Cell_Color(Q30)=[1]!Cell_Color($A$9),4,0))))))))","v":403.428793492735},{"$f":"(17-R30)*POWER(EXP(1),2*(4-IF([1]!Cell_Color(R30)=[1]!Cell_Color($A$4),1,IF([1]!Cell_Color(R30)=[1]!Cell_Color($A$5),2,IF([1]!Cell_Color(R30)=[1]!Cell_Color($A$6),3,IF([1]!Cell_Color(R30)=[1]!Cell_Color($A$7),3,IF([1]!Cell_Color(R30)=[1]!Cell_Color($A$8),4,IF([1]!Cell_Color(R30)=[1]!Cell_Color($A$9),4,0))))))))","v":709.77595043087501},{"$f":"(17-S30)*POWER(EXP(1),2*(4-IF([1]!Cell_Color(S30)=[1]!Cell_Color($A$4),1,IF([1]!Cell_Color(S30)=[1]!Cell_Color($A$5),2,IF([1]!Cell_Color(S30)=[1]!Cell_Color($A$6),3,IF([1]!Cell_Color(S30)=[1]!Cell_Color($A$7),3,IF([1]!Cell_Color(S30)=[1]!Cell_Color($A$8),4,IF([1]!Cell_Color(S30)=[1]!Cell_Color($A$9),4,0))))))))","v":764.37410046401919},{"$f":"(17-T30)*POWER(EXP(1),2*(4-IF([1]!Cell_Color(T30)=[1]!Cell_Color($A$4),1,IF([1]!Cell_Color(T30)=[1]!Cell_Color($A$5),2,IF([1]!Cell_Color(T30)=[1]!Cell_Color($A$6),3,IF([1]!Cell_Color(T30)=[1]!Cell_Color($A$7),3,IF([1]!Cell_Color(T30)=[1]!Cell_Color($A$8),4,IF([1]!Cell_Color(T30)=[1]!Cell_Color($A$9),4,0))))))))","v":403.428793492735},{"$f":"(17-U30)*POWER(EXP(1),2*(4-IF([1]!Cell_Color(U30)=[1]!Cell_Color($A$4),1,IF([1]!Cell_Color(U30)=[1]!Cell_Color($A$5),2,IF([1]!Cell_Color(U30)=[1]!Cell_Color($A$6),3,IF([1]!Cell_Color(U30)=[1]!Cell_Color($A$7),3,IF([1]!Cell_Color(U30)=[1]!Cell_Color($A$8),4,IF([1]!Cell_Color(U30)=[1]!Cell_Color($A$9),4,0))))))))","v":163.79445009943268},{"$f":"(17-V30)*POWER(EXP(1),2*(4-IF([1]!Cell_Color(V30)=[1]!Cell_Color($A$4),1,IF([1]!Cell_Color(V30)=[1]!Cell_Color($A$5),2,IF([1]!Cell_Color(V30)=[1]!Cell_Color($A$6),3,IF([1]!Cell_Color(V30)=[1]!Cell_Color($A$7),3,IF([1]!Cell_Color(V30)=[1]!Cell_Color($A$8),4,IF([1]!Cell_Color(V30)=[1]!Cell_Color($A$9),4,0))))))))","v":22.167168296791949}]
[null,null,28,33,5,29,1,28,"Тура Вароши СК",null,null,4,8,7,3,13,6,3,5,12,11,8,null,{"$f":"SUM(AB31:AF31)","v":883.46042726671953},{"$f":"SUM(AD31:AH31)","v":1440.4838532355834},{"$f":"SUM(AE31:AI31)","v":1850.5875864456443},null,{"$f":"(17-O31)*POWER(EXP(1),2*(4-IF([1]!Cell_Color(O31)=[1]!Cell_Color($A$4),1,IF([1]!Cell_Color(O31)=[1]!Cell_Color($A$5),2,IF([1]!Cell_Color(O31)=[1]!Cell_Color($A$6),3,IF([1]!Cell_Color(O31)=[1]!Cell_Color($A$7),3,IF([1]!Cell_Color(O31)=[1]!Cell_Color($A$8),4,IF([1]!Cell_Color(O31)=[1]!Cell_Color($A$9),4,0))))))))","v":14},{"$f":"(17-P31)*POWER(EXP(1),2*(4-IF([1]!Cell_Color(P31)=[1]!Cell_Color($A$4),1,IF([1]!Cell_Color(P31)=[1]!Cell_Color($A$5),2,IF([1]!Cell_Color(P31)=[1]!Cell_Color($A$6),3,IF([1]!Cell_Color(P31)=[1]!Cell_Color($A$7),3,IF([1]!Cell_Color(P31)=[1]!Cell_Color($A$8),4,IF([1]!Cell_Color(P31)=[1]!Cell_Color($A$9),4,0))))))))","v":29.556224395722598},{"$f":"(17-Q31)*POWER(EXP(1),2*(4-IF([1]!Cell_Color(Q31)=[1]!Cell_Color($A$4),1,IF([1]!Cell_Color(Q31)=[1]!Cell_Color($A$5),2,IF([1]!Cell_Color(Q31)=[1]!Cell_Color($A$6),3,IF([1]!Cell_Color(Q31)=[1]!Cell_Color($A$7),3,IF([1]!Cell_Color(Q31)=[1]!Cell_Color($A$8),4,IF([1]!Cell_Color(Q31)=[1]!Cell_Color($A$9),4,0))))))))","v":81.279617088237146},{"$f":"(17-R31)*POWER(EXP(1),2*(4-IF([1]!Cell_Color(R31)=[1]!Cell_Color($A$4),1,IF([1]!Cell_Color(R31)=[1]!Cell_Color($A$5),2,IF([1]!Cell_Color(R31)=[1]!Cell_Color($A$6),3,IF([1]!Cell_Color(R31)=[1]!Cell_Color($A$7),3,IF([1]!Cell_Color(R31)=[1]!Cell_Color($A$8),4,IF([1]!Cell_Color(R31)=[1]!Cell_Color($A$9),4,0))))))))","v":103.44678538502909},{"$f":"(17-S31)*POWER(EXP(1),2*(4-IF([1]!Cell_Color(S31)=[1]!Cell_Color($A$4),1,IF([1]!Cell_Color(S31)=[1]!Cell_Color($A$5),2,IF([1]!Cell_Color(S31)=[1]!Cell_Color($A$6),3,IF([1]!Cell_Color(S31)=[1]!Cell_Color($A$7),3,IF([1]!Cell_Color(S31)=[1]!Cell_Color($A$8),4,IF([1]!Cell_Color(S31)=[1]!Cell_Color($A$9),4,0))))))))","v":655.17780039773072},{"$f":"(17-T31)*POWER(EXP(1),2*(4-IF([1]!Cell_Color(T31)=[1]!Cell_Color($A$4),1,IF([1]!Cell_Color(T31)=[1]!Cell_Color($A$5),2,IF([1]!Cell_Color(T31)=[1]!Cell_Color($A$6),3,IF([1]!Cell_Color(T31)=[1]!Cell_Color($A$7),3,IF([1]!Cell_Color(T31)=[1]!Cell_Color($A$8),4,IF([1]!Cell_Color(T31)=[1]!Cell_Color($A$9),4,0))))))))","v":272.99075016572112},{"$f":"(17-U31)*POWER(EXP(1),2*(4-IF([1]!Cell_Color(U31)=[1]!Cell_Color($A$4),1,IF([1]!Cell_Color(U31)=[1]!Cell_Color($A$5),2,IF([1]!Cell_Color(U31)=[1]!Cell_Color($A$6),3,IF([1]!Cell_Color(U31)=[1]!Cell_Color($A$7),3,IF([1]!Cell_Color(U31)=[1]!Cell_Color($A$8),4,IF([1]!Cell_Color(U31)=[1]!Cell_Color($A$9),4,0))))))))","v":327.58890019886536},{"$f":"(17-V31)*POWER(EXP(1),2*(4-IF([1]!Cell_Color(V31)=[1]!Cell_Color($A$4),1,IF([1]!Cell_Color(V31)=[1]!Cell_Color($A$5),2,IF([1]!Cell_Color(V31)=[1]!Cell_Color($A$6),3,IF([1]!Cell_Color(V31)=[1]!Cell_Color($A$7),3,IF([1]!Cell_Color(V31)=[1]!Cell_Color($A$8),4,IF([1]!Cell_Color(V31)=[1]!Cell_Color($A$9),4,0))))))))","v":491.38335029829807}]
[null,null,29,38,9,30,1,29,"Балашшадьярмат",10,5,5,4,4,16,2,3,3,1,7,12,12,null,{"$f":"SUM(AB32:AF32)","v":490.55245987005253},{"$f":"SUM(AD32:AH32)","v":1144.0907188501119},{"$f":"SUM(AE32:AI32)","v":1313.6346836308039},null,{"$f":"(17-O32)*POWER(EXP(1),2*(4-IF([1]!Cell_Color(O32)=[1]!Cell_Color($A$4),1,IF([1]!Cell_Color(O32)=[1]!Cell_Color($A$5),2,IF([1]!Cell_Color(O32)=[1]!Cell_Color($A$6),3,IF([1]!Cell_Color(O32)=[1]!Cell_Color($A$7),3,IF([1]!Cell_Color(O32)=[1]!Cell_Color($A$8),4,IF([1]!Cell_Color(O32)=[1]!Cell_Color($A$9),4,0))))))))","v":54.598150033144229},{"$f":"(17-P32)*POWER(EXP(1),2*(4-IF([1]!Cell_Color(P32)=[1]!Cell_Color($A$4),1,IF([1]!Cell_Color(P32)=[1]!Cell_Color($A$5),2,IF([1]!Cell_Color(P32)=[1]!Cell_Color($A$6),3,IF([1]!Cell_Color(P32)=[1]!Cell_Color($A$7),3,IF([1]!Cell_Color(P32)=[1]!Cell_Color($A$8),4,IF([1]!Cell_Color(P32)=[1]!Cell_Color($A$9),4,0))))))))","v":110.83584148395974},{"$f":"(17-Q32)*POWER(EXP(1),2*(4-IF([1]!Cell_Color(Q32)=[1]!Cell_Color($A$4),1,IF([1]!Cell_Color(Q32)=[1]!Cell_Color($A$5),2,IF([1]!Cell_Color(Q32)=[1]!Cell_Color($A$6),3,IF([1]!Cell_Color(Q32)=[1]!Cell_Color($A$7),3,IF([1]!Cell_Color(Q32)=[1]!Cell_Color($A$8),4,IF([1]!Cell_Color(Q32)=[1]!Cell_Color($A$9),4,0))))))))","v":103.44678538502909},{"$f":"(17-R32)*POWER(EXP(1),2*(4-IF([1]!Cell_Color(R32)=[1]!Cell_Color($A$4),1,IF([1]!Cell_Color(R32)=[1]!Cell_Color($A$5),2,IF([1]!Cell_Color(R32)=[1]!Cell_Color($A$6),3,IF([1]!Cell_Color(R32)=[1]!Cell_Color($A$7),3,IF([1]!Cell_Color(R32)=[1]!Cell_Color($A$8),4,IF([1]!Cell_Color(R32)=[1]!Cell_Color($A$9),4,0))))))))","v":103.44678538502909},{"$f":"(17-S32)*POWER(EXP(1),2*(4-IF([1]!Cell_Color(S32)=[1]!Cell_Color($A$4),1,IF([1]!Cell_Color(S32)=[1]!Cell_Color($A$5),2,IF([1]!Cell_Color(S32)=[1]!Cell_Color($A$6),3,IF([1]!Cell_Color(S32)=[1]!Cell_Color($A$7),3,IF([1]!Cell_Color(S32)=[1]!Cell_Color($A$8),4,IF([1]!Cell_Color(S32)=[1]!Cell_Color($A$9),4,0))))))))","v":118.22489758289039},{"$f":"(17-T32)*POWER(EXP(1),2*(4-IF([1]!Cell_Color(T32)=[1]!Cell_Color($A$4),1,IF([1]!Cell_Color(T32)=[1]!Cell_Color($A$5),2,IF([1]!Cell_Color(T32)=[1]!Cell_Color($A$6),3,IF([1]!Cell_Color(T32)=[1]!Cell_Color($A$7),3,IF([1]!Cell_Color(T32)=[1]!Cell_Color($A$8),4,IF([1]!Cell_Color(T32)=[1]!Cell_Color($A$9),4,0))))))))","v":545.98150033144225},{"$f":"(17-U32)*POWER(EXP(1),2*(4-IF([1]!Cell_Color(U32)=[1]!Cell_Color($A$4),1,IF([1]!Cell_Color(U32)=[1]!Cell_Color($A$5),2,IF([1]!Cell_Color(U32)=[1]!Cell_Color($A$6),3,IF([1]!Cell_Color(U32)=[1]!Cell_Color($A$7),3,IF([1]!Cell_Color(U32)=[1]!Cell_Color($A$8),4,IF([1]!Cell_Color(U32)=[1]!Cell_Color($A$9),4,0))))))))","v":272.99075016572112},{"$f":"(17-V32)*POWER(EXP(1),2*(4-IF([1]!Cell_Color(V32)=[1]!Cell_Color($A$4),1,IF([1]!Cell_Color(V32)=[1]!Cell_Color($A$5),2,IF([1]!Cell_Color(V32)=[1]!Cell_Color($A$6),3,IF([1]!Cell_Color(V32)=[1]!Cell_Color($A$7),3,IF([1]!Cell_Color(V32)=[1]!Cell_Color($A$8),4,IF([1]!Cell_Color(V32)=[1]!Cell_Color($A$9),4,0))))))))","v":272.99075016572112}]
[null,null,30,25,-5,28,-2,30,"Шарвар ФК",11,6,2,1,14,1,13,9,9,9,13,3,15,null,{"$f":"SUM(AB33:AF33)","v":1646.9730985109288},{"$f":"SUM(AD33:AH33)","v":1632.1949863130674},{"$f":"SUM(AE33:AI33)","v":1304.6060861142018},null,{"$f":"(17-O33)*POWER(EXP(1),2*(4-IF([1]!Cell_Color(O33)=[1]!Cell_Color($A$4),1,IF([1]!Cell_Color(O33)=[1]!Cell_Color($A$5),2,IF([1]!Cell_Color(O33)=[1]!Cell_Color($A$6),3,IF([1]!Cell_Color(O33)=[1]!Cell_Color($A$7),3,IF([1]!Cell_Color(O33)=[1]!Cell_Color($A$8),4,IF([1]!Cell_Color(O33)=[1]!Cell_Color($A$9),4,0))))))))","v":118.22489758289039},{"$f":"(17-P33)*POWER(EXP(1),2*(4-IF([1]!Cell_Color(P33)=[1]!Cell_Color($A$4),1,IF([1]!Cell_Color(P33)=[1]!Cell_Color($A$5),2,IF([1]!Cell_Color(P33)=[1]!Cell_Color($A$6),3,IF([1]!Cell_Color(P33)=[1]!Cell_Color($A$7),3,IF([1]!Cell_Color(P33)=[1]!Cell_Color($A$8),4,IF([1]!Cell_Color(P33)=[1]!Cell_Color($A$9),4,0))))))))","v":218.39260013257692},{"$f":"(17-Q33)*POWER(EXP(1),2*(4-IF([1]!Cell_Color(Q33)=[1]!Cell_Color($A$4),1,IF([1]!Cell_Color(Q33)=[1]!Cell_Color($A$5),2,IF([1]!Cell_Color(Q33)=[1]!Cell_Color($A$6),3,IF([1]!Cell_Color(Q33)=[1]!Cell_Color($A$7),3,IF([1]!Cell_Color(Q33)=[1]!Cell_Color($A$8),4,IF([1]!Cell_Color(Q33)=[1]!Cell_Color($A$9),4,0))))))))","v":436.78520026515383},{"$f":"(17-R33)*POWER(EXP(1),2*(4-IF([1]!Cell_Color(R33)=[1]!Cell_Color($A$4),1,IF([1]!Cell_Color(R33)=[1]!Cell_Color($A$5),2,IF([1]!Cell_Color(R33)=[1]!Cell_Color($A$6),3,IF([1]!Cell_Color(R33)=[1]!Cell_Color($A$7),3,IF([1]!Cell_Color(R33)=[1]!Cell_Color($A$8),4,IF([1]!Cell_Color(R33)=[1]!Cell_Color($A$9),4,0))))))))","v":436.78520026515383},{"$f":"(17-S33)*POWER(EXP(1),2*(4-IF([1]!Cell_Color(S33)=[1]!Cell_Color($A$4),1,IF([1]!Cell_Color(S33)=[1]!Cell_Color($A$5),2,IF([1]!Cell_Color(S33)=[1]!Cell_Color($A$6),3,IF([1]!Cell_Color(S33)=[1]!Cell_Color($A$7),3,IF([1]!Cell_Color(S33)=[1]!Cell_Color($A$8),4,IF([1]!Cell_Color(S33)=[1]!Cell_Color($A$9),4,0))))))))","v":436.78520026515383},{"$f":"(17-T33)*POWER(EXP(1),2*(4-IF([1]!Cell_Color(T33)=[1]!Cell_Color($A$4),1,IF([1]!Cell_Color(T33)=[1]!Cell_Color($A$5),2,IF([1]!Cell_Color(T33)=[1]!Cell_Color($A$6),3,IF([1]!Cell_Color(T33)=[1]!Cell_Color($A$7),3,IF([1]!Cell_Color(T33)=[1]!Cell_Color($A$8),4,IF([1]!Cell_Color(T33)=[1]!Cell_Color($A$9),4,0))))))))","v":218.39260013257692},{"$f":"(17-U33)*POWER(EXP(1),2*(4-IF([1]!Cell_Color(U33)=[1]!Cell_Color($A$4),1,IF([1]!Cell_Color(U33)=[1]!Cell_Color($A$5),2,IF([1]!Cell_Color(U33)=[1]!Cell_Color($A$6),3,IF([1]!Cell_Color(U33)=[1]!Cell_Color($A$7),3,IF([1]!Cell_Color(U33)=[1]!Cell_Color($A$8),4,IF([1]!Cell_Color(U33)=[1]!Cell_Color($A$9),4,0))))))))","v":103.44678538502909},{"$f":"(17-V33)*POWER(EXP(1),2*(4-IF([1]!Cell_Color(V33)=[1]!Cell_Color($A$4),1,IF([1]!Cell_Color(V33)=[1]!Cell_Color($A$5),2,IF([1]!Cell_Color(V33)=[1]!Cell_Color($A$6),3,IF([1]!Cell_Color(V33)=[1]!Cell_Color($A$7),3,IF([1]!Cell_Color(V33)=[1]!Cell_Color($A$8),4,IF([1]!Cell_Color(V33)=[1]!Cell_Color($A$9),4,0))))))))","v":109.19630006628846}]
[null,null,31,35,4,32,1,31,"Татай Гонвед АК",3,5,6,5,2,1,15,2,4,2,1,9,10,null,{"$f":"SUM(AB34:AF34)","v":545.15060990319682},{"$f":"SUM(AD34:AH34)","v":872.73951010206213},{"$f":"SUM(AE34:AI34)","v":1144.0907188501119},null,{"$f":"(17-O34)*POWER(EXP(1),2*(4-IF([1]!Cell_Color(O34)=[1]!Cell_Color($A$4),1,IF([1]!Cell_Color(O34)=[1]!Cell_Color($A$5),2,IF([1]!Cell_Color(O34)=[1]!Cell_Color($A$6),3,IF([1]!Cell_Color(O34)=[1]!Cell_Color($A$7),3,IF([1]!Cell_Color(O34)=[1]!Cell_Color($A$8),4,IF([1]!Cell_Color(O34)=[1]!Cell_Color($A$9),4,0))))))))","v":118.22489758289039},{"$f":"(17-P34)*POWER(EXP(1),2*(4-IF([1]!Cell_Color(P34)=[1]!Cell_Color($A$4),1,IF([1]!Cell_Color(P34)=[1]!Cell_Color($A$5),2,IF([1]!Cell_Color(P34)=[1]!Cell_Color($A$6),3,IF([1]!Cell_Color(P34)=[1]!Cell_Color($A$7),3,IF([1]!Cell_Color(P34)=[1]!Cell_Color($A$8),4,IF([1]!Cell_Color(P34)=[1]!Cell_Color($A$9),4,0))))))))","v":109.19630006628846},{"$f":"(17-Q34)*POWER(EXP(1),2*(4-IF([1]!Cell_Color(Q34)=[1]!Cell_Color($A$4),1,IF([1]!Cell_Color(Q34)=[1]!Cell_Color($A$5),2,IF([1]!Cell_Color(Q34)=[1]!Cell_Color($A$6),3,IF([1]!Cell_Color(Q34)=[1]!Cell_Color($A$7),3,IF([1]!Cell_Color(Q34)=[1]!Cell_Color($A$8),4,IF([1]!Cell_Color(Q34)=[1]!Cell_Color($A$9),4,0))))))))","v":110.83584148395974},{"$f":"(17-R34)*POWER(EXP(1),2*(4-IF([1]!Cell_Color(R34)=[1]!Cell_Color($A$4),1,IF([1]!Cell_Color(R34)=[1]!Cell_Color($A$5),2,IF([1]!Cell_Color(R34)=[1]!Cell_Color($A$6),3,IF([1]!Cell_Color(R34)=[1]!Cell_Color($A$7),3,IF([1]!Cell_Color(R34)=[1]!Cell_Color($A$8),4,IF([1]!Cell_Color(R34)=[1]!Cell_Color($A$9),4,0))))))))","v":96.05772928609845},{"$f":"(17-S34)*POWER(EXP(1),2*(4-IF([1]!Cell_Color(S34)=[1]!Cell_Color($A$4),1,IF([1]!Cell_Color(S34)=[1]!Cell_Color($A$5),2,IF([1]!Cell_Color(S34)=[1]!Cell_Color($A$6),3,IF([1]!Cell_Color(S34)=[1]!Cell_Color($A$7),3,IF([1]!Cell_Color(S34)=[1]!Cell_Color($A$8),4,IF([1]!Cell_Color(S34)=[1]!Cell_Color($A$9),4,0))))))))","v":110.83584148395974},{"$f":"(17-T34)*POWER(EXP(1),2*(4-IF([1]!Cell_Color(T34)=[1]!Cell_Color($A$4),1,IF([1]!Cell_Color(T34)=[1]!Cell_Color($A$5),2,IF([1]!Cell_Color(T34)=[1]!Cell_Color($A$6),3,IF([1]!Cell_Color(T34)=[1]!Cell_Color($A$7),3,IF([1]!Cell_Color(T34)=[1]!Cell_Color($A$8),4,IF([1]!Cell_Color(T34)=[1]!Cell_Color($A$9),4,0))))))))","v":118.22489758289039},{"$f":"(17-U34)*POWER(EXP(1),2*(4-IF([1]!Cell_Color(U34)=[1]!Cell_Color($A$4),1,IF([1]!Cell_Color(U34)=[1]!Cell_Color($A$5),2,IF([1]!Cell_Color(U34)=[1]!Cell_Color($A$6),3,IF([1]!Cell_Color(U34)=[1]!Cell_Color($A$7),3,IF([1]!Cell_Color(U34)=[1]!Cell_Color($A$8),4,IF([1]!Cell_Color(U34)=[1]!Cell_Color($A$9),4,0))))))))","v":436.78520026515383},{"$f":"(17-V34)*POWER(EXP(1),2*(4-IF([1]!Cell_Color(V34)=[1]!Cell_Color($A$4),1,IF([1]!Cell_Color(V34)=[1]!Cell_Color($A$5),2,IF([1]!Cell_Color(V34)=[1]!Cell_Color($A$6),3,IF([1]!Cell_Color(V34)=[1]!Cell_Color($A$7),3,IF([1]!Cell_Color(V34)=[1]!Cell_Color($A$8),4,IF([1]!Cell_Color(V34)=[1]!Cell_Color($A$9),4,0))))))))","v":382.1870502320096}]
[null,null,32,51,19,33,1,32,"Иклад ФК",null,null,2,16,4,5,1,10,11,2,4,8,11,null,{"$f":"SUM(AB35:AF35)","v":234.8935707700582},{"$f":"SUM(AD35:AH35)","v":794.33465035445465},{"$f":"SUM(AE35:AI35)","v":1070.2001578608056},null,{"$f":"(17-O35)*POWER(EXP(1),2*(4-IF([1]!Cell_Color(O35)=[1]!Cell_Color($A$4),1,IF([1]!Cell_Color(O35)=[1]!Cell_Color($A$5),2,IF([1]!Cell_Color(O35)=[1]!Cell_Color($A$6),3,IF([1]!Cell_Color(O35)=[1]!Cell_Color($A$7),3,IF([1]!Cell_Color(O35)=[1]!Cell_Color($A$8),4,IF([1]!Cell_Color(O35)=[1]!Cell_Color($A$9),4,0))))))))","v":12},{"$f":"(17-P35)*POWER(EXP(1),2*(4-IF([1]!Cell_Color(P35)=[1]!Cell_Color($A$4),1,IF([1]!Cell_Color(P35)=[1]!Cell_Color($A$5),2,IF([1]!Cell_Color(P35)=[1]!Cell_Color($A$6),3,IF([1]!Cell_Color(P35)=[1]!Cell_Color($A$7),3,IF([1]!Cell_Color(P35)=[1]!Cell_Color($A$8),4,IF([1]!Cell_Color(P35)=[1]!Cell_Color($A$9),4,0))))))))","v":16},{"$f":"(17-Q35)*POWER(EXP(1),2*(4-IF([1]!Cell_Color(Q35)=[1]!Cell_Color($A$4),1,IF([1]!Cell_Color(Q35)=[1]!Cell_Color($A$5),2,IF([1]!Cell_Color(Q35)=[1]!Cell_Color($A$6),3,IF([1]!Cell_Color(Q35)=[1]!Cell_Color($A$7),3,IF([1]!Cell_Color(Q35)=[1]!Cell_Color($A$8),4,IF([1]!Cell_Color(Q35)=[1]!Cell_Color($A$9),4,0))))))))","v":51.723392692514544},{"$f":"(17-R35)*POWER(EXP(1),2*(4-IF([1]!Cell_Color(R35)=[1]!Cell_Color($A$4),1,IF([1]!Cell_Color(R35)=[1]!Cell_Color($A$5),2,IF([1]!Cell_Color(R35)=[1]!Cell_Color($A$6),3,IF([1]!Cell_Color(R35)=[1]!Cell_Color($A$7),3,IF([1]!Cell_Color(R35)=[1]!Cell_Color($A$8),4,IF([1]!Cell_Color(R35)=[1]!Cell_Color($A$9),4,0))))))))","v":44.334336593583899},{"$f":"(17-S35)*POWER(EXP(1),2*(4-IF([1]!Cell_Color(S35)=[1]!Cell_Color($A$4),1,IF([1]!Cell_Color(S35)=[1]!Cell_Color($A$5),2,IF([1]!Cell_Color(S35)=[1]!Cell_Color($A$6),3,IF([1]!Cell_Color(S35)=[1]!Cell_Color($A$7),3,IF([1]!Cell_Color(S35)=[1]!Cell_Color($A$8),4,IF([1]!Cell_Color(S35)=[1]!Cell_Color($A$9),4,0))))))))","v":110.83584148395974},{"$f":"(17-T35)*POWER(EXP(1),2*(4-IF([1]!Cell_Color(T35)=[1]!Cell_Color($A$4),1,IF([1]!Cell_Color(T35)=[1]!Cell_Color($A$5),2,IF([1]!Cell_Color(T35)=[1]!Cell_Color($A$6),3,IF([1]!Cell_Color(T35)=[1]!Cell_Color($A$7),3,IF([1]!Cell_Color(T35)=[1]!Cell_Color($A$8),4,IF([1]!Cell_Color(T35)=[1]!Cell_Color($A$9),4,0))))))))","v":96.05772928609845},{"$f":"(17-U35)*POWER(EXP(1),2*(4-IF([1]!Cell_Color(U35)=[1]!Cell_Color($A$4),1,IF([1]!Cell_Color(U35)=[1]!Cell_Color($A$5),2,IF([1]!Cell_Color(U35)=[1]!Cell_Color($A$6),3,IF([1]!Cell_Color(U35)=[1]!Cell_Color($A$7),3,IF([1]!Cell_Color(U35)=[1]!Cell_Color($A$8),4,IF([1]!Cell_Color(U35)=[1]!Cell_Color($A$9),4,0))))))))","v":491.38335029829807},{"$f":"(17-V35)*POWER(EXP(1),2*(4-IF([1]!Cell_Color(V35)=[1]!Cell_Color($A$4),1,IF([1]!Cell_Color(V35)=[1]!Cell_Color($A$5),2,IF([1]!Cell_Color(V35)=[1]!Cell_Color($A$6),3,IF([1]!Cell_Color(V35)=[1]!Cell_Color($A$7),3,IF([1]!Cell_Color(V35)=[1]!Cell_Color($A$8),4,IF([1]!Cell_Color(V35)=[1]!Cell_Color($A$9),4,0))))))))","v":327.58890019886536}]
[null,null,33,30,-3,40,7,33,"Капошвар РФК",14,1,7,4,14,6,8,14,13,1,2,1,4,null,{"$f":"SUM(AB36:AF36)","v":1301.3136751580398},{"$f":"SUM(AD36:AH36)","v":438.41141356200541},{"$f":"SUM(AE36:AI36)","v":984.39291389344771},null,{"$f":"(17-O36)*POWER(EXP(1),2*(4-IF([1]!Cell_Color(O36)=[1]!Cell_Color($A$4),1,IF([1]!Cell_Color(O36)=[1]!Cell_Color($A$5),2,IF([1]!Cell_Color(O36)=[1]!Cell_Color($A$6),3,IF([1]!Cell_Color(O36)=[1]!Cell_Color($A$7),3,IF([1]!Cell_Color(O36)=[1]!Cell_Color($A$8),4,IF([1]!Cell_Color(O36)=[1]!Cell_Color($A$9),4,0))))))))","v":600.57965036458654},{"$f":"(17-P36)*POWER(EXP(1),2*(4-IF([1]!Cell_Color(P36)=[1]!Cell_Color($A$4),1,IF([1]!Cell_Color(P36)=[1]!Cell_Color($A$5),2,IF([1]!Cell_Color(P36)=[1]!Cell_Color($A$6),3,IF([1]!Cell_Color(P36)=[1]!Cell_Color($A$7),3,IF([1]!Cell_Color(P36)=[1]!Cell_Color($A$8),4,IF([1]!Cell_Color(P36)=[1]!Cell_Color($A$9),4,0))))))))","v":491.38335029829807},{"$f":"(17-Q36)*POWER(EXP(1),2*(4-IF([1]!Cell_Color(Q36)=[1]!Cell_Color($A$4),1,IF([1]!Cell_Color(Q36)=[1]!Cell_Color($A$5),2,IF([1]!Cell_Color(Q36)=[1]!Cell_Color($A$6),3,IF([1]!Cell_Color(Q36)=[1]!Cell_Color($A$7),3,IF([1]!Cell_Color(Q36)=[1]!Cell_Color($A$8),4,IF([1]!Cell_Color(Q36)=[1]!Cell_Color($A$9),4,0))))))))","v":163.79445009943268},{"$f":"(17-R36)*POWER(EXP(1),2*(4-IF([1]!Cell_Color(R36)=[1]!Cell_Color($A$4),1,IF([1]!Cell_Color(R36)=[1]!Cell_Color($A$5),2,IF([1]!Cell_Color(R36)=[1]!Cell_Color($A$6),3,IF([1]!Cell_Color(R36)=[1]!Cell_Color($A$7),3,IF([1]!Cell_Color(R36)=[1]!Cell_Color($A$8),4,IF([1]!Cell_Color(R36)=[1]!Cell_Color($A$9),4,0))))))))","v":29.556224395722598},{"$f":"(17-S36)*POWER(EXP(1),2*(4-IF([1]!Cell_Color(S36)=[1]!Cell_Color($A$4),1,IF([1]!Cell_Color(S36)=[1]!Cell_Color($A$5),2,IF([1]!Cell_Color(S36)=[1]!Cell_Color($A$6),3,IF([1]!Cell_Color(S36)=[1]!Cell_Color($A$7),3,IF([1]!Cell_Color(S36)=[1]!Cell_Color($A$8),4,IF([1]!Cell_Color(S36)=[1]!Cell_Color($A$9),4,0))))))))","v":16},{"$f":"(17-T36)*POWER(EXP(1),2*(4-IF([1]!Cell_Color(T36)=[1]!Cell_Color($A$4),1,IF([1]!Cell_Color(T36)=[1]!Cell_Color($A$5),2,IF([1]!Cell_Color(T36)=[1]!Cell_Color($A$6),3,IF([1]!Cell_Color(T36)=[1]!Cell_Color($A$7),3,IF([1]!Cell_Color(T36)=[1]!Cell_Color($A$8),4,IF([1]!Cell_Color(T36)=[1]!Cell_Color($A$9),4,0))))))))","v":110.83584148395974},{"$f":"(17-U36)*POWER(EXP(1),2*(4-IF([1]!Cell_Color(U36)=[1]!Cell_Color($A$4),1,IF([1]!Cell_Color(U36)=[1]!Cell_Color($A$5),2,IF([1]!Cell_Color(U36)=[1]!Cell_Color($A$6),3,IF([1]!Cell_Color(U36)=[1]!Cell_Color($A$7),3,IF([1]!Cell_Color(U36)=[1]!Cell_Color($A$8),4,IF([1]!Cell_Color(U36)=[1]!Cell_Color($A$9),4,0))))))))","v":118.22489758289039},{"$f":"(17-V36)*POWER(EXP(1),2*(4-IF([1]!Cell_Color(V36)=[1]!Cell_Color($A$4),1,IF([1]!Cell_Color(V36)=[1]!Cell_Color($A$5),2,IF([1]!Cell_Color(V36)=[1]!Cell_Color($A$6),3,IF([1]!Cell_Color(V36)=[1]!Cell_Color($A$7),3,IF([1]!Cell_Color(V36)=[1]!Cell_Color($A$8),4,IF([1]!Cell_Color(V36)=[1]!Cell_Color($A$9),4,0))))))))","v":709.77595043087501}]
[null,null,34,36,2,34,null,34,"Уйпешт",12,16,2,6,3,3,3,5,2,1,14,13,1,null,{"$f":"SUM(AB37:AF37)","v":524.62298302407612},{"$f":"SUM(AD37:AH37)","v":699.91646248602751},{"$f":"SUM(AE37:AI37)","v":729.47268688175018},null,{"$f":"(17-O37)*POWER(EXP(1),2*(4-IF([1]!Cell_Color(O37)=[1]!Cell_Color($A$4),1,IF([1]!Cell_Color(O37)=[1]!Cell_Color($A$5),2,IF([1]!Cell_Color(O37)=[1]!Cell_Color($A$6),3,IF([1]!Cell_Color(O37)=[1]!Cell_Color($A$7),3,IF([1]!Cell_Color(O37)=[1]!Cell_Color($A$8),4,IF([1]!Cell_Color(O37)=[1]!Cell_Color($A$9),4,0))))))))","v":103.44678538502909},{"$f":"(17-P37)*POWER(EXP(1),2*(4-IF([1]!Cell_Color(P37)=[1]!Cell_Color($A$4),1,IF([1]!Cell_Color(P37)=[1]!Cell_Color($A$5),2,IF([1]!Cell_Color(P37)=[1]!Cell_Color($A$6),3,IF([1]!Cell_Color(P37)=[1]!Cell_Color($A$7),3,IF([1]!Cell_Color(P37)=[1]!Cell_Color($A$8),4,IF([1]!Cell_Color(P37)=[1]!Cell_Color($A$9),4,0))))))))","v":103.44678538502909},{"$f":"(17-Q37)*POWER(EXP(1),2*(4-IF([1]!Cell_Color(Q37)=[1]!Cell_Color($A$4),1,IF([1]!Cell_Color(Q37)=[1]!Cell_Color($A$5),2,IF([1]!Cell_Color(Q37)=[1]!Cell_Color($A$6),3,IF([1]!Cell_Color(Q37)=[1]!Cell_Color($A$7),3,IF([1]!Cell_Color(Q37)=[1]!Cell_Color($A$8),4,IF([1]!Cell_Color(Q37)=[1]!Cell_Color($A$9),4,0))))))))","v":88.668673187167798},{"$f":"(17-R37)*POWER(EXP(1),2*(4-IF([1]!Cell_Color(R37)=[1]!Cell_Color($A$4),1,IF([1]!Cell_Color(R37)=[1]!Cell_Color($A$5),2,IF([1]!Cell_Color(R37)=[1]!Cell_Color($A$6),3,IF([1]!Cell_Color(R37)=[1]!Cell_Color($A$7),3,IF([1]!Cell_Color(R37)=[1]!Cell_Color($A$8),4,IF([1]!Cell_Color(R37)=[1]!Cell_Color($A$9),4,0))))))))","v":110.83584148395974},{"$f":"(17-S37)*POWER(EXP(1),2*(4-IF([1]!Cell_Color(S37)=[1]!Cell_Color($A$4),1,IF([1]!Cell_Color(S37)=[1]!Cell_Color($A$5),2,IF([1]!Cell_Color(S37)=[1]!Cell_Color($A$6),3,IF([1]!Cell_Color(S37)=[1]!Cell_Color($A$7),3,IF([1]!Cell_Color(S37)=[1]!Cell_Color($A$8),4,IF([1]!Cell_Color(S37)=[1]!Cell_Color($A$9),4,0))))))))","v":118.22489758289039},{"$f":"(17-T37)*POWER(EXP(1),2*(4-IF([1]!Cell_Color(T37)=[1]!Cell_Color($A$4),1,IF([1]!Cell_Color(T37)=[1]!Cell_Color($A$5),2,IF([1]!Cell_Color(T37)=[1]!Cell_Color($A$6),3,IF([1]!Cell_Color(T37)=[1]!Cell_Color($A$7),3,IF([1]!Cell_Color(T37)=[1]!Cell_Color($A$8),4,IF([1]!Cell_Color(T37)=[1]!Cell_Color($A$9),4,0))))))))","v":163.79445009943268},{"$f":"(17-U37)*POWER(EXP(1),2*(4-IF([1]!Cell_Color(U37)=[1]!Cell_Color($A$4),1,IF([1]!Cell_Color(U37)=[1]!Cell_Color($A$5),2,IF([1]!Cell_Color(U37)=[1]!Cell_Color($A$6),3,IF([1]!Cell_Color(U37)=[1]!Cell_Color($A$7),3,IF([1]!Cell_Color(U37)=[1]!Cell_Color($A$8),4,IF([1]!Cell_Color(U37)=[1]!Cell_Color($A$9),4,0))))))))","v":218.39260013257692},{"$f":"(17-V37)*POWER(EXP(1),2*(4-IF([1]!Cell_Color(V37)=[1]!Cell_Color($A$4),1,IF([1]!Cell_Color(V37)=[1]!Cell_Color($A$5),2,IF([1]!Cell_Color(V37)=[1]!Cell_Color($A$6),3,IF([1]!Cell_Color(V37)=[1]!Cell_Color($A$7),3,IF([1]!Cell_Color(V37)=[1]!Cell_Color($A$8),4,IF([1]!Cell_Color(V37)=[1]!Cell_Color($A$9),4,0))))))))","v":118.22489758289039}]
[null,null,35,40,5,35,null,35,"Пакши",6,2,1,7,15,4,8,7,5,4,10,16,11,null,{"$f":"SUM(AB38:AF38)","v":421.17619763904702},{"$f":"SUM(AD38:AH38)","v":695.40216372772659},{"$f":"SUM(AE38:AI38)","v":665.84593933200392},null,{"$f":"(17-O38)*POWER(EXP(1),2*(4-IF([1]!Cell_Color(O38)=[1]!Cell_Color($A$4),1,IF([1]!Cell_Color(O38)=[1]!Cell_Color($A$5),2,IF([1]!Cell_Color(O38)=[1]!Cell_Color($A$6),3,IF([1]!Cell_Color(O38)=[1]!Cell_Color($A$7),3,IF([1]!Cell_Color(O38)=[1]!Cell_Color($A$8),4,IF([1]!Cell_Color(O38)=[1]!Cell_Color($A$9),4,0))))))))","v":96.05772928609845},{"$f":"(17-P38)*POWER(EXP(1),2*(4-IF([1]!Cell_Color(P38)=[1]!Cell_Color($A$4),1,IF([1]!Cell_Color(P38)=[1]!Cell_Color($A$5),2,IF([1]!Cell_Color(P38)=[1]!Cell_Color($A$6),3,IF([1]!Cell_Color(P38)=[1]!Cell_Color($A$7),3,IF([1]!Cell_Color(P38)=[1]!Cell_Color($A$8),4,IF([1]!Cell_Color(P38)=[1]!Cell_Color($A$9),4,0))))))))","v":66.501504890375841},{"$f":"(17-Q38)*POWER(EXP(1),2*(4-IF([1]!Cell_Color(Q38)=[1]!Cell_Color($A$4),1,IF([1]!Cell_Color(Q38)=[1]!Cell_Color($A$5),2,IF([1]!Cell_Color(Q38)=[1]!Cell_Color($A$6),3,IF([1]!Cell_Color(Q38)=[1]!Cell_Color($A$7),3,IF([1]!Cell_Color(Q38)=[1]!Cell_Color($A$8),4,IF([1]!Cell_Color(Q38)=[1]!Cell_Color($A$9),4,0))))))))","v":73.890560989306493},{"$f":"(17-R38)*POWER(EXP(1),2*(4-IF([1]!Cell_Color(R38)=[1]!Cell_Color($A$4),1,IF([1]!Cell_Color(R38)=[1]!Cell_Color($A$5),2,IF([1]!Cell_Color(R38)=[1]!Cell_Color($A$6),3,IF([1]!Cell_Color(R38)=[1]!Cell_Color($A$7),3,IF([1]!Cell_Color(R38)=[1]!Cell_Color($A$8),4,IF([1]!Cell_Color(R38)=[1]!Cell_Color($A$9),4,0))))))))","v":88.668673187167798},{"$f":"(17-S38)*POWER(EXP(1),2*(4-IF([1]!Cell_Color(S38)=[1]!Cell_Color($A$4),1,IF([1]!Cell_Color(S38)=[1]!Cell_Color($A$5),2,IF([1]!Cell_Color(S38)=[1]!Cell_Color($A$6),3,IF([1]!Cell_Color(S38)=[1]!Cell_Color($A$7),3,IF([1]!Cell_Color(S38)=[1]!Cell_Color($A$8),4,IF([1]!Cell_Color(S38)=[1]!Cell_Color($A$9),4,0))))))))","v":96.05772928609845},{"$f":"(17-T38)*POWER(EXP(1),2*(4-IF([1]!Cell_Color(T38)=[1]!Cell_Color($A$4),1,IF([1]!Cell_Color(T38)=[1]!Cell_Color($A$5),2,IF([1]!Cell_Color(T38)=[1]!Cell_Color($A$6),3,IF([1]!Cell_Color(T38)=[1]!Cell_Color($A$7),3,IF([1]!Cell_Color(T38)=[1]!Cell_Color($A$8),4,IF([1]!Cell_Color(T38)=[1]!Cell_Color($A$9),4,0))))))))","v":382.1870502320096},{"$f":"(17-U38)*POWER(EXP(1),2*(4-IF([1]!Cell_Color(U38)=[1]!Cell_Color($A$4),1,IF([1]!Cell_Color(U38)=[1]!Cell_Color($A$5),2,IF([1]!Cell_Color(U38)=[1]!Cell_Color($A$6),3,IF([1]!Cell_Color(U38)=[1]!Cell_Color($A$7),3,IF([1]!Cell_Color(U38)=[1]!Cell_Color($A$8),4,IF([1]!Cell_Color(U38)=[1]!Cell_Color($A$9),4,0))))))))","v":54.598150033144229},{"$f":"(17-V38)*POWER(EXP(1),2*(4-IF([1]!Cell_Color(V38)=[1]!Cell_Color($A$4),1,IF([1]!Cell_Color(V38)=[1]!Cell_Color($A$5),2,IF([1]!Cell_Color(V38)=[1]!Cell_Color($A$6),3,IF([1]!Cell_Color(V38)=[1]!Cell_Color($A$7),3,IF([1]!Cell_Color(V38)=[1]!Cell_Color($A$8),4,IF([1]!Cell_Color(V38)=[1]!Cell_Color($A$9),4,0))))))))","v":44.334336593583899}]
[null,null,36,32,-4,36,null,36,"Дебрецен",12,11,14,5,2,16,14,1,11,14,14,1,7,null,{"$f":"SUM(AB39:AF39)","v":1176.8314914733562},{"$f":"SUM(AD39:AH39)","v":647.77541617798033},{"$f":"SUM(AE39:AI39)","v":603.44107958439645},null,{"$f":"(17-O39)*POWER(EXP(1),2*(4-IF([1]!Cell_Color(O39)=[1]!Cell_Color($A$4),1,IF([1]!Cell_Color(O39)=[1]!Cell_Color($A$5),2,IF([1]!Cell_Color(O39)=[1]!Cell_Color($A$6),3,IF([1]!Cell_Color(O39)=[1]!Cell_Color($A$7),3,IF([1]!Cell_Color(O39)=[1]!Cell_Color($A$8),4,IF([1]!Cell_Color(O39)=[1]!Cell_Color($A$9),4,0))))))))","v":403.428793492735},{"$f":"(17-P39)*POWER(EXP(1),2*(4-IF([1]!Cell_Color(P39)=[1]!Cell_Color($A$4),1,IF([1]!Cell_Color(P39)=[1]!Cell_Color($A$5),2,IF([1]!Cell_Color(P39)=[1]!Cell_Color($A$6),3,IF([1]!Cell_Color(P39)=[1]!Cell_Color($A$7),3,IF([1]!Cell_Color(P39)=[1]!Cell_Color($A$8),4,IF([1]!Cell_Color(P39)=[1]!Cell_Color($A$9),4,0))))))))","v":163.79445009943268},{"$f":"(17-Q39)*POWER(EXP(1),2*(4-IF([1]!Cell_Color(Q39)=[1]!Cell_Color($A$4),1,IF([1]!Cell_Color(Q39)=[1]!Cell_Color($A$5),2,IF([1]!Cell_Color(Q39)=[1]!Cell_Color($A$6),3,IF([1]!Cell_Color(Q39)=[1]!Cell_Color($A$7),3,IF([1]!Cell_Color(Q39)=[1]!Cell_Color($A$8),4,IF([1]!Cell_Color(Q39)=[1]!Cell_Color($A$9),4,0))))))))","v":118.22489758289039},{"$f":"(17-R39)*POWER(EXP(1),2*(4-IF([1]!Cell_Color(R39)=[1]!Cell_Color($A$4),1,IF([1]!Cell_Color(R39)=[1]!Cell_Color($A$5),2,IF([1]!Cell_Color(R39)=[1]!Cell_Color($A$6),3,IF([1]!Cell_Color(R39)=[1]!Cell_Color($A$7),3,IF([1]!Cell_Color(R39)=[1]!Cell_Color($A$8),4,IF([1]!Cell_Color(R39)=[1]!Cell_Color($A$9),4,0))))))))","v":327.58890019886536},{"$f":"(17-S39)*POWER(EXP(1),2*(4-IF([1]!Cell_Color(S39)=[1]!Cell_Color($A$4),1,IF([1]!Cell_Color(S39)=[1]!Cell_Color($A$5),2,IF([1]!Cell_Color(S39)=[1]!Cell_Color($A$6),3,IF([1]!Cell_Color(S39)=[1]!Cell_Color($A$7),3,IF([1]!Cell_Color(S39)=[1]!Cell_Color($A$8),4,IF([1]!Cell_Color(S39)=[1]!Cell_Color($A$9),4,0))))))))","v":163.79445009943268},{"$f":"(17-T39)*POWER(EXP(1),2*(4-IF([1]!Cell_Color(T39)=[1]!Cell_Color($A$4),1,IF([1]!Cell_Color(T39)=[1]!Cell_Color($A$5),2,IF([1]!Cell_Color(T39)=[1]!Cell_Color($A$6),3,IF([1]!Cell_Color(T39)=[1]!Cell_Color($A$7),3,IF([1]!Cell_Color(T39)=[1]!Cell_Color($A$8),4,IF([1]!Cell_Color(T39)=[1]!Cell_Color($A$9),4,0))))))))","v":22.167168296791949},{"$f":"(17-U39)*POWER(EXP(1),2*(4-IF([1]!Cell_Color(U39)=[1]!Cell_Color($A$4),1,IF([1]!Cell_Color(U39)=[1]!Cell_Color($A$5),2,IF([1]!Cell_Color(U39)=[1]!Cell_Color($A$6),3,IF([1]!Cell_Color(U39)=[1]!Cell_Color($A$7),3,IF([1]!Cell_Color(U39)=[1]!Cell_Color($A$8),4,IF([1]!Cell_Color(U39)=[1]!Cell_Color($A$9),4,0))))))))","v":16},{"$f":"(17-V39)*POWER(EXP(1),2*(4-IF([1]!Cell_Color(V39)=[1]!Cell_Color($A$4),1,IF([1]!Cell_Color(V39)=[1]!Cell_Color($A$5),2,IF([1]!Cell_Color(V39)=[1]!Cell_Color($A$6),3,IF([1]!Cell_Color(V39)=[1]!Cell_Color($A$7),3,IF([1]!Cell_Color(V39)=[1]!Cell_Color($A$8),4,IF([1]!Cell_Color(V39)=[1]!Cell_Color($A$9),4,0))))))))","v":73.890560989306493}]
[null,null,37,27,-10,31,-6,37,"Печи МФК",16,14,1,11,5,14,9,7,12,13,16,13,2,null,{"$f":"SUM(AB40:AF40)","v":1637.9445009943267},{"$f":"SUM(AD40:AH40)","v":1121.5192250586072},{"$f":"SUM(AE40:AI40)","v":590.5377247271648},null,{"$f":"(17-O40)*POWER(EXP(1),2*(4-IF([1]!Cell_Color(O40)=[1]!Cell_Color($A$4),1,IF([1]!Cell_Color(O40)=[1]!Cell_Color($A$5),2,IF([1]!Cell_Color(O40)=[1]!Cell_Color($A$6),3,IF([1]!Cell_Color(O40)=[1]!Cell_Color($A$7),3,IF([1]!Cell_Color(O40)=[1]!Cell_Color($A$8),4,IF([1]!Cell_Color(O40)=[1]!Cell_Color($A$9),4,0))))))))","v":163.79445009943268},{"$f":"(17-P40)*POWER(EXP(1),2*(4-IF([1]!Cell_Color(P40)=[1]!Cell_Color($A$4),1,IF([1]!Cell_Color(P40)=[1]!Cell_Color($A$5),2,IF([1]!Cell_Color(P40)=[1]!Cell_Color($A$6),3,IF([1]!Cell_Color(P40)=[1]!Cell_Color($A$7),3,IF([1]!Cell_Color(P40)=[1]!Cell_Color($A$8),4,IF([1]!Cell_Color(P40)=[1]!Cell_Color($A$9),4,0))))))))","v":436.78520026515383},{"$f":"(17-Q40)*POWER(EXP(1),2*(4-IF([1]!Cell_Color(Q40)=[1]!Cell_Color($A$4),1,IF([1]!Cell_Color(Q40)=[1]!Cell_Color($A$5),2,IF([1]!Cell_Color(Q40)=[1]!Cell_Color($A$6),3,IF([1]!Cell_Color(Q40)=[1]!Cell_Color($A$7),3,IF([1]!Cell_Color(Q40)=[1]!Cell_Color($A$8),4,IF([1]!Cell_Color(Q40)=[1]!Cell_Color($A$9),4,0))))))))","v":545.98150033144225},{"$f":"(17-R40)*POWER(EXP(1),2*(4-IF([1]!Cell_Color(R40)=[1]!Cell_Color($A$4),1,IF([1]!Cell_Color(R40)=[1]!Cell_Color($A$5),2,IF([1]!Cell_Color(R40)=[1]!Cell_Color($A$6),3,IF([1]!Cell_Color(R40)=[1]!Cell_Color($A$7),3,IF([1]!Cell_Color(R40)=[1]!Cell_Color($A$8),4,IF([1]!Cell_Color(R40)=[1]!Cell_Color($A$9),4,0))))))))","v":272.99075016572112},{"$f":"(17-S40)*POWER(EXP(1),2*(4-IF([1]!Cell_Color(S40)=[1]!Cell_Color($A$4),1,IF([1]!Cell_Color(S40)=[1]!Cell_Color($A$5),2,IF([1]!Cell_Color(S40)=[1]!Cell_Color($A$6),3,IF([1]!Cell_Color(S40)=[1]!Cell_Color($A$7),3,IF([1]!Cell_Color(S40)=[1]!Cell_Color($A$8),4,IF([1]!Cell_Color(S40)=[1]!Cell_Color($A$9),4,0))))))))","v":218.39260013257692},{"$f":"(17-T40)*POWER(EXP(1),2*(4-IF([1]!Cell_Color(T40)=[1]!Cell_Color($A$4),1,IF([1]!Cell_Color(T40)=[1]!Cell_Color($A$5),2,IF([1]!Cell_Color(T40)=[1]!Cell_Color($A$6),3,IF([1]!Cell_Color(T40)=[1]!Cell_Color($A$7),3,IF([1]!Cell_Color(T40)=[1]!Cell_Color($A$8),4,IF([1]!Cell_Color(T40)=[1]!Cell_Color($A$9),4,0))))))))","v":54.598150033144229},{"$f":"(17-U40)*POWER(EXP(1),2*(4-IF([1]!Cell_Color(U40)=[1]!Cell_Color($A$4),1,IF([1]!Cell_Color(U40)=[1]!Cell_Color($A$5),2,IF([1]!Cell_Color(U40)=[1]!Cell_Color($A$6),3,IF([1]!Cell_Color(U40)=[1]!Cell_Color($A$7),3,IF([1]!Cell_Color(U40)=[1]!Cell_Color($A$8),4,IF([1]!Cell_Color(U40)=[1]!Cell_Color($A$9),4,0))))))))","v":29.556224395722598},{"$f":"(17-V40)*POWER(EXP(1),2*(4-IF([1]!Cell_Color(V40)=[1]!Cell_Color($A$4),1,IF([1]!Cell_Color(V40)=[1]!Cell_Color($A$5),2,IF([1]!Cell_Color(V40)=[1]!Cell_Color($A$6),3,IF([1]!Cell_Color(V40)=[1]!Cell_Color($A$7),3,IF([1]!Cell_Color(V40)=[1]!Cell_Color($A$8),4,IF([1]!Cell_Color(V40)=[1]!Cell_Color($A$9),4,0))))))))","v":15}]
[null,null,38,39,1,38,null,38,"Алап КСЕ",null,null,3,10,8,13,6,2,14,7,5,4,6,null,{"$f":"SUM(AB41:AF41)","v":459.35669405665868},{"$f":"SUM(AD41:AH41)","v":533.24725504596518},{"$f":"SUM(AE41:AI41)","v":503.69103065024257},null,{"$f":"(17-O41)*POWER(EXP(1),2*(4-IF([1]!Cell_Color(O41)=[1]!Cell_Color($A$4),1,IF([1]!Cell_Color(O41)=[1]!Cell_Color($A$5),2,IF([1]!Cell_Color(O41)=[1]!Cell_Color($A$6),3,IF([1]!Cell_Color(O41)=[1]!Cell_Color($A$7),3,IF([1]!Cell_Color(O41)=[1]!Cell_Color($A$8),4,IF([1]!Cell_Color(O41)=[1]!Cell_Color($A$9),4,0))))))))","v":29.556224395722598},{"$f":"(17-P41)*POWER(EXP(1),2*(4-IF([1]!Cell_Color(P41)=[1]!Cell_Color($A$4),1,IF([1]!Cell_Color(P41)=[1]!Cell_Color($A$5),2,IF([1]!Cell_Color(P41)=[1]!Cell_Color($A$6),3,IF([1]!Cell_Color(P41)=[1]!Cell_Color($A$7),3,IF([1]!Cell_Color(P41)=[1]!Cell_Color($A$8),4,IF([1]!Cell_Color(P41)=[1]!Cell_Color($A$9),4,0))))))))","v":81.279617088237146},{"$f":"(17-Q41)*POWER(EXP(1),2*(4-IF([1]!Cell_Color(Q41)=[1]!Cell_Color($A$4),1,IF([1]!Cell_Color(Q41)=[1]!Cell_Color($A$5),2,IF([1]!Cell_Color(Q41)=[1]!Cell_Color($A$6),3,IF([1]!Cell_Color(Q41)=[1]!Cell_Color($A$7),3,IF([1]!Cell_Color(Q41)=[1]!Cell_Color($A$8),4,IF([1]!Cell_Color(Q41)=[1]!Cell_Color($A$9),4,0))))))))","v":110.83584148395974},{"$f":"(17-R41)*POWER(EXP(1),2*(4-IF([1]!Cell_Color(R41)=[1]!Cell_Color($A$4),1,IF([1]!Cell_Color(R41)=[1]!Cell_Color($A$5),2,IF([1]!Cell_Color(R41)=[1]!Cell_Color($A$6),3,IF([1]!Cell_Color(R41)=[1]!Cell_Color($A$7),3,IF([1]!Cell_Color(R41)=[1]!Cell_Color($A$8),4,IF([1]!Cell_Color(R41)=[1]!Cell_Color($A$9),4,0))))))))","v":163.79445009943268},{"$f":"(17-S41)*POWER(EXP(1),2*(4-IF([1]!Cell_Color(S41)=[1]!Cell_Color($A$4),1,IF([1]!Cell_Color(S41)=[1]!Cell_Color($A$5),2,IF([1]!Cell_Color(S41)=[1]!Cell_Color($A$6),3,IF([1]!Cell_Color(S41)=[1]!Cell_Color($A$7),3,IF([1]!Cell_Color(S41)=[1]!Cell_Color($A$8),4,IF([1]!Cell_Color(S41)=[1]!Cell_Color($A$9),4,0))))))))","v":73.890560989306493},{"$f":"(17-T41)*POWER(EXP(1),2*(4-IF([1]!Cell_Color(T41)=[1]!Cell_Color($A$4),1,IF([1]!Cell_Color(T41)=[1]!Cell_Color($A$5),2,IF([1]!Cell_Color(T41)=[1]!Cell_Color($A$6),3,IF([1]!Cell_Color(T41)=[1]!Cell_Color($A$7),3,IF([1]!Cell_Color(T41)=[1]!Cell_Color($A$8),4,IF([1]!Cell_Color(T41)=[1]!Cell_Color($A$9),4,0))))))))","v":88.668673187167798},{"$f":"(17-U41)*POWER(EXP(1),2*(4-IF([1]!Cell_Color(U41)=[1]!Cell_Color($A$4),1,IF([1]!Cell_Color(U41)=[1]!Cell_Color($A$5),2,IF([1]!Cell_Color(U41)=[1]!Cell_Color($A$6),3,IF([1]!Cell_Color(U41)=[1]!Cell_Color($A$7),3,IF([1]!Cell_Color(U41)=[1]!Cell_Color($A$8),4,IF([1]!Cell_Color(U41)=[1]!Cell_Color($A$9),4,0))))))))","v":96.05772928609845},{"$f":"(17-V41)*POWER(EXP(1),2*(4-IF([1]!Cell_Color(V41)=[1]!Cell_Color($A$4),1,IF([1]!Cell_Color(V41)=[1]!Cell_Color($A$5),2,IF([1]!Cell_Color(V41)=[1]!Cell_Color($A$6),3,IF([1]!Cell_Color(V41)=[1]!Cell_Color($A$7),3,IF([1]!Cell_Color(V41)=[1]!Cell_Color($A$8),4,IF([1]!Cell_Color(V41)=[1]!Cell_Color($A$9),4,0))))))))","v":81.279617088237146}]
[null,null,39,59,20,41,2,39,"Федьвернёк НКСЕ",null,null,6,10,8,12,3,11,7,11,3,2,1,null,{"$f":"SUM(AB42:AF42)","v":181.55923417647426},{"$f":"SUM(AD42:AH42)","v":376.84186104546313},{"$f":"SUM(AE42:AI42)","v":450.73242203476963},null,{"$f":"(17-O42)*POWER(EXP(1),2*(4-IF([1]!Cell_Color(O42)=[1]!Cell_Color($A$4),1,IF([1]!Cell_Color(O42)=[1]!Cell_Color($A$5),2,IF([1]!Cell_Color(O42)=[1]!Cell_Color($A$6),3,IF([1]!Cell_Color(O42)=[1]!Cell_Color($A$7),3,IF([1]!Cell_Color(O42)=[1]!Cell_Color($A$8),4,IF([1]!Cell_Color(O42)=[1]!Cell_Color($A$9),4,0))))))))","v":5},{"$f":"(17-P42)*POWER(EXP(1),2*(4-IF([1]!Cell_Color(P42)=[1]!Cell_Color($A$4),1,IF([1]!Cell_Color(P42)=[1]!Cell_Color($A$5),2,IF([1]!Cell_Color(P42)=[1]!Cell_Color($A$6),3,IF([1]!Cell_Color(P42)=[1]!Cell_Color($A$7),3,IF([1]!Cell_Color(P42)=[1]!Cell_Color($A$8),4,IF([1]!Cell_Color(P42)=[1]!Cell_Color($A$9),4,0))))))))","v":14},{"$f":"(17-Q42)*POWER(EXP(1),2*(4-IF([1]!Cell_Color(Q42)=[1]!Cell_Color($A$4),1,IF([1]!Cell_Color(Q42)=[1]!Cell_Color($A$5),2,IF([1]!Cell_Color(Q42)=[1]!Cell_Color($A$6),3,IF([1]!Cell_Color(Q42)=[1]!Cell_Color($A$7),3,IF([1]!Cell_Color(Q42)=[1]!Cell_Color($A$8),4,IF([1]!Cell_Color(Q42)=[1]!Cell_Color($A$9),4,0))))))))","v":44.334336593583899},{"$f":"(17-R42)*POWER(EXP(1),2*(4-IF([1]!Cell_Color(R42)=[1]!Cell_Color($A$4),1,IF([1]!Cell_Color(R42)=[1]!Cell_Color($A$5),2,IF([1]!Cell_Color(R42)=[1]!Cell_Color($A$6),3,IF([1]!Cell_Color(R42)=[1]!Cell_Color($A$7),3,IF([1]!Cell_Color(R42)=[1]!Cell_Color($A$8),4,IF([1]!Cell_Color(R42)=[1]!Cell_Color($A$9),4,0))))))))","v":73.890560989306493},{"$f":"(17-S42)*POWER(EXP(1),2*(4-IF([1]!Cell_Color(S42)=[1]!Cell_Color($A$4),1,IF([1]!Cell_Color(S42)=[1]!Cell_Color($A$5),2,IF([1]!Cell_Color(S42)=[1]!Cell_Color($A$6),3,IF([1]!Cell_Color(S42)=[1]!Cell_Color($A$7),3,IF([1]!Cell_Color(S42)=[1]!Cell_Color($A$8),4,IF([1]!Cell_Color(S42)=[1]!Cell_Color($A$9),4,0))))))))","v":44.334336593583899},{"$f":"(17-T42)*POWER(EXP(1),2*(4-IF([1]!Cell_Color(T42)=[1]!Cell_Color($A$4),1,IF([1]!Cell_Color(T42)=[1]!Cell_Color($A$5),2,IF([1]!Cell_Color(T42)=[1]!Cell_Color($A$6),3,IF([1]!Cell_Color(T42)=[1]!Cell_Color($A$7),3,IF([1]!Cell_Color(T42)=[1]!Cell_Color($A$8),4,IF([1]!Cell_Color(T42)=[1]!Cell_Color($A$9),4,0))))))))","v":103.44678538502909},{"$f":"(17-U42)*POWER(EXP(1),2*(4-IF([1]!Cell_Color(U42)=[1]!Cell_Color($A$4),1,IF([1]!Cell_Color(U42)=[1]!Cell_Color($A$5),2,IF([1]!Cell_Color(U42)=[1]!Cell_Color($A$6),3,IF([1]!Cell_Color(U42)=[1]!Cell_Color($A$7),3,IF([1]!Cell_Color(U42)=[1]!Cell_Color($A$8),4,IF([1]!Cell_Color(U42)=[1]!Cell_Color($A$9),4,0))))))))","v":110.83584148395974},{"$f":"(17-V42)*POWER(EXP(1),2*(4-IF([1]!Cell_Color(V42)=[1]!Cell_Color($A$4),1,IF([1]!Cell_Color(V42)=[1]!Cell_Color($A$5),2,IF([1]!Cell_Color(V42)=[1]!Cell_Color($A$6),3,IF([1]!Cell_Color(V42)=[1]!Cell_Color($A$7),3,IF([1]!Cell_Color(V42)=[1]!Cell_Color($A$8),4,IF([1]!Cell_Color(V42)=[1]!Cell_Color($A$9),4,0))))))))","v":118.22489758289039}]
[null,null,40,52,12,42,2,40,"Кока Кёжёги СК",null,null,1,12,10,13,4,2,6,4,8,6,2,null,{"$f":"SUM(AB43:AF43)","v":234.8935707700582},{"$f":"SUM(AD43:AH43)","v":340.11846835294858},{"$f":"SUM(AE43:AI43)","v":435.95430983690835},null,{"$f":"(17-O43)*POWER(EXP(1),2*(4-IF([1]!Cell_Color(O43)=[1]!Cell_Color($A$4),1,IF([1]!Cell_Color(O43)=[1]!Cell_Color($A$5),2,IF([1]!Cell_Color(O43)=[1]!Cell_Color($A$6),3,IF([1]!Cell_Color(O43)=[1]!Cell_Color($A$7),3,IF([1]!Cell_Color(O43)=[1]!Cell_Color($A$8),4,IF([1]!Cell_Color(O43)=[1]!Cell_Color($A$9),4,0))))))))","v":29.556224395722598},{"$f":"(17-P43)*POWER(EXP(1),2*(4-IF([1]!Cell_Color(P43)=[1]!Cell_Color($A$4),1,IF([1]!Cell_Color(P43)=[1]!Cell_Color($A$5),2,IF([1]!Cell_Color(P43)=[1]!Cell_Color($A$6),3,IF([1]!Cell_Color(P43)=[1]!Cell_Color($A$7),3,IF([1]!Cell_Color(P43)=[1]!Cell_Color($A$8),4,IF([1]!Cell_Color(P43)=[1]!Cell_Color($A$9),4,0))))))))","v":13},{"$f":"(17-Q43)*POWER(EXP(1),2*(4-IF([1]!Cell_Color(Q43)=[1]!Cell_Color($A$4),1,IF([1]!Cell_Color(Q43)=[1]!Cell_Color($A$5),2,IF([1]!Cell_Color(Q43)=[1]!Cell_Color($A$6),3,IF([1]!Cell_Color(Q43)=[1]!Cell_Color($A$7),3,IF([1]!Cell_Color(Q43)=[1]!Cell_Color($A$8),4,IF([1]!Cell_Color(Q43)=[1]!Cell_Color($A$9),4,0))))))))","v":15},{"$f":"(17-R43)*POWER(EXP(1),2*(4-IF([1]!Cell_Color(R43)=[1]!Cell_Color($A$4),1,IF([1]!Cell_Color(R43)=[1]!Cell_Color($A$5),2,IF([1]!Cell_Color(R43)=[1]!Cell_Color($A$6),3,IF([1]!Cell_Color(R43)=[1]!Cell_Color($A$7),3,IF([1]!Cell_Color(R43)=[1]!Cell_Color($A$8),4,IF([1]!Cell_Color(R43)=[1]!Cell_Color($A$9),4,0))))))))","v":81.279617088237146},{"$f":"(17-S43)*POWER(EXP(1),2*(4-IF([1]!Cell_Color(S43)=[1]!Cell_Color($A$4),1,IF([1]!Cell_Color(S43)=[1]!Cell_Color($A$5),2,IF([1]!Cell_Color(S43)=[1]!Cell_Color($A$6),3,IF([1]!Cell_Color(S43)=[1]!Cell_Color($A$7),3,IF([1]!Cell_Color(S43)=[1]!Cell_Color($A$8),4,IF([1]!Cell_Color(S43)=[1]!Cell_Color($A$9),4,0))))))))","v":96.05772928609845},{"$f":"(17-T43)*POWER(EXP(1),2*(4-IF([1]!Cell_Color(T43)=[1]!Cell_Color($A$4),1,IF([1]!Cell_Color(T43)=[1]!Cell_Color($A$5),2,IF([1]!Cell_Color(T43)=[1]!Cell_Color($A$6),3,IF([1]!Cell_Color(T43)=[1]!Cell_Color($A$7),3,IF([1]!Cell_Color(T43)=[1]!Cell_Color($A$8),4,IF([1]!Cell_Color(T43)=[1]!Cell_Color($A$9),4,0))))))))","v":66.501504890375841},{"$f":"(17-U43)*POWER(EXP(1),2*(4-IF([1]!Cell_Color(U43)=[1]!Cell_Color($A$4),1,IF([1]!Cell_Color(U43)=[1]!Cell_Color($A$5),2,IF([1]!Cell_Color(U43)=[1]!Cell_Color($A$6),3,IF([1]!Cell_Color(U43)=[1]!Cell_Color($A$7),3,IF([1]!Cell_Color(U43)=[1]!Cell_Color($A$8),4,IF([1]!Cell_Color(U43)=[1]!Cell_Color($A$9),4,0))))))))","v":81.279617088237146},{"$f":"(17-V43)*POWER(EXP(1),2*(4-IF([1]!Cell_Color(V43)=[1]!Cell_Color($A$4),1,IF([1]!Cell_Color(V43)=[1]!Cell_Color($A$5),2,IF([1]!Cell_Color(V43)=[1]!Cell_Color($A$6),3,IF([1]!Cell_Color(V43)=[1]!Cell_Color($A$7),3,IF([1]!Cell_Color(V43)=[1]!Cell_Color($A$8),4,IF([1]!Cell_Color(V43)=[1]!Cell_Color($A$9),4,0))))))))","v":110.83584148395974}]
[null,null,41,55,14,45,4,41,"Шорокшар СК",null,null,8,2,11,14,3,12,7,7,10,4,4,null,{"$f":"SUM(AB44:AF44)","v":220.89357077005818},{"$f":"SUM(AD44:AH44)","v":332.50752445187925},{"$f":"SUM(AE44:AI44)","v":391.61997324332441},null,{"$f":"(17-O44)*POWER(EXP(1),2*(4-IF([1]!Cell_Color(O44)=[1]!Cell_Color($A$4),1,IF([1]!Cell_Color(O44)=[1]!Cell_Color($A$5),2,IF([1]!Cell_Color(O44)=[1]!Cell_Color($A$6),3,IF([1]!Cell_Color(O44)=[1]!Cell_Color($A$7),3,IF([1]!Cell_Color(O44)=[1]!Cell_Color($A$8),4,IF([1]!Cell_Color(O44)=[1]!Cell_Color($A$9),4,0))))))))","v":22.167168296791949},{"$f":"(17-P44)*POWER(EXP(1),2*(4-IF([1]!Cell_Color(P44)=[1]!Cell_Color($A$4),1,IF([1]!Cell_Color(P44)=[1]!Cell_Color($A$5),2,IF([1]!Cell_Color(P44)=[1]!Cell_Color($A$6),3,IF([1]!Cell_Color(P44)=[1]!Cell_Color($A$7),3,IF([1]!Cell_Color(P44)=[1]!Cell_Color($A$8),4,IF([1]!Cell_Color(P44)=[1]!Cell_Color($A$9),4,0))))))))","v":14},{"$f":"(17-Q44)*POWER(EXP(1),2*(4-IF([1]!Cell_Color(Q44)=[1]!Cell_Color($A$4),1,IF([1]!Cell_Color(Q44)=[1]!Cell_Color($A$5),2,IF([1]!Cell_Color(Q44)=[1]!Cell_Color($A$6),3,IF([1]!Cell_Color(Q44)=[1]!Cell_Color($A$7),3,IF([1]!Cell_Color(Q44)=[1]!Cell_Color($A$8),4,IF([1]!Cell_Color(Q44)=[1]!Cell_Color($A$9),4,0))))))))","v":36.945280494653247},{"$f":"(17-R44)*POWER(EXP(1),2*(4-IF([1]!Cell_Color(R44)=[1]!Cell_Color($A$4),1,IF([1]!Cell_Color(R44)=[1]!Cell_Color($A$5),2,IF([1]!Cell_Color(R44)=[1]!Cell_Color($A$6),3,IF([1]!Cell_Color(R44)=[1]!Cell_Color($A$7),3,IF([1]!Cell_Color(R44)=[1]!Cell_Color($A$8),4,IF([1]!Cell_Color(R44)=[1]!Cell_Color($A$9),4,0))))))))","v":73.890560989306493},{"$f":"(17-S44)*POWER(EXP(1),2*(4-IF([1]!Cell_Color(S44)=[1]!Cell_Color($A$4),1,IF([1]!Cell_Color(S44)=[1]!Cell_Color($A$5),2,IF([1]!Cell_Color(S44)=[1]!Cell_Color($A$6),3,IF([1]!Cell_Color(S44)=[1]!Cell_Color($A$7),3,IF([1]!Cell_Color(S44)=[1]!Cell_Color($A$8),4,IF([1]!Cell_Color(S44)=[1]!Cell_Color($A$9),4,0))))))))","v":73.890560989306493},{"$f":"(17-T44)*POWER(EXP(1),2*(4-IF([1]!Cell_Color(T44)=[1]!Cell_Color($A$4),1,IF([1]!Cell_Color(T44)=[1]!Cell_Color($A$5),2,IF([1]!Cell_Color(T44)=[1]!Cell_Color($A$6),3,IF([1]!Cell_Color(T44)=[1]!Cell_Color($A$7),3,IF([1]!Cell_Color(T44)=[1]!Cell_Color($A$8),4,IF([1]!Cell_Color(T44)=[1]!Cell_Color($A$9),4,0))))))))","v":51.723392692514544},{"$f":"(17-U44)*POWER(EXP(1),2*(4-IF([1]!Cell_Color(U44)=[1]!Cell_Color($A$4),1,IF([1]!Cell_Color(U44)=[1]!Cell_Color($A$5),2,IF([1]!Cell_Color(U44)=[1]!Cell_Color($A$6),3,IF([1]!Cell_Color(U44)=[1]!Cell_Color($A$7),3,IF([1]!Cell_Color(U44)=[1]!Cell_Color($A$8),4,IF([1]!Cell_Color(U44)=[1]!Cell_Color($A$9),4,0))))))))","v":96.05772928609845},{"$f":"(17-V44)*POWER(EXP(1),2*(4-IF([1]!Cell_Color(V44)=[1]!Cell_Color($A$4),1,IF([1]!Cell_Color(V44)=[1]!Cell_Color($A$5),2,IF([1]!Cell_Color(V44)=[1]!Cell_Color($A$6),3,IF([1]!Cell_Color(V44)=[1]!Cell_Color($A$7),3,IF([1]!Cell_Color(V44)=[1]!Cell_Color($A$8),4,IF([1]!Cell_Color(V44)=[1]!Cell_Color($A$9),4,0))))))))","v":96.05772928609845}]
[null,null,42,31,-11,37,-5,42,"БВСК-Зугло",6,4,8,2,9,8,10,13,1,16,5,5,14,null,{"$f":"SUM(AB45:AF45)","v":1264.7860482789192},{"$f":"SUM(AD45:AH45)","v":568.5529941229471},{"$f":"SUM(AE45:AI45)","v":372.3275622871621},null,{"$f":"(17-O45)*POWER(EXP(1),2*(4-IF([1]!Cell_Color(O45)=[1]!Cell_Color($A$4),1,IF([1]!Cell_Color(O45)=[1]!Cell_Color($A$5),2,IF([1]!Cell_Color(O45)=[1]!Cell_Color($A$6),3,IF([1]!Cell_Color(O45)=[1]!Cell_Color($A$7),3,IF([1]!Cell_Color(O45)=[1]!Cell_Color($A$8),4,IF([1]!Cell_Color(O45)=[1]!Cell_Color($A$9),4,0))))))))","v":491.38335029829807},{"$f":"(17-P45)*POWER(EXP(1),2*(4-IF([1]!Cell_Color(P45)=[1]!Cell_Color($A$4),1,IF([1]!Cell_Color(P45)=[1]!Cell_Color($A$5),2,IF([1]!Cell_Color(P45)=[1]!Cell_Color($A$6),3,IF([1]!Cell_Color(P45)=[1]!Cell_Color($A$7),3,IF([1]!Cell_Color(P45)=[1]!Cell_Color($A$8),4,IF([1]!Cell_Color(P45)=[1]!Cell_Color($A$9),4,0))))))))","v":382.1870502320096},{"$f":"(17-Q45)*POWER(EXP(1),2*(4-IF([1]!Cell_Color(Q45)=[1]!Cell_Color($A$4),1,IF([1]!Cell_Color(Q45)=[1]!Cell_Color($A$5),2,IF([1]!Cell_Color(Q45)=[1]!Cell_Color($A$6),3,IF([1]!Cell_Color(Q45)=[1]!Cell_Color($A$7),3,IF([1]!Cell_Color(Q45)=[1]!Cell_Color($A$8),4,IF([1]!Cell_Color(Q45)=[1]!Cell_Color($A$9),4,0))))))))","v":218.39260013257692},{"$f":"(17-R45)*POWER(EXP(1),2*(4-IF([1]!Cell_Color(R45)=[1]!Cell_Color($A$4),1,IF([1]!Cell_Color(R45)=[1]!Cell_Color($A$5),2,IF([1]!Cell_Color(R45)=[1]!Cell_Color($A$6),3,IF([1]!Cell_Color(R45)=[1]!Cell_Color($A$7),3,IF([1]!Cell_Color(R45)=[1]!Cell_Color($A$8),4,IF([1]!Cell_Color(R45)=[1]!Cell_Color($A$9),4,0))))))))","v":118.22489758289039},{"$f":"(17-S45)*POWER(EXP(1),2*(4-IF([1]!Cell_Color(S45)=[1]!Cell_Color($A$4),1,IF([1]!Cell_Color(S45)=[1]!Cell_Color($A$5),2,IF([1]!Cell_Color(S45)=[1]!Cell_Color($A$6),3,IF([1]!Cell_Color(S45)=[1]!Cell_Color($A$7),3,IF([1]!Cell_Color(S45)=[1]!Cell_Color($A$8),4,IF([1]!Cell_Color(S45)=[1]!Cell_Color($A$9),4,0))))))))","v":54.598150033144229},{"$f":"(17-T45)*POWER(EXP(1),2*(4-IF([1]!Cell_Color(T45)=[1]!Cell_Color($A$4),1,IF([1]!Cell_Color(T45)=[1]!Cell_Color($A$5),2,IF([1]!Cell_Color(T45)=[1]!Cell_Color($A$6),3,IF([1]!Cell_Color(T45)=[1]!Cell_Color($A$7),3,IF([1]!Cell_Color(T45)=[1]!Cell_Color($A$8),4,IF([1]!Cell_Color(T45)=[1]!Cell_Color($A$9),4,0))))))))","v":88.668673187167798},{"$f":"(17-U45)*POWER(EXP(1),2*(4-IF([1]!Cell_Color(U45)=[1]!Cell_Color($A$4),1,IF([1]!Cell_Color(U45)=[1]!Cell_Color($A$5),2,IF([1]!Cell_Color(U45)=[1]!Cell_Color($A$6),3,IF([1]!Cell_Color(U45)=[1]!Cell_Color($A$7),3,IF([1]!Cell_Color(U45)=[1]!Cell_Color($A$8),4,IF([1]!Cell_Color(U45)=[1]!Cell_Color($A$9),4,0))))))))","v":88.668673187167798},{"$f":"(17-V45)*POWER(EXP(1),2*(4-IF([1]!Cell_Color(V45)=[1]!Cell_Color($A$4),1,IF([1]!Cell_Color(V45)=[1]!Cell_Color($A$5),2,IF([1]!Cell_Color(V45)=[1]!Cell_Color($A$6),3,IF([1]!Cell_Color(V45)=[1]!Cell_Color($A$7),3,IF([1]!Cell_Color(V45)=[1]!Cell_Color($A$8),4,IF([1]!Cell_Color(V45)=[1]!Cell_Color($A$9),4,0))))))))","v":22.167168296791949}]
[null,null,43,48,5,44,1,43,"Вашаш СК",15,4,4,11,4,10,11,5,9,5,9,12,5,null,{"$f":"SUM(AB46:AF46)","v":332.50752445187925},{"$f":"SUM(AD46:AH46)","v":332.50752445187925},{"$f":"SUM(AE46:AI46)","v":332.50752445187925},null,{"$f":"(17-O46)*POWER(EXP(1),2*(4-IF([1]!Cell_Color(O46)=[1]!Cell_Color($A$4),1,IF([1]!Cell_Color(O46)=[1]!Cell_Color($A$5),2,IF([1]!Cell_Color(O46)=[1]!Cell_Color($A$6),3,IF([1]!Cell_Color(O46)=[1]!Cell_Color($A$7),3,IF([1]!Cell_Color(O46)=[1]!Cell_Color($A$8),4,IF([1]!Cell_Color(O46)=[1]!Cell_Color($A$9),4,0))))))))","v":51.723392692514544},{"$f":"(17-P46)*POWER(EXP(1),2*(4-IF([1]!Cell_Color(P46)=[1]!Cell_Color($A$4),1,IF([1]!Cell_Color(P46)=[1]!Cell_Color($A$5),2,IF([1]!Cell_Color(P46)=[1]!Cell_Color($A$6),3,IF([1]!Cell_Color(P46)=[1]!Cell_Color($A$7),3,IF([1]!Cell_Color(P46)=[1]!Cell_Color($A$8),4,IF([1]!Cell_Color(P46)=[1]!Cell_Color($A$9),4,0))))))))","v":44.334336593583899},{"$f":"(17-Q46)*POWER(EXP(1),2*(4-IF([1]!Cell_Color(Q46)=[1]!Cell_Color($A$4),1,IF([1]!Cell_Color(Q46)=[1]!Cell_Color($A$5),2,IF([1]!Cell_Color(Q46)=[1]!Cell_Color($A$6),3,IF([1]!Cell_Color(Q46)=[1]!Cell_Color($A$7),3,IF([1]!Cell_Color(Q46)=[1]!Cell_Color($A$8),4,IF([1]!Cell_Color(Q46)=[1]!Cell_Color($A$9),4,0))))))))","v":88.668673187167798},{"$f":"(17-R46)*POWER(EXP(1),2*(4-IF([1]!Cell_Color(R46)=[1]!Cell_Color($A$4),1,IF([1]!Cell_Color(R46)=[1]!Cell_Color($A$5),2,IF([1]!Cell_Color(R46)=[1]!Cell_Color($A$6),3,IF([1]!Cell_Color(R46)=[1]!Cell_Color($A$7),3,IF([1]!Cell_Color(R46)=[1]!Cell_Color($A$8),4,IF([1]!Cell_Color(R46)=[1]!Cell_Color($A$9),4,0))))))))","v":59.112448791445196},{"$f":"(17-S46)*POWER(EXP(1),2*(4-IF([1]!Cell_Color(S46)=[1]!Cell_Color($A$4),1,IF([1]!Cell_Color(S46)=[1]!Cell_Color($A$5),2,IF([1]!Cell_Color(S46)=[1]!Cell_Color($A$6),3,IF([1]!Cell_Color(S46)=[1]!Cell_Color($A$7),3,IF([1]!Cell_Color(S46)=[1]!Cell_Color($A$8),4,IF([1]!Cell_Color(S46)=[1]!Cell_Color($A$9),4,0))))))))","v":88.668673187167798},{"$f":"(17-T46)*POWER(EXP(1),2*(4-IF([1]!Cell_Color(T46)=[1]!Cell_Color($A$4),1,IF([1]!Cell_Color(T46)=[1]!Cell_Color($A$5),2,IF([1]!Cell_Color(T46)=[1]!Cell_Color($A$6),3,IF([1]!Cell_Color(T46)=[1]!Cell_Color($A$7),3,IF([1]!Cell_Color(T46)=[1]!Cell_Color($A$8),4,IF([1]!Cell_Color(T46)=[1]!Cell_Color($A$9),4,0))))))))","v":59.112448791445196},{"$f":"(17-U46)*POWER(EXP(1),2*(4-IF([1]!Cell_Color(U46)=[1]!Cell_Color($A$4),1,IF([1]!Cell_Color(U46)=[1]!Cell_Color($A$5),2,IF([1]!Cell_Color(U46)=[1]!Cell_Color($A$6),3,IF([1]!Cell_Color(U46)=[1]!Cell_Color($A$7),3,IF([1]!Cell_Color(U46)=[1]!Cell_Color($A$8),4,IF([1]!Cell_Color(U46)=[1]!Cell_Color($A$9),4,0))))))))","v":36.945280494653247},{"$f":"(17-V46)*POWER(EXP(1),2*(4-IF([1]!Cell_Color(V46)=[1]!Cell_Color($A$4),1,IF([1]!Cell_Color(V46)=[1]!Cell_Color($A$5),2,IF([1]!Cell_Color(V46)=[1]!Cell_Color($A$6),3,IF([1]!Cell_Color(V46)=[1]!Cell_Color($A$7),3,IF([1]!Cell_Color(V46)=[1]!Cell_Color($A$8),4,IF([1]!Cell_Color(V46)=[1]!Cell_Color($A$9),4,0))))))))","v":88.668673187167798}]
[null,null,44,63,19,48,4,44,"Надьката СЕ",null,null,5,9,12,11,12,3,4,6,4,7,8,null,{"$f":"SUM(AB47:AF47)","v":119.27961708823715},{"$f":"SUM(AD47:AH47)","v":278.22790736364209},{"$f":"SUM(AE47:AI47)","v":330.72941225401792},null,{"$f":"(17-O47)*POWER(EXP(1),2*(4-IF([1]!Cell_Color(O47)=[1]!Cell_Color($A$4),1,IF([1]!Cell_Color(O47)=[1]!Cell_Color($A$5),2,IF([1]!Cell_Color(O47)=[1]!Cell_Color($A$6),3,IF([1]!Cell_Color(O47)=[1]!Cell_Color($A$7),3,IF([1]!Cell_Color(O47)=[1]!Cell_Color($A$8),4,IF([1]!Cell_Color(O47)=[1]!Cell_Color($A$9),4,0))))))))","v":6},{"$f":"(17-P47)*POWER(EXP(1),2*(4-IF([1]!Cell_Color(P47)=[1]!Cell_Color($A$4),1,IF([1]!Cell_Color(P47)=[1]!Cell_Color($A$5),2,IF([1]!Cell_Color(P47)=[1]!Cell_Color($A$6),3,IF([1]!Cell_Color(P47)=[1]!Cell_Color($A$7),3,IF([1]!Cell_Color(P47)=[1]!Cell_Color($A$8),4,IF([1]!Cell_Color(P47)=[1]!Cell_Color($A$9),4,0))))))))","v":5},{"$f":"(17-Q47)*POWER(EXP(1),2*(4-IF([1]!Cell_Color(Q47)=[1]!Cell_Color($A$4),1,IF([1]!Cell_Color(Q47)=[1]!Cell_Color($A$5),2,IF([1]!Cell_Color(Q47)=[1]!Cell_Color($A$6),3,IF([1]!Cell_Color(Q47)=[1]!Cell_Color($A$7),3,IF([1]!Cell_Color(Q47)=[1]!Cell_Color($A$8),4,IF([1]!Cell_Color(Q47)=[1]!Cell_Color($A$9),4,0))))))))","v":14},{"$f":"(17-R47)*POWER(EXP(1),2*(4-IF([1]!Cell_Color(R47)=[1]!Cell_Color($A$4),1,IF([1]!Cell_Color(R47)=[1]!Cell_Color($A$5),2,IF([1]!Cell_Color(R47)=[1]!Cell_Color($A$6),3,IF([1]!Cell_Color(R47)=[1]!Cell_Color($A$7),3,IF([1]!Cell_Color(R47)=[1]!Cell_Color($A$8),4,IF([1]!Cell_Color(R47)=[1]!Cell_Color($A$9),4,0))))))))","v":13},{"$f":"(17-S47)*POWER(EXP(1),2*(4-IF([1]!Cell_Color(S47)=[1]!Cell_Color($A$4),1,IF([1]!Cell_Color(S47)=[1]!Cell_Color($A$5),2,IF([1]!Cell_Color(S47)=[1]!Cell_Color($A$6),3,IF([1]!Cell_Color(S47)=[1]!Cell_Color($A$7),3,IF([1]!Cell_Color(S47)=[1]!Cell_Color($A$8),4,IF([1]!Cell_Color(S47)=[1]!Cell_Color($A$9),4,0))))))))","v":81.279617088237146},{"$f":"(17-T47)*POWER(EXP(1),2*(4-IF([1]!Cell_Color(T47)=[1]!Cell_Color($A$4),1,IF([1]!Cell_Color(T47)=[1]!Cell_Color($A$5),2,IF([1]!Cell_Color(T47)=[1]!Cell_Color($A$6),3,IF([1]!Cell_Color(T47)=[1]!Cell_Color($A$7),3,IF([1]!Cell_Color(T47)=[1]!Cell_Color($A$8),4,IF([1]!Cell_Color(T47)=[1]!Cell_Color($A$9),4,0))))))))","v":96.05772928609845},{"$f":"(17-U47)*POWER(EXP(1),2*(4-IF([1]!Cell_Color(U47)=[1]!Cell_Color($A$4),1,IF([1]!Cell_Color(U47)=[1]!Cell_Color($A$5),2,IF([1]!Cell_Color(U47)=[1]!Cell_Color($A$6),3,IF([1]!Cell_Color(U47)=[1]!Cell_Color($A$7),3,IF([1]!Cell_Color(U47)=[1]!Cell_Color($A$8),4,IF([1]!Cell_Color(U47)=[1]!Cell_Color($A$9),4,0))))))))","v":73.890560989306493},{"$f":"(17-V47)*POWER(EXP(1),2*(4-IF([1]!Cell_Color(V47)=[1]!Cell_Color($A$4),1,IF([1]!Cell_Color(V47)=[1]!Cell_Color($A$5),2,IF([1]!Cell_Color(V47)=[1]!Cell_Color($A$6),3,IF([1]!Cell_Color(V47)=[1]!Cell_Color($A$7),3,IF([1]!Cell_Color(V47)=[1]!Cell_Color($A$8),4,IF([1]!Cell_Color(V47)=[1]!Cell_Color($A$9),4,0))))))))","v":66.501504890375841}]
[null,null,45,45,null,50,5,45,"Путнок",5,1,12,15,2,5,1,16,12,10,11,8,2,null,{"$f":"SUM(AB48:AF48)","v":350.16039399037021},{"$f":"SUM(AD48:AH48)","v":254.10266470427177},{"$f":"SUM(AE48:AI48)","v":310.34035615508731},null,{"$f":"(17-O48)*POWER(EXP(1),2*(4-IF([1]!Cell_Color(O48)=[1]!Cell_Color($A$4),1,IF([1]!Cell_Color(O48)=[1]!Cell_Color($A$5),2,IF([1]!Cell_Color(O48)=[1]!Cell_Color($A$6),3,IF([1]!Cell_Color(O48)=[1]!Cell_Color($A$7),3,IF([1]!Cell_Color(O48)=[1]!Cell_Color($A$8),4,IF([1]!Cell_Color(O48)=[1]!Cell_Color($A$9),4,0))))))))","v":88.668673187167798},{"$f":"(17-P48)*POWER(EXP(1),2*(4-IF([1]!Cell_Color(P48)=[1]!Cell_Color($A$4),1,IF([1]!Cell_Color(P48)=[1]!Cell_Color($A$5),2,IF([1]!Cell_Color(P48)=[1]!Cell_Color($A$6),3,IF([1]!Cell_Color(P48)=[1]!Cell_Color($A$7),3,IF([1]!Cell_Color(P48)=[1]!Cell_Color($A$8),4,IF([1]!Cell_Color(P48)=[1]!Cell_Color($A$9),4,0))))))))","v":118.22489758289039},{"$f":"(17-Q48)*POWER(EXP(1),2*(4-IF([1]!Cell_Color(Q48)=[1]!Cell_Color($A$4),1,IF([1]!Cell_Color(Q48)=[1]!Cell_Color($A$5),2,IF([1]!Cell_Color(Q48)=[1]!Cell_Color($A$6),3,IF([1]!Cell_Color(Q48)=[1]!Cell_Color($A$7),3,IF([1]!Cell_Color(Q48)=[1]!Cell_Color($A$8),4,IF([1]!Cell_Color(Q48)=[1]!Cell_Color($A$9),4,0))))))))","v":54.598150033144229},{"$f":"(17-R48)*POWER(EXP(1),2*(4-IF([1]!Cell_Color(R48)=[1]!Cell_Color($A$4),1,IF([1]!Cell_Color(R48)=[1]!Cell_Color($A$5),2,IF([1]!Cell_Color(R48)=[1]!Cell_Color($A$6),3,IF([1]!Cell_Color(R48)=[1]!Cell_Color($A$7),3,IF([1]!Cell_Color(R48)=[1]!Cell_Color($A$8),4,IF([1]!Cell_Color(R48)=[1]!Cell_Color($A$9),4,0))))))))","v":36.945280494653247},{"$f":"(17-S48)*POWER(EXP(1),2*(4-IF([1]!Cell_Color(S48)=[1]!Cell_Color($A$4),1,IF([1]!Cell_Color(S48)=[1]!Cell_Color($A$5),2,IF([1]!Cell_Color(S48)=[1]!Cell_Color($A$6),3,IF([1]!Cell_Color(S48)=[1]!Cell_Color($A$7),3,IF([1]!Cell_Color(S48)=[1]!Cell_Color($A$8),4,IF([1]!Cell_Color(S48)=[1]!Cell_Color($A$9),4,0))))))))","v":51.723392692514544},{"$f":"(17-T48)*POWER(EXP(1),2*(4-IF([1]!Cell_Color(T48)=[1]!Cell_Color($A$4),1,IF([1]!Cell_Color(T48)=[1]!Cell_Color($A$5),2,IF([1]!Cell_Color(T48)=[1]!Cell_Color($A$6),3,IF([1]!Cell_Color(T48)=[1]!Cell_Color($A$7),3,IF([1]!Cell_Color(T48)=[1]!Cell_Color($A$8),4,IF([1]!Cell_Color(T48)=[1]!Cell_Color($A$9),4,0))))))))","v":44.334336593583899},{"$f":"(17-U48)*POWER(EXP(1),2*(4-IF([1]!Cell_Color(U48)=[1]!Cell_Color($A$4),1,IF([1]!Cell_Color(U48)=[1]!Cell_Color($A$5),2,IF([1]!Cell_Color(U48)=[1]!Cell_Color($A$6),3,IF([1]!Cell_Color(U48)=[1]!Cell_Color($A$7),3,IF([1]!Cell_Color(U48)=[1]!Cell_Color($A$8),4,IF([1]!Cell_Color(U48)=[1]!Cell_Color($A$9),4,0))))))))","v":66.501504890375841},{"$f":"(17-V48)*POWER(EXP(1),2*(4-IF([1]!Cell_Color(V48)=[1]!Cell_Color($A$4),1,IF([1]!Cell_Color(V48)=[1]!Cell_Color($A$5),2,IF([1]!Cell_Color(V48)=[1]!Cell_Color($A$6),3,IF([1]!Cell_Color(V48)=[1]!Cell_Color($A$7),3,IF([1]!Cell_Color(V48)=[1]!Cell_Color($A$8),4,IF([1]!Cell_Color(V48)=[1]!Cell_Color($A$9),4,0))))))))","v":110.83584148395974}]
[null,null,46,76,30,49,3,46,"Солошкерт Надьред СК",null,null,13,14,10,6,4,2,15,2,3,2,10,null,{"$f":"SUM(AB49:AF49)","v":68.778112197861304},{"$f":"SUM(AD49:AH49)","v":259.06073906685015},{"$f":"SUM(AE49:AI49)","v":295.78413175936464},null,{"$f":"(17-O49)*POWER(EXP(1),2*(4-IF([1]!Cell_Color(O49)=[1]!Cell_Color($A$4),1,IF([1]!Cell_Color(O49)=[1]!Cell_Color($A$5),2,IF([1]!Cell_Color(O49)=[1]!Cell_Color($A$6),3,IF([1]!Cell_Color(O49)=[1]!Cell_Color($A$7),3,IF([1]!Cell_Color(O49)=[1]!Cell_Color($A$8),4,IF([1]!Cell_Color(O49)=[1]!Cell_Color($A$9),4,0))))))))","v":11},{"$f":"(17-P49)*POWER(EXP(1),2*(4-IF([1]!Cell_Color(P49)=[1]!Cell_Color($A$4),1,IF([1]!Cell_Color(P49)=[1]!Cell_Color($A$5),2,IF([1]!Cell_Color(P49)=[1]!Cell_Color($A$6),3,IF([1]!Cell_Color(P49)=[1]!Cell_Color($A$7),3,IF([1]!Cell_Color(P49)=[1]!Cell_Color($A$8),4,IF([1]!Cell_Color(P49)=[1]!Cell_Color($A$9),4,0))))))))","v":13},{"$f":"(17-Q49)*POWER(EXP(1),2*(4-IF([1]!Cell_Color(Q49)=[1]!Cell_Color($A$4),1,IF([1]!Cell_Color(Q49)=[1]!Cell_Color($A$5),2,IF([1]!Cell_Color(Q49)=[1]!Cell_Color($A$6),3,IF([1]!Cell_Color(Q49)=[1]!Cell_Color($A$7),3,IF([1]!Cell_Color(Q49)=[1]!Cell_Color($A$8),4,IF([1]!Cell_Color(Q49)=[1]!Cell_Color($A$9),4,0))))))))","v":15},{"$f":"(17-R49)*POWER(EXP(1),2*(4-IF([1]!Cell_Color(R49)=[1]!Cell_Color($A$4),1,IF([1]!Cell_Color(R49)=[1]!Cell_Color($A$5),2,IF([1]!Cell_Color(R49)=[1]!Cell_Color($A$6),3,IF([1]!Cell_Color(R49)=[1]!Cell_Color($A$7),3,IF([1]!Cell_Color(R49)=[1]!Cell_Color($A$8),4,IF([1]!Cell_Color(R49)=[1]!Cell_Color($A$9),4,0))))))))","v":14.778112197861299},{"$f":"(17-S49)*POWER(EXP(1),2*(4-IF([1]!Cell_Color(S49)=[1]!Cell_Color($A$4),1,IF([1]!Cell_Color(S49)=[1]!Cell_Color($A$5),2,IF([1]!Cell_Color(S49)=[1]!Cell_Color($A$6),3,IF([1]!Cell_Color(S49)=[1]!Cell_Color($A$7),3,IF([1]!Cell_Color(S49)=[1]!Cell_Color($A$8),4,IF([1]!Cell_Color(S49)=[1]!Cell_Color($A$9),4,0))))))))","v":15},{"$f":"(17-T49)*POWER(EXP(1),2*(4-IF([1]!Cell_Color(T49)=[1]!Cell_Color($A$4),1,IF([1]!Cell_Color(T49)=[1]!Cell_Color($A$5),2,IF([1]!Cell_Color(T49)=[1]!Cell_Color($A$6),3,IF([1]!Cell_Color(T49)=[1]!Cell_Color($A$7),3,IF([1]!Cell_Color(T49)=[1]!Cell_Color($A$8),4,IF([1]!Cell_Color(T49)=[1]!Cell_Color($A$9),4,0))))))))","v":103.44678538502909},{"$f":"(17-U49)*POWER(EXP(1),2*(4-IF([1]!Cell_Color(U49)=[1]!Cell_Color($A$4),1,IF([1]!Cell_Color(U49)=[1]!Cell_Color($A$5),2,IF([1]!Cell_Color(U49)=[1]!Cell_Color($A$6),3,IF([1]!Cell_Color(U49)=[1]!Cell_Color($A$7),3,IF([1]!Cell_Color(U49)=[1]!Cell_Color($A$8),4,IF([1]!Cell_Color(U49)=[1]!Cell_Color($A$9),4,0))))))))","v":110.83584148395974},{"$f":"(17-V49)*POWER(EXP(1),2*(4-IF([1]!Cell_Color(V49)=[1]!Cell_Color($A$4),1,IF([1]!Cell_Color(V49)=[1]!Cell_Color($A$5),2,IF([1]!Cell_Color(V49)=[1]!Cell_Color($A$6),3,IF([1]!Cell_Color(V49)=[1]!Cell_Color($A$7),3,IF([1]!Cell_Color(V49)=[1]!Cell_Color($A$8),4,IF([1]!Cell_Color(V49)=[1]!Cell_Color($A$9),4,0))))))))","v":51.723392692514544}]
[null,null,47,65,18,57,10,47,"Буч КСК",null,null,4,12,15,16,6,1,10,13,2,5,6,null,{"$f":"SUM(AB50:AF50)","v":109.27961708823715},{"$f":"SUM(AD50:AH50)","v":200.94829027540493},{"$f":"SUM(AE50:AI50)","v":266.22790736364209},null,{"$f":"(17-O50)*POWER(EXP(1),2*(4-IF([1]!Cell_Color(O50)=[1]!Cell_Color($A$4),1,IF([1]!Cell_Color(O50)=[1]!Cell_Color($A$5),2,IF([1]!Cell_Color(O50)=[1]!Cell_Color($A$6),3,IF([1]!Cell_Color(O50)=[1]!Cell_Color($A$7),3,IF([1]!Cell_Color(O50)=[1]!Cell_Color($A$8),4,IF([1]!Cell_Color(O50)=[1]!Cell_Color($A$9),4,0))))))))","v":1},{"$f":"(17-P50)*POWER(EXP(1),2*(4-IF([1]!Cell_Color(P50)=[1]!Cell_Color($A$4),1,IF([1]!Cell_Color(P50)=[1]!Cell_Color($A$5),2,IF([1]!Cell_Color(P50)=[1]!Cell_Color($A$6),3,IF([1]!Cell_Color(P50)=[1]!Cell_Color($A$7),3,IF([1]!Cell_Color(P50)=[1]!Cell_Color($A$8),4,IF([1]!Cell_Color(P50)=[1]!Cell_Color($A$9),4,0))))))))","v":11},{"$f":"(17-Q50)*POWER(EXP(1),2*(4-IF([1]!Cell_Color(Q50)=[1]!Cell_Color($A$4),1,IF([1]!Cell_Color(Q50)=[1]!Cell_Color($A$5),2,IF([1]!Cell_Color(Q50)=[1]!Cell_Color($A$6),3,IF([1]!Cell_Color(Q50)=[1]!Cell_Color($A$7),3,IF([1]!Cell_Color(Q50)=[1]!Cell_Color($A$8),4,IF([1]!Cell_Color(Q50)=[1]!Cell_Color($A$9),4,0))))))))","v":16},{"$f":"(17-R50)*POWER(EXP(1),2*(4-IF([1]!Cell_Color(R50)=[1]!Cell_Color($A$4),1,IF([1]!Cell_Color(R50)=[1]!Cell_Color($A$5),2,IF([1]!Cell_Color(R50)=[1]!Cell_Color($A$6),3,IF([1]!Cell_Color(R50)=[1]!Cell_Color($A$7),3,IF([1]!Cell_Color(R50)=[1]!Cell_Color($A$8),4,IF([1]!Cell_Color(R50)=[1]!Cell_Color($A$9),4,0))))))))","v":51.723392692514544},{"$f":"(17-S50)*POWER(EXP(1),2*(4-IF([1]!Cell_Color(S50)=[1]!Cell_Color($A$4),1,IF([1]!Cell_Color(S50)=[1]!Cell_Color($A$5),2,IF([1]!Cell_Color(S50)=[1]!Cell_Color($A$6),3,IF([1]!Cell_Color(S50)=[1]!Cell_Color($A$7),3,IF([1]!Cell_Color(S50)=[1]!Cell_Color($A$8),4,IF([1]!Cell_Color(S50)=[1]!Cell_Color($A$9),4,0))))))))","v":29.556224395722598},{"$f":"(17-T50)*POWER(EXP(1),2*(4-IF([1]!Cell_Color(T50)=[1]!Cell_Color($A$4),1,IF([1]!Cell_Color(T50)=[1]!Cell_Color($A$5),2,IF([1]!Cell_Color(T50)=[1]!Cell_Color($A$6),3,IF([1]!Cell_Color(T50)=[1]!Cell_Color($A$7),3,IF([1]!Cell_Color(T50)=[1]!Cell_Color($A$8),4,IF([1]!Cell_Color(T50)=[1]!Cell_Color($A$9),4,0))))))))","v":15},{"$f":"(17-U50)*POWER(EXP(1),2*(4-IF([1]!Cell_Color(U50)=[1]!Cell_Color($A$4),1,IF([1]!Cell_Color(U50)=[1]!Cell_Color($A$5),2,IF([1]!Cell_Color(U50)=[1]!Cell_Color($A$6),3,IF([1]!Cell_Color(U50)=[1]!Cell_Color($A$7),3,IF([1]!Cell_Color(U50)=[1]!Cell_Color($A$8),4,IF([1]!Cell_Color(U50)=[1]!Cell_Color($A$9),4,0))))))))","v":88.668673187167798},{"$f":"(17-V50)*POWER(EXP(1),2*(4-IF([1]!Cell_Color(V50)=[1]!Cell_Color($A$4),1,IF([1]!Cell_Color(V50)=[1]!Cell_Color($A$5),2,IF([1]!Cell_Color(V50)=[1]!Cell_Color($A$6),3,IF([1]!Cell_Color(V50)=[1]!Cell_Color($A$7),3,IF([1]!Cell_Color(V50)=[1]!Cell_Color($A$8),4,IF([1]!Cell_Color(V50)=[1]!Cell_Color($A$9),4,0))))))))","v":81.279617088237146}]
[null,null,48,80,32,60,12,48,"Дьюла Термал ФК",9,12,9,9,6,16,16,6,5,1,6,9,4,null,{"$f":"SUM(AB51:AF51)","v":47.389056098930652},{"$f":"SUM(AD51:AH51)","v":179.39206587968235},{"$f":"SUM(AE51:AI51)","v":264.44979516578081},null,{"$f":"(17-O51)*POWER(EXP(1),2*(4-IF([1]!Cell_Color(O51)=[1]!Cell_Color($A$4),1,IF([1]!Cell_Color(O51)=[1]!Cell_Color($A$5),2,IF([1]!Cell_Color(O51)=[1]!Cell_Color($A$6),3,IF([1]!Cell_Color(O51)=[1]!Cell_Color($A$7),3,IF([1]!Cell_Color(O51)=[1]!Cell_Color($A$8),4,IF([1]!Cell_Color(O51)=[1]!Cell_Color($A$9),4,0))))))))","v":7.3890560989306495},{"$f":"(17-P51)*POWER(EXP(1),2*(4-IF([1]!Cell_Color(P51)=[1]!Cell_Color($A$4),1,IF([1]!Cell_Color(P51)=[1]!Cell_Color($A$5),2,IF([1]!Cell_Color(P51)=[1]!Cell_Color($A$6),3,IF([1]!Cell_Color(P51)=[1]!Cell_Color($A$7),3,IF([1]!Cell_Color(P51)=[1]!Cell_Color($A$8),4,IF([1]!Cell_Color(P51)=[1]!Cell_Color($A$9),4,0))))))))","v":1},{"$f":"(17-Q51)*POWER(EXP(1),2*(4-IF([1]!Cell_Color(Q51)=[1]!Cell_Color($A$4),1,IF([1]!Cell_Color(Q51)=[1]!Cell_Color($A$5),2,IF([1]!Cell_Color(Q51)=[1]!Cell_Color($A$6),3,IF([1]!Cell_Color(Q51)=[1]!Cell_Color($A$7),3,IF([1]!Cell_Color(Q51)=[1]!Cell_Color($A$8),4,IF([1]!Cell_Color(Q51)=[1]!Cell_Color($A$9),4,0))))))))","v":11},{"$f":"(17-R51)*POWER(EXP(1),2*(4-IF([1]!Cell_Color(R51)=[1]!Cell_Color($A$4),1,IF([1]!Cell_Color(R51)=[1]!Cell_Color($A$5),2,IF([1]!Cell_Color(R51)=[1]!Cell_Color($A$6),3,IF([1]!Cell_Color(R51)=[1]!Cell_Color($A$7),3,IF([1]!Cell_Color(R51)=[1]!Cell_Color($A$8),4,IF([1]!Cell_Color(R51)=[1]!Cell_Color($A$9),4,0))))))))","v":12},{"$f":"(17-S51)*POWER(EXP(1),2*(4-IF([1]!Cell_Color(S51)=[1]!Cell_Color($A$4),1,IF([1]!Cell_Color(S51)=[1]!Cell_Color($A$5),2,IF([1]!Cell_Color(S51)=[1]!Cell_Color($A$6),3,IF([1]!Cell_Color(S51)=[1]!Cell_Color($A$7),3,IF([1]!Cell_Color(S51)=[1]!Cell_Color($A$8),4,IF([1]!Cell_Color(S51)=[1]!Cell_Color($A$9),4,0))))))))","v":16},{"$f":"(17-T51)*POWER(EXP(1),2*(4-IF([1]!Cell_Color(T51)=[1]!Cell_Color($A$4),1,IF([1]!Cell_Color(T51)=[1]!Cell_Color($A$5),2,IF([1]!Cell_Color(T51)=[1]!Cell_Color($A$6),3,IF([1]!Cell_Color(T51)=[1]!Cell_Color($A$7),3,IF([1]!Cell_Color(T51)=[1]!Cell_Color($A$8),4,IF([1]!Cell_Color(T51)=[1]!Cell_Color($A$9),4,0))))))))","v":81.279617088237146},{"$f":"(17-U51)*POWER(EXP(1),2*(4-IF([1]!Cell_Color(U51)=[1]!Cell_Color($A$4),1,IF([1]!Cell_Color(U51)=[1]!Cell_Color($A$5),2,IF([1]!Cell_Color(U51)=[1]!Cell_Color($A$6),3,IF([1]!Cell_Color(U51)=[1]!Cell_Color($A$7),3,IF([1]!Cell_Color(U51)=[1]!Cell_Color($A$8),4,IF([1]!Cell_Color(U51)=[1]!Cell_Color($A$9),4,0))))))))","v":59.112448791445196},{"$f":"(17-V51)*POWER(EXP(1),2*(4-IF([1]!Cell_Color(V51)=[1]!Cell_Color($A$4),1,IF([1]!Cell_Color(V51)=[1]!Cell_Color($A$5),2,IF([1]!Cell_Color(V51)=[1]!Cell_Color($A$6),3,IF([1]!Cell_Color(V51)=[1]!Cell_Color($A$7),3,IF([1]!Cell_Color(V51)=[1]!Cell_Color($A$8),4,IF([1]!Cell_Color(V51)=[1]!Cell_Color($A$9),4,0))))))))","v":96.05772928609845}]
[null,null,49,77,28,54,5,49,"Тёрёкбалинт ТК",null,null,9,8,15,15,7,9,2,13,6,6,10,null,{"$f":"SUM(AB52:AF52)","v":64.556224395722595},{"$f":"SUM(AD52:AH52)","v":215.11545857219687},{"$f":"SUM(AE52:AI52)","v":258.83885126471142},null,{"$f":"(17-O52)*POWER(EXP(1),2*(4-IF([1]!Cell_Color(O52)=[1]!Cell_Color($A$4),1,IF([1]!Cell_Color(O52)=[1]!Cell_Color($A$5),2,IF([1]!Cell_Color(O52)=[1]!Cell_Color($A$6),3,IF([1]!Cell_Color(O52)=[1]!Cell_Color($A$7),3,IF([1]!Cell_Color(O52)=[1]!Cell_Color($A$8),4,IF([1]!Cell_Color(O52)=[1]!Cell_Color($A$9),4,0))))))))","v":2},{"$f":"(17-P52)*POWER(EXP(1),2*(4-IF([1]!Cell_Color(P52)=[1]!Cell_Color($A$4),1,IF([1]!Cell_Color(P52)=[1]!Cell_Color($A$5),2,IF([1]!Cell_Color(P52)=[1]!Cell_Color($A$6),3,IF([1]!Cell_Color(P52)=[1]!Cell_Color($A$7),3,IF([1]!Cell_Color(P52)=[1]!Cell_Color($A$8),4,IF([1]!Cell_Color(P52)=[1]!Cell_Color($A$9),4,0))))))))","v":10},{"$f":"(17-Q52)*POWER(EXP(1),2*(4-IF([1]!Cell_Color(Q52)=[1]!Cell_Color($A$4),1,IF([1]!Cell_Color(Q52)=[1]!Cell_Color($A$5),2,IF([1]!Cell_Color(Q52)=[1]!Cell_Color($A$6),3,IF([1]!Cell_Color(Q52)=[1]!Cell_Color($A$7),3,IF([1]!Cell_Color(Q52)=[1]!Cell_Color($A$8),4,IF([1]!Cell_Color(Q52)=[1]!Cell_Color($A$9),4,0))))))))","v":8},{"$f":"(17-R52)*POWER(EXP(1),2*(4-IF([1]!Cell_Color(R52)=[1]!Cell_Color($A$4),1,IF([1]!Cell_Color(R52)=[1]!Cell_Color($A$5),2,IF([1]!Cell_Color(R52)=[1]!Cell_Color($A$6),3,IF([1]!Cell_Color(R52)=[1]!Cell_Color($A$7),3,IF([1]!Cell_Color(R52)=[1]!Cell_Color($A$8),4,IF([1]!Cell_Color(R52)=[1]!Cell_Color($A$9),4,0))))))))","v":15},{"$f":"(17-S52)*POWER(EXP(1),2*(4-IF([1]!Cell_Color(S52)=[1]!Cell_Color($A$4),1,IF([1]!Cell_Color(S52)=[1]!Cell_Color($A$5),2,IF([1]!Cell_Color(S52)=[1]!Cell_Color($A$6),3,IF([1]!Cell_Color(S52)=[1]!Cell_Color($A$7),3,IF([1]!Cell_Color(S52)=[1]!Cell_Color($A$8),4,IF([1]!Cell_Color(S52)=[1]!Cell_Color($A$9),4,0))))))))","v":29.556224395722598},{"$f":"(17-T52)*POWER(EXP(1),2*(4-IF([1]!Cell_Color(T52)=[1]!Cell_Color($A$4),1,IF([1]!Cell_Color(T52)=[1]!Cell_Color($A$5),2,IF([1]!Cell_Color(T52)=[1]!Cell_Color($A$6),3,IF([1]!Cell_Color(T52)=[1]!Cell_Color($A$7),3,IF([1]!Cell_Color(T52)=[1]!Cell_Color($A$8),4,IF([1]!Cell_Color(T52)=[1]!Cell_Color($A$9),4,0))))))))","v":81.279617088237146},{"$f":"(17-U52)*POWER(EXP(1),2*(4-IF([1]!Cell_Color(U52)=[1]!Cell_Color($A$4),1,IF([1]!Cell_Color(U52)=[1]!Cell_Color($A$5),2,IF([1]!Cell_Color(U52)=[1]!Cell_Color($A$6),3,IF([1]!Cell_Color(U52)=[1]!Cell_Color($A$7),3,IF([1]!Cell_Color(U52)=[1]!Cell_Color($A$8),4,IF([1]!Cell_Color(U52)=[1]!Cell_Color($A$9),4,0))))))))","v":81.279617088237146},{"$f":"(17-V52)*POWER(EXP(1),2*(4-IF([1]!Cell_Color(V52)=[1]!Cell_Color($A$4),1,IF([1]!Cell_Color(V52)=[1]!Cell_Color($A$5),2,IF([1]!Cell_Color(V52)=[1]!Cell_Color($A$6),3,IF([1]!Cell_Color(V52)=[1]!Cell_Color($A$7),3,IF([1]!Cell_Color(V52)=[1]!Cell_Color($A$8),4,IF([1]!Cell_Color(V52)=[1]!Cell_Color($A$9),4,0))))))))","v":51.723392692514544}]
[null,null,50,46,-4,46,-4,50,"ФК Шопрон",16,10,7,5,9,6,10,7,9,6,10,10,15,null,{"$f":"SUM(AB53:AF53)","v":347.28563664974052},{"$f":"SUM(AD53:AH53)","v":317.72941225401792},{"$f":"SUM(AE53:AI53)","v":258.61696346257276},null,{"$f":"(17-O53)*POWER(EXP(1),2*(4-IF([1]!Cell_Color(O53)=[1]!Cell_Color($A$4),1,IF([1]!Cell_Color(O53)=[1]!Cell_Color($A$5),2,IF([1]!Cell_Color(O53)=[1]!Cell_Color($A$6),3,IF([1]!Cell_Color(O53)=[1]!Cell_Color($A$7),3,IF([1]!Cell_Color(O53)=[1]!Cell_Color($A$8),4,IF([1]!Cell_Color(O53)=[1]!Cell_Color($A$9),4,0))))))))","v":81.279617088237146},{"$f":"(17-P53)*POWER(EXP(1),2*(4-IF([1]!Cell_Color(P53)=[1]!Cell_Color($A$4),1,IF([1]!Cell_Color(P53)=[1]!Cell_Color($A$5),2,IF([1]!Cell_Color(P53)=[1]!Cell_Color($A$6),3,IF([1]!Cell_Color(P53)=[1]!Cell_Color($A$7),3,IF([1]!Cell_Color(P53)=[1]!Cell_Color($A$8),4,IF([1]!Cell_Color(P53)=[1]!Cell_Color($A$9),4,0))))))))","v":51.723392692514544},{"$f":"(17-Q53)*POWER(EXP(1),2*(4-IF([1]!Cell_Color(Q53)=[1]!Cell_Color($A$4),1,IF([1]!Cell_Color(Q53)=[1]!Cell_Color($A$5),2,IF([1]!Cell_Color(Q53)=[1]!Cell_Color($A$6),3,IF([1]!Cell_Color(Q53)=[1]!Cell_Color($A$7),3,IF([1]!Cell_Color(Q53)=[1]!Cell_Color($A$8),4,IF([1]!Cell_Color(Q53)=[1]!Cell_Color($A$9),4,0))))))))","v":73.890560989306493},{"$f":"(17-R53)*POWER(EXP(1),2*(4-IF([1]!Cell_Color(R53)=[1]!Cell_Color($A$4),1,IF([1]!Cell_Color(R53)=[1]!Cell_Color($A$5),2,IF([1]!Cell_Color(R53)=[1]!Cell_Color($A$6),3,IF([1]!Cell_Color(R53)=[1]!Cell_Color($A$7),3,IF([1]!Cell_Color(R53)=[1]!Cell_Color($A$8),4,IF([1]!Cell_Color(R53)=[1]!Cell_Color($A$9),4,0))))))))","v":59.112448791445196},{"$f":"(17-S53)*POWER(EXP(1),2*(4-IF([1]!Cell_Color(S53)=[1]!Cell_Color($A$4),1,IF([1]!Cell_Color(S53)=[1]!Cell_Color($A$5),2,IF([1]!Cell_Color(S53)=[1]!Cell_Color($A$6),3,IF([1]!Cell_Color(S53)=[1]!Cell_Color($A$7),3,IF([1]!Cell_Color(S53)=[1]!Cell_Color($A$8),4,IF([1]!Cell_Color(S53)=[1]!Cell_Color($A$9),4,0))))))))","v":81.279617088237146},{"$f":"(17-T53)*POWER(EXP(1),2*(4-IF([1]!Cell_Color(T53)=[1]!Cell_Color($A$4),1,IF([1]!Cell_Color(T53)=[1]!Cell_Color($A$5),2,IF([1]!Cell_Color(T53)=[1]!Cell_Color($A$6),3,IF([1]!Cell_Color(T53)=[1]!Cell_Color($A$7),3,IF([1]!Cell_Color(T53)=[1]!Cell_Color($A$8),4,IF([1]!Cell_Color(T53)=[1]!Cell_Color($A$9),4,0))))))))","v":51.723392692514544},{"$f":"(17-U53)*POWER(EXP(1),2*(4-IF([1]!Cell_Color(U53)=[1]!Cell_Color($A$4),1,IF([1]!Cell_Color(U53)=[1]!Cell_Color($A$5),2,IF([1]!Cell_Color(U53)=[1]!Cell_Color($A$6),3,IF([1]!Cell_Color(U53)=[1]!Cell_Color($A$7),3,IF([1]!Cell_Color(U53)=[1]!Cell_Color($A$8),4,IF([1]!Cell_Color(U53)=[1]!Cell_Color($A$9),4,0))))))))","v":51.723392692514544},{"$f":"(17-V53)*POWER(EXP(1),2*(4-IF([1]!Cell_Color(V53)=[1]!Cell_Color($A$4),1,IF([1]!Cell_Color(V53)=[1]!Cell_Color($A$5),2,IF([1]!Cell_Color(V53)=[1]!Cell_Color($A$6),3,IF([1]!Cell_Color(V53)=[1]!Cell_Color($A$7),3,IF([1]!Cell_Color(V53)=[1]!Cell_Color($A$8),4,IF([1]!Cell_Color(V53)=[1]!Cell_Color($A$9),4,0))))))))","v":14.778112197861299}]
[null,null,51,61,10,62,11,51,"Тапиусеч ФК",null,null,12,4,12,11,10,16,3,3,7,10,3,null,{"$f":"SUM(AB54:AF54)","v":131.4467853850291},{"$f":"SUM(AD54:AH54)","v":161.00300978075168},{"$f":"SUM(AE54:AI54)","v":257.06073906685015},null,{"$f":"(17-O54)*POWER(EXP(1),2*(4-IF([1]!Cell_Color(O54)=[1]!Cell_Color($A$4),1,IF([1]!Cell_Color(O54)=[1]!Cell_Color($A$5),2,IF([1]!Cell_Color(O54)=[1]!Cell_Color($A$6),3,IF([1]!Cell_Color(O54)=[1]!Cell_Color($A$7),3,IF([1]!Cell_Color(O54)=[1]!Cell_Color($A$8),4,IF([1]!Cell_Color(O54)=[1]!Cell_Color($A$9),4,0))))))))","v":44.334336593583899},{"$f":"(17-P54)*POWER(EXP(1),2*(4-IF([1]!Cell_Color(P54)=[1]!Cell_Color($A$4),1,IF([1]!Cell_Color(P54)=[1]!Cell_Color($A$5),2,IF([1]!Cell_Color(P54)=[1]!Cell_Color($A$6),3,IF([1]!Cell_Color(P54)=[1]!Cell_Color($A$7),3,IF([1]!Cell_Color(P54)=[1]!Cell_Color($A$8),4,IF([1]!Cell_Color(P54)=[1]!Cell_Color($A$9),4,0))))))))","v":51.723392692514544},{"$f":"(17-Q54)*POWER(EXP(1),2*(4-IF([1]!Cell_Color(Q54)=[1]!Cell_Color($A$4),1,IF([1]!Cell_Color(Q54)=[1]!Cell_Color($A$5),2,IF([1]!Cell_Color(Q54)=[1]!Cell_Color($A$6),3,IF([1]!Cell_Color(Q54)=[1]!Cell_Color($A$7),3,IF([1]!Cell_Color(Q54)=[1]!Cell_Color($A$8),4,IF([1]!Cell_Color(Q54)=[1]!Cell_Color($A$9),4,0))))))))","v":7.3890560989306495},{"$f":"(17-R54)*POWER(EXP(1),2*(4-IF([1]!Cell_Color(R54)=[1]!Cell_Color($A$4),1,IF([1]!Cell_Color(R54)=[1]!Cell_Color($A$5),2,IF([1]!Cell_Color(R54)=[1]!Cell_Color($A$6),3,IF([1]!Cell_Color(R54)=[1]!Cell_Color($A$7),3,IF([1]!Cell_Color(R54)=[1]!Cell_Color($A$8),4,IF([1]!Cell_Color(R54)=[1]!Cell_Color($A$9),4,0))))))))","v":14},{"$f":"(17-S54)*POWER(EXP(1),2*(4-IF([1]!Cell_Color(S54)=[1]!Cell_Color($A$4),1,IF([1]!Cell_Color(S54)=[1]!Cell_Color($A$5),2,IF([1]!Cell_Color(S54)=[1]!Cell_Color($A$6),3,IF([1]!Cell_Color(S54)=[1]!Cell_Color($A$7),3,IF([1]!Cell_Color(S54)=[1]!Cell_Color($A$8),4,IF([1]!Cell_Color(S54)=[1]!Cell_Color($A$9),4,0))))))))","v":14},{"$f":"(17-T54)*POWER(EXP(1),2*(4-IF([1]!Cell_Color(T54)=[1]!Cell_Color($A$4),1,IF([1]!Cell_Color(T54)=[1]!Cell_Color($A$5),2,IF([1]!Cell_Color(T54)=[1]!Cell_Color($A$6),3,IF([1]!Cell_Color(T54)=[1]!Cell_Color($A$7),3,IF([1]!Cell_Color(T54)=[1]!Cell_Color($A$8),4,IF([1]!Cell_Color(T54)=[1]!Cell_Color($A$9),4,0))))))))","v":73.890560989306493},{"$f":"(17-U54)*POWER(EXP(1),2*(4-IF([1]!Cell_Color(U54)=[1]!Cell_Color($A$4),1,IF([1]!Cell_Color(U54)=[1]!Cell_Color($A$5),2,IF([1]!Cell_Color(U54)=[1]!Cell_Color($A$6),3,IF([1]!Cell_Color(U54)=[1]!Cell_Color($A$7),3,IF([1]!Cell_Color(U54)=[1]!Cell_Color($A$8),4,IF([1]!Cell_Color(U54)=[1]!Cell_Color($A$9),4,0))))))))","v":51.723392692514544},{"$f":"(17-V54)*POWER(EXP(1),2*(4-IF([1]!Cell_Color(V54)=[1]!Cell_Color($A$4),1,IF([1]!Cell_Color(V54)=[1]!Cell_Color($A$5),2,IF([1]!Cell_Color(V54)=[1]!Cell_Color($A$6),3,IF([1]!Cell_Color(V54)=[1]!Cell_Color($A$7),3,IF([1]!Cell_Color(V54)=[1]!Cell_Color($A$8),4,IF([1]!Cell_Color(V54)=[1]!Cell_Color($A$9),4,0))))))))","v":103.44678538502909}]
[null,null,52,37,-15,43,-9,52,"Ракошпалотай ЭАК",16,14,7,4,3,2,6,4,2,3,15,5,4,null,{"$f":"SUM(AB55:AF55)","v":502.45581472728418},{"$f":"SUM(AD55:AH55)","v":337.11846835294858},{"$f":"SUM(AE55:AI55)","v":254.06073906685012},null,{"$f":"(17-O55)*POWER(EXP(1),2*(4-IF([1]!Cell_Color(O55)=[1]!Cell_Color($A$4),1,IF([1]!Cell_Color(O55)=[1]!Cell_Color($A$5),2,IF([1]!Cell_Color(O55)=[1]!Cell_Color($A$6),3,IF([1]!Cell_Color(O55)=[1]!Cell_Color($A$7),3,IF([1]!Cell_Color(O55)=[1]!Cell_Color($A$8),4,IF([1]!Cell_Color(O55)=[1]!Cell_Color($A$9),4,0))))))))","v":110.83584148395974},{"$f":"(17-P55)*POWER(EXP(1),2*(4-IF([1]!Cell_Color(P55)=[1]!Cell_Color($A$4),1,IF([1]!Cell_Color(P55)=[1]!Cell_Color($A$5),2,IF([1]!Cell_Color(P55)=[1]!Cell_Color($A$6),3,IF([1]!Cell_Color(P55)=[1]!Cell_Color($A$7),3,IF([1]!Cell_Color(P55)=[1]!Cell_Color($A$8),4,IF([1]!Cell_Color(P55)=[1]!Cell_Color($A$9),4,0))))))))","v":81.279617088237146},{"$f":"(17-Q55)*POWER(EXP(1),2*(4-IF([1]!Cell_Color(Q55)=[1]!Cell_Color($A$4),1,IF([1]!Cell_Color(Q55)=[1]!Cell_Color($A$5),2,IF([1]!Cell_Color(Q55)=[1]!Cell_Color($A$6),3,IF([1]!Cell_Color(Q55)=[1]!Cell_Color($A$7),3,IF([1]!Cell_Color(Q55)=[1]!Cell_Color($A$8),4,IF([1]!Cell_Color(Q55)=[1]!Cell_Color($A$9),4,0))))))))","v":96.05772928609845},{"$f":"(17-R55)*POWER(EXP(1),2*(4-IF([1]!Cell_Color(R55)=[1]!Cell_Color($A$4),1,IF([1]!Cell_Color(R55)=[1]!Cell_Color($A$5),2,IF([1]!Cell_Color(R55)=[1]!Cell_Color($A$6),3,IF([1]!Cell_Color(R55)=[1]!Cell_Color($A$7),3,IF([1]!Cell_Color(R55)=[1]!Cell_Color($A$8),4,IF([1]!Cell_Color(R55)=[1]!Cell_Color($A$9),4,0))))))))","v":110.83584148395974},{"$f":"(17-S55)*POWER(EXP(1),2*(4-IF([1]!Cell_Color(S55)=[1]!Cell_Color($A$4),1,IF([1]!Cell_Color(S55)=[1]!Cell_Color($A$5),2,IF([1]!Cell_Color(S55)=[1]!Cell_Color($A$6),3,IF([1]!Cell_Color(S55)=[1]!Cell_Color($A$7),3,IF([1]!Cell_Color(S55)=[1]!Cell_Color($A$8),4,IF([1]!Cell_Color(S55)=[1]!Cell_Color($A$9),4,0))))))))","v":103.44678538502909},{"$f":"(17-T55)*POWER(EXP(1),2*(4-IF([1]!Cell_Color(T55)=[1]!Cell_Color($A$4),1,IF([1]!Cell_Color(T55)=[1]!Cell_Color($A$5),2,IF([1]!Cell_Color(T55)=[1]!Cell_Color($A$6),3,IF([1]!Cell_Color(T55)=[1]!Cell_Color($A$7),3,IF([1]!Cell_Color(T55)=[1]!Cell_Color($A$8),4,IF([1]!Cell_Color(T55)=[1]!Cell_Color($A$9),4,0))))))))","v":14.778112197861299},{"$f":"(17-U55)*POWER(EXP(1),2*(4-IF([1]!Cell_Color(U55)=[1]!Cell_Color($A$4),1,IF([1]!Cell_Color(U55)=[1]!Cell_Color($A$5),2,IF([1]!Cell_Color(U55)=[1]!Cell_Color($A$6),3,IF([1]!Cell_Color(U55)=[1]!Cell_Color($A$7),3,IF([1]!Cell_Color(U55)=[1]!Cell_Color($A$8),4,IF([1]!Cell_Color(U55)=[1]!Cell_Color($A$9),4,0))))))))","v":12},{"$f":"(17-V55)*POWER(EXP(1),2*(4-IF([1]!Cell_Color(V55)=[1]!Cell_Color($A$4),1,IF([1]!Cell_Color(V55)=[1]!Cell_Color($A$5),2,IF([1]!Cell_Color(V55)=[1]!Cell_Color($A$6),3,IF([1]!Cell_Color(V55)=[1]!Cell_Color($A$7),3,IF([1]!Cell_Color(V55)=[1]!Cell_Color($A$8),4,IF([1]!Cell_Color(V55)=[1]!Cell_Color($A$9),4,0))))))))","v":13}]
[null,null,53,47,-6,47,-6,53,"Сентеш",15,15,11,15,1,8,7,11,10,3,7,15,15,null,{"$f":"SUM(AB56:AF56)","v":339.89658055080986},{"$f":"SUM(AD56:AH56)","v":288.17318785829531},{"$f":"SUM(AE56:AI56)","v":245.83885126471142},null,{"$f":"(17-O56)*POWER(EXP(1),2*(4-IF([1]!Cell_Color(O56)=[1]!Cell_Color($A$4),1,IF([1]!Cell_Color(O56)=[1]!Cell_Color($A$5),2,IF([1]!Cell_Color(O56)=[1]!Cell_Color($A$6),3,IF([1]!Cell_Color(O56)=[1]!Cell_Color($A$7),3,IF([1]!Cell_Color(O56)=[1]!Cell_Color($A$8),4,IF([1]!Cell_Color(O56)=[1]!Cell_Color($A$9),4,0))))))))","v":66.501504890375841},{"$f":"(17-P56)*POWER(EXP(1),2*(4-IF([1]!Cell_Color(P56)=[1]!Cell_Color($A$4),1,IF([1]!Cell_Color(P56)=[1]!Cell_Color($A$5),2,IF([1]!Cell_Color(P56)=[1]!Cell_Color($A$6),3,IF([1]!Cell_Color(P56)=[1]!Cell_Color($A$7),3,IF([1]!Cell_Color(P56)=[1]!Cell_Color($A$8),4,IF([1]!Cell_Color(P56)=[1]!Cell_Color($A$9),4,0))))))))","v":73.890560989306493},{"$f":"(17-Q56)*POWER(EXP(1),2*(4-IF([1]!Cell_Color(Q56)=[1]!Cell_Color($A$4),1,IF([1]!Cell_Color(Q56)=[1]!Cell_Color($A$5),2,IF([1]!Cell_Color(Q56)=[1]!Cell_Color($A$6),3,IF([1]!Cell_Color(Q56)=[1]!Cell_Color($A$7),3,IF([1]!Cell_Color(Q56)=[1]!Cell_Color($A$8),4,IF([1]!Cell_Color(Q56)=[1]!Cell_Color($A$9),4,0))))))))","v":44.334336593583899},{"$f":"(17-R56)*POWER(EXP(1),2*(4-IF([1]!Cell_Color(R56)=[1]!Cell_Color($A$4),1,IF([1]!Cell_Color(R56)=[1]!Cell_Color($A$5),2,IF([1]!Cell_Color(R56)=[1]!Cell_Color($A$6),3,IF([1]!Cell_Color(R56)=[1]!Cell_Color($A$7),3,IF([1]!Cell_Color(R56)=[1]!Cell_Color($A$8),4,IF([1]!Cell_Color(R56)=[1]!Cell_Color($A$9),4,0))))))))","v":51.723392692514544},{"$f":"(17-S56)*POWER(EXP(1),2*(4-IF([1]!Cell_Color(S56)=[1]!Cell_Color($A$4),1,IF([1]!Cell_Color(S56)=[1]!Cell_Color($A$5),2,IF([1]!Cell_Color(S56)=[1]!Cell_Color($A$6),3,IF([1]!Cell_Color(S56)=[1]!Cell_Color($A$7),3,IF([1]!Cell_Color(S56)=[1]!Cell_Color($A$8),4,IF([1]!Cell_Color(S56)=[1]!Cell_Color($A$9),4,0))))))))","v":103.44678538502909},{"$f":"(17-T56)*POWER(EXP(1),2*(4-IF([1]!Cell_Color(T56)=[1]!Cell_Color($A$4),1,IF([1]!Cell_Color(T56)=[1]!Cell_Color($A$5),2,IF([1]!Cell_Color(T56)=[1]!Cell_Color($A$6),3,IF([1]!Cell_Color(T56)=[1]!Cell_Color($A$7),3,IF([1]!Cell_Color(T56)=[1]!Cell_Color($A$8),4,IF([1]!Cell_Color(T56)=[1]!Cell_Color($A$9),4,0))))))))","v":73.890560989306493},{"$f":"(17-U56)*POWER(EXP(1),2*(4-IF([1]!Cell_Color(U56)=[1]!Cell_Color($A$4),1,IF([1]!Cell_Color(U56)=[1]!Cell_Color($A$5),2,IF([1]!Cell_Color(U56)=[1]!Cell_Color($A$6),3,IF([1]!Cell_Color(U56)=[1]!Cell_Color($A$7),3,IF([1]!Cell_Color(U56)=[1]!Cell_Color($A$8),4,IF([1]!Cell_Color(U56)=[1]!Cell_Color($A$9),4,0))))))))","v":14.778112197861299},{"$f":"(17-V56)*POWER(EXP(1),2*(4-IF([1]!Cell_Color(V56)=[1]!Cell_Color($A$4),1,IF([1]!Cell_Color(V56)=[1]!Cell_Color($A$5),2,IF([1]!Cell_Color(V56)=[1]!Cell_Color($A$6),3,IF([1]!Cell_Color(V56)=[1]!Cell_Color($A$7),3,IF([1]!Cell_Color(V56)=[1]!Cell_Color($A$8),4,IF([1]!Cell_Color(V56)=[1]!Cell_Color($A$9),4,0))))))))","v":2}]
[null,null,54,73,19,65,11,54,"Гевиц ФК",13,12,9,9,10,12,16,11,6,4,9,8,7,null,{"$f":"SUM(AB57:AF57)","v":74.334336593583899},{"$f":"SUM(AD57:AH57)","v":155.61395368182104},{"$f":"SUM(AE57:AI57)","v":223.50451467112754},null,{"$f":"(17-O57)*POWER(EXP(1),2*(4-IF([1]!Cell_Color(O57)=[1]!Cell_Color($A$4),1,IF([1]!Cell_Color(O57)=[1]!Cell_Color($A$5),2,IF([1]!Cell_Color(O57)=[1]!Cell_Color($A$6),3,IF([1]!Cell_Color(O57)=[1]!Cell_Color($A$7),3,IF([1]!Cell_Color(O57)=[1]!Cell_Color($A$8),4,IF([1]!Cell_Color(O57)=[1]!Cell_Color($A$9),4,0))))))))","v":36.945280494653247},{"$f":"(17-P57)*POWER(EXP(1),2*(4-IF([1]!Cell_Color(P57)=[1]!Cell_Color($A$4),1,IF([1]!Cell_Color(P57)=[1]!Cell_Color($A$5),2,IF([1]!Cell_Color(P57)=[1]!Cell_Color($A$6),3,IF([1]!Cell_Color(P57)=[1]!Cell_Color($A$7),3,IF([1]!Cell_Color(P57)=[1]!Cell_Color($A$8),4,IF([1]!Cell_Color(P57)=[1]!Cell_Color($A$9),4,0))))))))","v":7.3890560989306495},{"$f":"(17-Q57)*POWER(EXP(1),2*(4-IF([1]!Cell_Color(Q57)=[1]!Cell_Color($A$4),1,IF([1]!Cell_Color(Q57)=[1]!Cell_Color($A$5),2,IF([1]!Cell_Color(Q57)=[1]!Cell_Color($A$6),3,IF([1]!Cell_Color(Q57)=[1]!Cell_Color($A$7),3,IF([1]!Cell_Color(Q57)=[1]!Cell_Color($A$8),4,IF([1]!Cell_Color(Q57)=[1]!Cell_Color($A$9),4,0))))))))","v":6},{"$f":"(17-R57)*POWER(EXP(1),2*(4-IF([1]!Cell_Color(R57)=[1]!Cell_Color($A$4),1,IF([1]!Cell_Color(R57)=[1]!Cell_Color($A$5),2,IF([1]!Cell_Color(R57)=[1]!Cell_Color($A$6),3,IF([1]!Cell_Color(R57)=[1]!Cell_Color($A$7),3,IF([1]!Cell_Color(R57)=[1]!Cell_Color($A$8),4,IF([1]!Cell_Color(R57)=[1]!Cell_Color($A$9),4,0))))))))","v":11},{"$f":"(17-S57)*POWER(EXP(1),2*(4-IF([1]!Cell_Color(S57)=[1]!Cell_Color($A$4),1,IF([1]!Cell_Color(S57)=[1]!Cell_Color($A$5),2,IF([1]!Cell_Color(S57)=[1]!Cell_Color($A$6),3,IF([1]!Cell_Color(S57)=[1]!Cell_Color($A$7),3,IF([1]!Cell_Color(S57)=[1]!Cell_Color($A$8),4,IF([1]!Cell_Color(S57)=[1]!Cell_Color($A$9),4,0))))))))","v":13},{"$f":"(17-T57)*POWER(EXP(1),2*(4-IF([1]!Cell_Color(T57)=[1]!Cell_Color($A$4),1,IF([1]!Cell_Color(T57)=[1]!Cell_Color($A$5),2,IF([1]!Cell_Color(T57)=[1]!Cell_Color($A$6),3,IF([1]!Cell_Color(T57)=[1]!Cell_Color($A$7),3,IF([1]!Cell_Color(T57)=[1]!Cell_Color($A$8),4,IF([1]!Cell_Color(T57)=[1]!Cell_Color($A$9),4,0))))))))","v":59.112448791445196},{"$f":"(17-U57)*POWER(EXP(1),2*(4-IF([1]!Cell_Color(U57)=[1]!Cell_Color($A$4),1,IF([1]!Cell_Color(U57)=[1]!Cell_Color($A$5),2,IF([1]!Cell_Color(U57)=[1]!Cell_Color($A$6),3,IF([1]!Cell_Color(U57)=[1]!Cell_Color($A$7),3,IF([1]!Cell_Color(U57)=[1]!Cell_Color($A$8),4,IF([1]!Cell_Color(U57)=[1]!Cell_Color($A$9),4,0))))))))","v":66.501504890375841},{"$f":"(17-V57)*POWER(EXP(1),2*(4-IF([1]!Cell_Color(V57)=[1]!Cell_Color($A$4),1,IF([1]!Cell_Color(V57)=[1]!Cell_Color($A$5),2,IF([1]!Cell_Color(V57)=[1]!Cell_Color($A$6),3,IF([1]!Cell_Color(V57)=[1]!Cell_Color($A$7),3,IF([1]!Cell_Color(V57)=[1]!Cell_Color($A$8),4,IF([1]!Cell_Color(V57)=[1]!Cell_Color($A$9),4,0))))))))","v":73.890560989306493}]
[null,null,55,34,-21,39,-16,55,"Будакалас Мункас",8,1,8,16,6,5,1,11,16,11,8,14,1,null,{"$f":"SUM(AB58:AF58)","v":633.41495759565157},{"$f":"SUM(AD58:AH58)","v":515.19006001276125},{"$f":"SUM(AE58:AI58)","v":203.60115981389589},null,{"$f":"(17-O58)*POWER(EXP(1),2*(4-IF([1]!Cell_Color(O58)=[1]!Cell_Color($A$4),1,IF([1]!Cell_Color(O58)=[1]!Cell_Color($A$5),2,IF([1]!Cell_Color(O58)=[1]!Cell_Color($A$6),3,IF([1]!Cell_Color(O58)=[1]!Cell_Color($A$7),3,IF([1]!Cell_Color(O58)=[1]!Cell_Color($A$8),4,IF([1]!Cell_Color(O58)=[1]!Cell_Color($A$9),4,0))))))))","v":88.668673187167798},{"$f":"(17-P58)*POWER(EXP(1),2*(4-IF([1]!Cell_Color(P58)=[1]!Cell_Color($A$4),1,IF([1]!Cell_Color(P58)=[1]!Cell_Color($A$5),2,IF([1]!Cell_Color(P58)=[1]!Cell_Color($A$6),3,IF([1]!Cell_Color(P58)=[1]!Cell_Color($A$7),3,IF([1]!Cell_Color(P58)=[1]!Cell_Color($A$8),4,IF([1]!Cell_Color(P58)=[1]!Cell_Color($A$9),4,0))))))))","v":118.22489758289039},{"$f":"(17-Q58)*POWER(EXP(1),2*(4-IF([1]!Cell_Color(Q58)=[1]!Cell_Color($A$4),1,IF([1]!Cell_Color(Q58)=[1]!Cell_Color($A$5),2,IF([1]!Cell_Color(Q58)=[1]!Cell_Color($A$6),3,IF([1]!Cell_Color(Q58)=[1]!Cell_Color($A$7),3,IF([1]!Cell_Color(Q58)=[1]!Cell_Color($A$8),4,IF([1]!Cell_Color(Q58)=[1]!Cell_Color($A$9),4,0))))))))","v":327.58890019886536},{"$f":"(17-R58)*POWER(EXP(1),2*(4-IF([1]!Cell_Color(R58)=[1]!Cell_Color($A$4),1,IF([1]!Cell_Color(R58)=[1]!Cell_Color($A$5),2,IF([1]!Cell_Color(R58)=[1]!Cell_Color($A$6),3,IF([1]!Cell_Color(R58)=[1]!Cell_Color($A$7),3,IF([1]!Cell_Color(R58)=[1]!Cell_Color($A$8),4,IF([1]!Cell_Color(R58)=[1]!Cell_Color($A$9),4,0))))))))","v":54.598150033144229},{"$f":"(17-S58)*POWER(EXP(1),2*(4-IF([1]!Cell_Color(S58)=[1]!Cell_Color($A$4),1,IF([1]!Cell_Color(S58)=[1]!Cell_Color($A$5),2,IF([1]!Cell_Color(S58)=[1]!Cell_Color($A$6),3,IF([1]!Cell_Color(S58)=[1]!Cell_Color($A$7),3,IF([1]!Cell_Color(S58)=[1]!Cell_Color($A$8),4,IF([1]!Cell_Color(S58)=[1]!Cell_Color($A$9),4,0))))))))","v":44.334336593583899},{"$f":"(17-T58)*POWER(EXP(1),2*(4-IF([1]!Cell_Color(T58)=[1]!Cell_Color($A$4),1,IF([1]!Cell_Color(T58)=[1]!Cell_Color($A$5),2,IF([1]!Cell_Color(T58)=[1]!Cell_Color($A$6),3,IF([1]!Cell_Color(T58)=[1]!Cell_Color($A$7),3,IF([1]!Cell_Color(T58)=[1]!Cell_Color($A$8),4,IF([1]!Cell_Color(T58)=[1]!Cell_Color($A$9),4,0))))))))","v":66.501504890375841},{"$f":"(17-U58)*POWER(EXP(1),2*(4-IF([1]!Cell_Color(U58)=[1]!Cell_Color($A$4),1,IF([1]!Cell_Color(U58)=[1]!Cell_Color($A$5),2,IF([1]!Cell_Color(U58)=[1]!Cell_Color($A$6),3,IF([1]!Cell_Color(U58)=[1]!Cell_Color($A$7),3,IF([1]!Cell_Color(U58)=[1]!Cell_Color($A$8),4,IF([1]!Cell_Color(U58)=[1]!Cell_Color($A$9),4,0))))))))","v":22.167168296791949},{"$f":"(17-V58)*POWER(EXP(1),2*(4-IF([1]!Cell_Color(V58)=[1]!Cell_Color($A$4),1,IF([1]!Cell_Color(V58)=[1]!Cell_Color($A$5),2,IF([1]!Cell_Color(V58)=[1]!Cell_Color($A$6),3,IF([1]!Cell_Color(V58)=[1]!Cell_Color($A$7),3,IF([1]!Cell_Color(V58)=[1]!Cell_Color($A$8),4,IF([1]!Cell_Color(V58)=[1]!Cell_Color($A$9),4,0))))))))","v":16}]
[null,null,56,60,4,66,10,56,"Шальготарьян БТК",7,13,16,5,3,1,7,12,15,7,4,7,5,null,{"$f":"SUM(AB59:AF59)","v":151.61395368182104},{"$f":"SUM(AD59:AH59)","v":148.61395368182104},{"$f":"SUM(AE59:AI59)","v":200.3373463743356},null,{"$f":"(17-O59)*POWER(EXP(1),2*(4-IF([1]!Cell_Color(O59)=[1]!Cell_Color($A$4),1,IF([1]!Cell_Color(O59)=[1]!Cell_Color($A$5),2,IF([1]!Cell_Color(O59)=[1]!Cell_Color($A$6),3,IF([1]!Cell_Color(O59)=[1]!Cell_Color($A$7),3,IF([1]!Cell_Color(O59)=[1]!Cell_Color($A$8),4,IF([1]!Cell_Color(O59)=[1]!Cell_Color($A$9),4,0))))))))","v":16},{"$f":"(17-P59)*POWER(EXP(1),2*(4-IF([1]!Cell_Color(P59)=[1]!Cell_Color($A$4),1,IF([1]!Cell_Color(P59)=[1]!Cell_Color($A$5),2,IF([1]!Cell_Color(P59)=[1]!Cell_Color($A$6),3,IF([1]!Cell_Color(P59)=[1]!Cell_Color($A$7),3,IF([1]!Cell_Color(P59)=[1]!Cell_Color($A$8),4,IF([1]!Cell_Color(P59)=[1]!Cell_Color($A$9),4,0))))))))","v":73.890560989306493},{"$f":"(17-Q59)*POWER(EXP(1),2*(4-IF([1]!Cell_Color(Q59)=[1]!Cell_Color($A$4),1,IF([1]!Cell_Color(Q59)=[1]!Cell_Color($A$5),2,IF([1]!Cell_Color(Q59)=[1]!Cell_Color($A$6),3,IF([1]!Cell_Color(Q59)=[1]!Cell_Color($A$7),3,IF([1]!Cell_Color(Q59)=[1]!Cell_Color($A$8),4,IF([1]!Cell_Color(Q59)=[1]!Cell_Color($A$9),4,0))))))))","v":36.945280494653247},{"$f":"(17-R59)*POWER(EXP(1),2*(4-IF([1]!Cell_Color(R59)=[1]!Cell_Color($A$4),1,IF([1]!Cell_Color(R59)=[1]!Cell_Color($A$5),2,IF([1]!Cell_Color(R59)=[1]!Cell_Color($A$6),3,IF([1]!Cell_Color(R59)=[1]!Cell_Color($A$7),3,IF([1]!Cell_Color(R59)=[1]!Cell_Color($A$8),4,IF([1]!Cell_Color(R59)=[1]!Cell_Color($A$9),4,0))))))))","v":14.778112197861299},{"$f":"(17-S59)*POWER(EXP(1),2*(4-IF([1]!Cell_Color(S59)=[1]!Cell_Color($A$4),1,IF([1]!Cell_Color(S59)=[1]!Cell_Color($A$5),2,IF([1]!Cell_Color(S59)=[1]!Cell_Color($A$6),3,IF([1]!Cell_Color(S59)=[1]!Cell_Color($A$7),3,IF([1]!Cell_Color(S59)=[1]!Cell_Color($A$8),4,IF([1]!Cell_Color(S59)=[1]!Cell_Color($A$9),4,0))))))))","v":10},{"$f":"(17-T59)*POWER(EXP(1),2*(4-IF([1]!Cell_Color(T59)=[1]!Cell_Color($A$4),1,IF([1]!Cell_Color(T59)=[1]!Cell_Color($A$5),2,IF([1]!Cell_Color(T59)=[1]!Cell_Color($A$6),3,IF([1]!Cell_Color(T59)=[1]!Cell_Color($A$7),3,IF([1]!Cell_Color(T59)=[1]!Cell_Color($A$8),4,IF([1]!Cell_Color(T59)=[1]!Cell_Color($A$9),4,0))))))))","v":13},{"$f":"(17-U59)*POWER(EXP(1),2*(4-IF([1]!Cell_Color(U59)=[1]!Cell_Color($A$4),1,IF([1]!Cell_Color(U59)=[1]!Cell_Color($A$5),2,IF([1]!Cell_Color(U59)=[1]!Cell_Color($A$6),3,IF([1]!Cell_Color(U59)=[1]!Cell_Color($A$7),3,IF([1]!Cell_Color(U59)=[1]!Cell_Color($A$8),4,IF([1]!Cell_Color(U59)=[1]!Cell_Color($A$9),4,0))))))))","v":73.890560989306493},{"$f":"(17-V59)*POWER(EXP(1),2*(4-IF([1]!Cell_Color(V59)=[1]!Cell_Color($A$4),1,IF([1]!Cell_Color(V59)=[1]!Cell_Color($A$5),2,IF([1]!Cell_Color(V59)=[1]!Cell_Color($A$6),3,IF([1]!Cell_Color(V59)=[1]!Cell_Color($A$7),3,IF([1]!Cell_Color(V59)=[1]!Cell_Color($A$8),4,IF([1]!Cell_Color(V59)=[1]!Cell_Color($A$9),4,0))))))))","v":88.668673187167798}]
[null,null,57,84,27,67,10,57,"ПФК Шорокшар",null,null,9,6,10,10,11,5,8,10,1,3,16,null,{"$f":"SUM(AB60:AF60)","v":41},{"$f":"SUM(AD60:AH60)","v":147.4467853850291},{"$f":"SUM(AE60:AI60)","v":190.04493541817334},null,{"$f":"(17-O60)*POWER(EXP(1),2*(4-IF([1]!Cell_Color(O60)=[1]!Cell_Color($A$4),1,IF([1]!Cell_Color(O60)=[1]!Cell_Color($A$5),2,IF([1]!Cell_Color(O60)=[1]!Cell_Color($A$6),3,IF([1]!Cell_Color(O60)=[1]!Cell_Color($A$7),3,IF([1]!Cell_Color(O60)=[1]!Cell_Color($A$8),4,IF([1]!Cell_Color(O60)=[1]!Cell_Color($A$9),4,0))))))))","v":7},{"$f":"(17-P60)*POWER(EXP(1),2*(4-IF([1]!Cell_Color(P60)=[1]!Cell_Color($A$4),1,IF([1]!Cell_Color(P60)=[1]!Cell_Color($A$5),2,IF([1]!Cell_Color(P60)=[1]!Cell_Color($A$6),3,IF([1]!Cell_Color(P60)=[1]!Cell_Color($A$7),3,IF([1]!Cell_Color(P60)=[1]!Cell_Color($A$8),4,IF([1]!Cell_Color(P60)=[1]!Cell_Color($A$9),4,0))))))))","v":6},{"$f":"(17-Q60)*POWER(EXP(1),2*(4-IF([1]!Cell_Color(Q60)=[1]!Cell_Color($A$4),1,IF([1]!Cell_Color(Q60)=[1]!Cell_Color($A$5),2,IF([1]!Cell_Color(Q60)=[1]!Cell_Color($A$6),3,IF([1]!Cell_Color(Q60)=[1]!Cell_Color($A$7),3,IF([1]!Cell_Color(Q60)=[1]!Cell_Color($A$8),4,IF([1]!Cell_Color(Q60)=[1]!Cell_Color($A$9),4,0))))))))","v":12},{"$f":"(17-R60)*POWER(EXP(1),2*(4-IF([1]!Cell_Color(R60)=[1]!Cell_Color($A$4),1,IF([1]!Cell_Color(R60)=[1]!Cell_Color($A$5),2,IF([1]!Cell_Color(R60)=[1]!Cell_Color($A$6),3,IF([1]!Cell_Color(R60)=[1]!Cell_Color($A$7),3,IF([1]!Cell_Color(R60)=[1]!Cell_Color($A$8),4,IF([1]!Cell_Color(R60)=[1]!Cell_Color($A$9),4,0))))))))","v":9},{"$f":"(17-S60)*POWER(EXP(1),2*(4-IF([1]!Cell_Color(S60)=[1]!Cell_Color($A$4),1,IF([1]!Cell_Color(S60)=[1]!Cell_Color($A$5),2,IF([1]!Cell_Color(S60)=[1]!Cell_Color($A$6),3,IF([1]!Cell_Color(S60)=[1]!Cell_Color($A$7),3,IF([1]!Cell_Color(S60)=[1]!Cell_Color($A$8),4,IF([1]!Cell_Color(S60)=[1]!Cell_Color($A$9),4,0))))))))","v":7},{"$f":"(17-T60)*POWER(EXP(1),2*(4-IF([1]!Cell_Color(T60)=[1]!Cell_Color($A$4),1,IF([1]!Cell_Color(T60)=[1]!Cell_Color($A$5),2,IF([1]!Cell_Color(T60)=[1]!Cell_Color($A$6),3,IF([1]!Cell_Color(T60)=[1]!Cell_Color($A$7),3,IF([1]!Cell_Color(T60)=[1]!Cell_Color($A$8),4,IF([1]!Cell_Color(T60)=[1]!Cell_Color($A$9),4,0))))))))","v":16},{"$f":"(17-U60)*POWER(EXP(1),2*(4-IF([1]!Cell_Color(U60)=[1]!Cell_Color($A$4),1,IF([1]!Cell_Color(U60)=[1]!Cell_Color($A$5),2,IF([1]!Cell_Color(U60)=[1]!Cell_Color($A$6),3,IF([1]!Cell_Color(U60)=[1]!Cell_Color($A$7),3,IF([1]!Cell_Color(U60)=[1]!Cell_Color($A$8),4,IF([1]!Cell_Color(U60)=[1]!Cell_Color($A$9),4,0))))))))","v":103.44678538502909},{"$f":"(17-V60)*POWER(EXP(1),2*(4-IF([1]!Cell_Color(V60)=[1]!Cell_Color($A$4),1,IF([1]!Cell_Color(V60)=[1]!Cell_Color($A$5),2,IF([1]!Cell_Color(V60)=[1]!Cell_Color($A$6),3,IF([1]!Cell_Color(V60)=[1]!Cell_Color($A$7),3,IF([1]!Cell_Color(V60)=[1]!Cell_Color($A$8),4,IF([1]!Cell_Color(V60)=[1]!Cell_Color($A$9),4,0))))))))","v":54.598150033144229}]
[null,null,58,66,8,64,6,58,"МТК Дунахарести",null,null,8,2,15,6,5,6,4,9,12,12,12,null,{"$f":"SUM(AB61:AF61)","v":106.11244879144519},{"$f":"SUM(AD61:AH61)","v":157.00300978075168},{"$f":"SUM(AE61:AI61)","v":182.94829027540493},null,{"$f":"(17-O61)*POWER(EXP(1),2*(4-IF([1]!Cell_Color(O61)=[1]!Cell_Color($A$4),1,IF([1]!Cell_Color(O61)=[1]!Cell_Color($A$5),2,IF([1]!Cell_Color(O61)=[1]!Cell_Color($A$6),3,IF([1]!Cell_Color(O61)=[1]!Cell_Color($A$7),3,IF([1]!Cell_Color(O61)=[1]!Cell_Color($A$8),4,IF([1]!Cell_Color(O61)=[1]!Cell_Color($A$9),4,0))))))))","v":11},{"$f":"(17-P61)*POWER(EXP(1),2*(4-IF([1]!Cell_Color(P61)=[1]!Cell_Color($A$4),1,IF([1]!Cell_Color(P61)=[1]!Cell_Color($A$5),2,IF([1]!Cell_Color(P61)=[1]!Cell_Color($A$6),3,IF([1]!Cell_Color(P61)=[1]!Cell_Color($A$7),3,IF([1]!Cell_Color(P61)=[1]!Cell_Color($A$8),4,IF([1]!Cell_Color(P61)=[1]!Cell_Color($A$9),4,0))))))))","v":12},{"$f":"(17-Q61)*POWER(EXP(1),2*(4-IF([1]!Cell_Color(Q61)=[1]!Cell_Color($A$4),1,IF([1]!Cell_Color(Q61)=[1]!Cell_Color($A$5),2,IF([1]!Cell_Color(Q61)=[1]!Cell_Color($A$6),3,IF([1]!Cell_Color(Q61)=[1]!Cell_Color($A$7),3,IF([1]!Cell_Color(Q61)=[1]!Cell_Color($A$8),4,IF([1]!Cell_Color(Q61)=[1]!Cell_Color($A$9),4,0))))))))","v":11},{"$f":"(17-R61)*POWER(EXP(1),2*(4-IF([1]!Cell_Color(R61)=[1]!Cell_Color($A$4),1,IF([1]!Cell_Color(R61)=[1]!Cell_Color($A$5),2,IF([1]!Cell_Color(R61)=[1]!Cell_Color($A$6),3,IF([1]!Cell_Color(R61)=[1]!Cell_Color($A$7),3,IF([1]!Cell_Color(R61)=[1]!Cell_Color($A$8),4,IF([1]!Cell_Color(R61)=[1]!Cell_Color($A$9),4,0))))))))","v":13},{"$f":"(17-S61)*POWER(EXP(1),2*(4-IF([1]!Cell_Color(S61)=[1]!Cell_Color($A$4),1,IF([1]!Cell_Color(S61)=[1]!Cell_Color($A$5),2,IF([1]!Cell_Color(S61)=[1]!Cell_Color($A$6),3,IF([1]!Cell_Color(S61)=[1]!Cell_Color($A$7),3,IF([1]!Cell_Color(S61)=[1]!Cell_Color($A$8),4,IF([1]!Cell_Color(S61)=[1]!Cell_Color($A$9),4,0))))))))","v":59.112448791445196},{"$f":"(17-T61)*POWER(EXP(1),2*(4-IF([1]!Cell_Color(T61)=[1]!Cell_Color($A$4),1,IF([1]!Cell_Color(T61)=[1]!Cell_Color($A$5),2,IF([1]!Cell_Color(T61)=[1]!Cell_Color($A$6),3,IF([1]!Cell_Color(T61)=[1]!Cell_Color($A$7),3,IF([1]!Cell_Color(T61)=[1]!Cell_Color($A$8),4,IF([1]!Cell_Color(T61)=[1]!Cell_Color($A$9),4,0))))))))","v":36.945280494653247},{"$f":"(17-U61)*POWER(EXP(1),2*(4-IF([1]!Cell_Color(U61)=[1]!Cell_Color($A$4),1,IF([1]!Cell_Color(U61)=[1]!Cell_Color($A$5),2,IF([1]!Cell_Color(U61)=[1]!Cell_Color($A$6),3,IF([1]!Cell_Color(U61)=[1]!Cell_Color($A$7),3,IF([1]!Cell_Color(U61)=[1]!Cell_Color($A$8),4,IF([1]!Cell_Color(U61)=[1]!Cell_Color($A$9),4,0))))))))","v":36.945280494653247},{"$f":"(17-V61)*POWER(EXP(1),2*(4-IF([1]!Cell_Color(V61)=[1]!Cell_Color($A$4),1,IF([1]!Cell_Color(V61)=[1]!Cell_Color($A$5),2,IF([1]!Cell_Color(V61)=[1]!Cell_Color($A$6),3,IF([1]!Cell_Color(V61)=[1]!Cell_Color($A$7),3,IF([1]!Cell_Color(V61)=[1]!Cell_Color($A$8),4,IF([1]!Cell_Color(V61)=[1]!Cell_Color($A$9),4,0))))))))","v":36.945280494653247}]
[null,null,59,50,-9,53,-6,59,"Оркень СЕ",null,null,10,12,7,2,9,8,8,9,12,16,11,null,{"$f":"SUM(AB62:AF62)","v":266.22790736364209},{"$f":"SUM(AD62:AH62)","v":236.44979516578076},{"$f":"SUM(AE62:AI62)","v":175.94829027540493},null,{"$f":"(17-O62)*POWER(EXP(1),2*(4-IF([1]!Cell_Color(O62)=[1]!Cell_Color($A$4),1,IF([1]!Cell_Color(O62)=[1]!Cell_Color($A$5),2,IF([1]!Cell_Color(O62)=[1]!Cell_Color($A$6),3,IF([1]!Cell_Color(O62)=[1]!Cell_Color($A$7),3,IF([1]!Cell_Color(O62)=[1]!Cell_Color($A$8),4,IF([1]!Cell_Color(O62)=[1]!Cell_Color($A$9),4,0))))))))","v":15},{"$f":"(17-P62)*POWER(EXP(1),2*(4-IF([1]!Cell_Color(P62)=[1]!Cell_Color($A$4),1,IF([1]!Cell_Color(P62)=[1]!Cell_Color($A$5),2,IF([1]!Cell_Color(P62)=[1]!Cell_Color($A$6),3,IF([1]!Cell_Color(P62)=[1]!Cell_Color($A$7),3,IF([1]!Cell_Color(P62)=[1]!Cell_Color($A$8),4,IF([1]!Cell_Color(P62)=[1]!Cell_Color($A$9),4,0))))))))","v":59.112448791445196},{"$f":"(17-Q62)*POWER(EXP(1),2*(4-IF([1]!Cell_Color(Q62)=[1]!Cell_Color($A$4),1,IF([1]!Cell_Color(Q62)=[1]!Cell_Color($A$5),2,IF([1]!Cell_Color(Q62)=[1]!Cell_Color($A$6),3,IF([1]!Cell_Color(Q62)=[1]!Cell_Color($A$7),3,IF([1]!Cell_Color(Q62)=[1]!Cell_Color($A$8),4,IF([1]!Cell_Color(Q62)=[1]!Cell_Color($A$9),4,0))))))))","v":66.501504890375841},{"$f":"(17-R62)*POWER(EXP(1),2*(4-IF([1]!Cell_Color(R62)=[1]!Cell_Color($A$4),1,IF([1]!Cell_Color(R62)=[1]!Cell_Color($A$5),2,IF([1]!Cell_Color(R62)=[1]!Cell_Color($A$6),3,IF([1]!Cell_Color(R62)=[1]!Cell_Color($A$7),3,IF([1]!Cell_Color(R62)=[1]!Cell_Color($A$8),4,IF([1]!Cell_Color(R62)=[1]!Cell_Color($A$9),4,0))))))))","v":66.501504890375841},{"$f":"(17-S62)*POWER(EXP(1),2*(4-IF([1]!Cell_Color(S62)=[1]!Cell_Color($A$4),1,IF([1]!Cell_Color(S62)=[1]!Cell_Color($A$5),2,IF([1]!Cell_Color(S62)=[1]!Cell_Color($A$6),3,IF([1]!Cell_Color(S62)=[1]!Cell_Color($A$7),3,IF([1]!Cell_Color(S62)=[1]!Cell_Color($A$8),4,IF([1]!Cell_Color(S62)=[1]!Cell_Color($A$9),4,0))))))))","v":59.112448791445196},{"$f":"(17-T62)*POWER(EXP(1),2*(4-IF([1]!Cell_Color(T62)=[1]!Cell_Color($A$4),1,IF([1]!Cell_Color(T62)=[1]!Cell_Color($A$5),2,IF([1]!Cell_Color(T62)=[1]!Cell_Color($A$6),3,IF([1]!Cell_Color(T62)=[1]!Cell_Color($A$7),3,IF([1]!Cell_Color(T62)=[1]!Cell_Color($A$8),4,IF([1]!Cell_Color(T62)=[1]!Cell_Color($A$9),4,0))))))))","v":36.945280494653247},{"$f":"(17-U62)*POWER(EXP(1),2*(4-IF([1]!Cell_Color(U62)=[1]!Cell_Color($A$4),1,IF([1]!Cell_Color(U62)=[1]!Cell_Color($A$5),2,IF([1]!Cell_Color(U62)=[1]!Cell_Color($A$6),3,IF([1]!Cell_Color(U62)=[1]!Cell_Color($A$7),3,IF([1]!Cell_Color(U62)=[1]!Cell_Color($A$8),4,IF([1]!Cell_Color(U62)=[1]!Cell_Color($A$9),4,0))))))))","v":7.3890560989306495},{"$f":"(17-V62)*POWER(EXP(1),2*(4-IF([1]!Cell_Color(V62)=[1]!Cell_Color($A$4),1,IF([1]!Cell_Color(V62)=[1]!Cell_Color($A$5),2,IF([1]!Cell_Color(V62)=[1]!Cell_Color($A$6),3,IF([1]!Cell_Color(V62)=[1]!Cell_Color($A$7),3,IF([1]!Cell_Color(V62)=[1]!Cell_Color($A$8),4,IF([1]!Cell_Color(V62)=[1]!Cell_Color($A$9),4,0))))))))","v":6}]
[null,null,60,44,-16,55,-5,60,"Халадаш",8,9,16,4,7,13,16,9,16,2,2,14,3,null,{"$f":"SUM(AB63:AF63)","v":354.49225505609701},{"$f":"SUM(AD63:AH63)","v":214.50451467112754},{"$f":"SUM(AE63:AI63)","v":169.39206587968232},null,{"$f":"(17-O63)*POWER(EXP(1),2*(4-IF([1]!Cell_Color(O63)=[1]!Cell_Color($A$4),1,IF([1]!Cell_Color(O63)=[1]!Cell_Color($A$5),2,IF([1]!Cell_Color(O63)=[1]!Cell_Color($A$6),3,IF([1]!Cell_Color(O63)=[1]!Cell_Color($A$7),3,IF([1]!Cell_Color(O63)=[1]!Cell_Color($A$8),4,IF([1]!Cell_Color(O63)=[1]!Cell_Color($A$9),4,0))))))))","v":218.39260013257692},{"$f":"(17-P63)*POWER(EXP(1),2*(4-IF([1]!Cell_Color(P63)=[1]!Cell_Color($A$4),1,IF([1]!Cell_Color(P63)=[1]!Cell_Color($A$5),2,IF([1]!Cell_Color(P63)=[1]!Cell_Color($A$6),3,IF([1]!Cell_Color(P63)=[1]!Cell_Color($A$7),3,IF([1]!Cell_Color(P63)=[1]!Cell_Color($A$8),4,IF([1]!Cell_Color(P63)=[1]!Cell_Color($A$9),4,0))))))))","v":54.598150033144229},{"$f":"(17-Q63)*POWER(EXP(1),2*(4-IF([1]!Cell_Color(Q63)=[1]!Cell_Color($A$4),1,IF([1]!Cell_Color(Q63)=[1]!Cell_Color($A$5),2,IF([1]!Cell_Color(Q63)=[1]!Cell_Color($A$6),3,IF([1]!Cell_Color(Q63)=[1]!Cell_Color($A$7),3,IF([1]!Cell_Color(Q63)=[1]!Cell_Color($A$8),4,IF([1]!Cell_Color(Q63)=[1]!Cell_Color($A$9),4,0))))))))","v":59.112448791445196},{"$f":"(17-R63)*POWER(EXP(1),2*(4-IF([1]!Cell_Color(R63)=[1]!Cell_Color($A$4),1,IF([1]!Cell_Color(R63)=[1]!Cell_Color($A$5),2,IF([1]!Cell_Color(R63)=[1]!Cell_Color($A$6),3,IF([1]!Cell_Color(R63)=[1]!Cell_Color($A$7),3,IF([1]!Cell_Color(R63)=[1]!Cell_Color($A$8),4,IF([1]!Cell_Color(R63)=[1]!Cell_Color($A$9),4,0))))))))","v":7.3890560989306495},{"$f":"(17-S63)*POWER(EXP(1),2*(4-IF([1]!Cell_Color(S63)=[1]!Cell_Color($A$4),1,IF([1]!Cell_Color(S63)=[1]!Cell_Color($A$5),2,IF([1]!Cell_Color(S63)=[1]!Cell_Color($A$6),3,IF([1]!Cell_Color(S63)=[1]!Cell_Color($A$7),3,IF([1]!Cell_Color(S63)=[1]!Cell_Color($A$8),4,IF([1]!Cell_Color(S63)=[1]!Cell_Color($A$9),4,0))))))))","v":15},{"$f":"(17-T63)*POWER(EXP(1),2*(4-IF([1]!Cell_Color(T63)=[1]!Cell_Color($A$4),1,IF([1]!Cell_Color(T63)=[1]!Cell_Color($A$5),2,IF([1]!Cell_Color(T63)=[1]!Cell_Color($A$6),3,IF([1]!Cell_Color(T63)=[1]!Cell_Color($A$7),3,IF([1]!Cell_Color(T63)=[1]!Cell_Color($A$8),4,IF([1]!Cell_Color(T63)=[1]!Cell_Color($A$9),4,0))))))))","v":110.83584148395974},{"$f":"(17-U63)*POWER(EXP(1),2*(4-IF([1]!Cell_Color(U63)=[1]!Cell_Color($A$4),1,IF([1]!Cell_Color(U63)=[1]!Cell_Color($A$5),2,IF([1]!Cell_Color(U63)=[1]!Cell_Color($A$6),3,IF([1]!Cell_Color(U63)=[1]!Cell_Color($A$7),3,IF([1]!Cell_Color(U63)=[1]!Cell_Color($A$8),4,IF([1]!Cell_Color(U63)=[1]!Cell_Color($A$9),4,0))))))))","v":22.167168296791949},{"$f":"(17-V63)*POWER(EXP(1),2*(4-IF([1]!Cell_Color(V63)=[1]!Cell_Color($A$4),1,IF([1]!Cell_Color(V63)=[1]!Cell_Color($A$5),2,IF([1]!Cell_Color(V63)=[1]!Cell_Color($A$6),3,IF([1]!Cell_Color(V63)=[1]!Cell_Color($A$7),3,IF([1]!Cell_Color(V63)=[1]!Cell_Color($A$8),4,IF([1]!Cell_Color(V63)=[1]!Cell_Color($A$9),4,0))))))))","v":14}]
[null,null,61,56,-5,61,null,61,"Ибрань Вароши СЕ",null,null,14,11,2,9,12,15,3,5,11,16,7,null,{"$f":"SUM(AB64:AF64)","v":213.50451467112754},{"$f":"SUM(AD64:AH64)","v":169.17017807754362},{"$f":"SUM(AE64:AI64)","v":164.39206587968235},null,{"$f":"(17-O64)*POWER(EXP(1),2*(4-IF([1]!Cell_Color(O64)=[1]!Cell_Color($A$4),1,IF([1]!Cell_Color(O64)=[1]!Cell_Color($A$5),2,IF([1]!Cell_Color(O64)=[1]!Cell_Color($A$6),3,IF([1]!Cell_Color(O64)=[1]!Cell_Color($A$7),3,IF([1]!Cell_Color(O64)=[1]!Cell_Color($A$8),4,IF([1]!Cell_Color(O64)=[1]!Cell_Color($A$9),4,0))))))))","v":59.112448791445196},{"$f":"(17-P64)*POWER(EXP(1),2*(4-IF([1]!Cell_Color(P64)=[1]!Cell_Color($A$4),1,IF([1]!Cell_Color(P64)=[1]!Cell_Color($A$5),2,IF([1]!Cell_Color(P64)=[1]!Cell_Color($A$6),3,IF([1]!Cell_Color(P64)=[1]!Cell_Color($A$7),3,IF([1]!Cell_Color(P64)=[1]!Cell_Color($A$8),4,IF([1]!Cell_Color(P64)=[1]!Cell_Color($A$9),4,0))))))))","v":36.945280494653247},{"$f":"(17-Q64)*POWER(EXP(1),2*(4-IF([1]!Cell_Color(Q64)=[1]!Cell_Color($A$4),1,IF([1]!Cell_Color(Q64)=[1]!Cell_Color($A$5),2,IF([1]!Cell_Color(Q64)=[1]!Cell_Color($A$6),3,IF([1]!Cell_Color(Q64)=[1]!Cell_Color($A$7),3,IF([1]!Cell_Color(Q64)=[1]!Cell_Color($A$8),4,IF([1]!Cell_Color(Q64)=[1]!Cell_Color($A$9),4,0))))))))","v":14.778112197861299},{"$f":"(17-R64)*POWER(EXP(1),2*(4-IF([1]!Cell_Color(R64)=[1]!Cell_Color($A$4),1,IF([1]!Cell_Color(R64)=[1]!Cell_Color($A$5),2,IF([1]!Cell_Color(R64)=[1]!Cell_Color($A$6),3,IF([1]!Cell_Color(R64)=[1]!Cell_Color($A$7),3,IF([1]!Cell_Color(R64)=[1]!Cell_Color($A$8),4,IF([1]!Cell_Color(R64)=[1]!Cell_Color($A$9),4,0))))))))","v":14},{"$f":"(17-S64)*POWER(EXP(1),2*(4-IF([1]!Cell_Color(S64)=[1]!Cell_Color($A$4),1,IF([1]!Cell_Color(S64)=[1]!Cell_Color($A$5),2,IF([1]!Cell_Color(S64)=[1]!Cell_Color($A$6),3,IF([1]!Cell_Color(S64)=[1]!Cell_Color($A$7),3,IF([1]!Cell_Color(S64)=[1]!Cell_Color($A$8),4,IF([1]!Cell_Color(S64)=[1]!Cell_Color($A$9),4,0))))))))","v":88.668673187167798},{"$f":"(17-T64)*POWER(EXP(1),2*(4-IF([1]!Cell_Color(T64)=[1]!Cell_Color($A$4),1,IF([1]!Cell_Color(T64)=[1]!Cell_Color($A$5),2,IF([1]!Cell_Color(T64)=[1]!Cell_Color($A$6),3,IF([1]!Cell_Color(T64)=[1]!Cell_Color($A$7),3,IF([1]!Cell_Color(T64)=[1]!Cell_Color($A$8),4,IF([1]!Cell_Color(T64)=[1]!Cell_Color($A$9),4,0))))))))","v":44.334336593583899},{"$f":"(17-U64)*POWER(EXP(1),2*(4-IF([1]!Cell_Color(U64)=[1]!Cell_Color($A$4),1,IF([1]!Cell_Color(U64)=[1]!Cell_Color($A$5),2,IF([1]!Cell_Color(U64)=[1]!Cell_Color($A$6),3,IF([1]!Cell_Color(U64)=[1]!Cell_Color($A$7),3,IF([1]!Cell_Color(U64)=[1]!Cell_Color($A$8),4,IF([1]!Cell_Color(U64)=[1]!Cell_Color($A$9),4,0))))))))","v":7.3890560989306495},{"$f":"(17-V64)*POWER(EXP(1),2*(4-IF([1]!Cell_Color(V64)=[1]!Cell_Color($A$4),1,IF([1]!Cell_Color(V64)=[1]!Cell_Color($A$5),2,IF([1]!Cell_Color(V64)=[1]!Cell_Color($A$6),3,IF([1]!Cell_Color(V64)=[1]!Cell_Color($A$7),3,IF([1]!Cell_Color(V64)=[1]!Cell_Color($A$8),4,IF([1]!Cell_Color(V64)=[1]!Cell_Color($A$9),4,0))))))))","v":10}]
[null,null,62,69,7,70,8,62,"Дороги ФК",null,null,1,14,9,11,1,14,2,12,13,2,8,null,{"$f":"SUM(AB65:AF65)","v":96.112448791445189},{"$f":"SUM(AD65:AH65)","v":118.66867318716778},{"$f":"SUM(AE65:AI65)","v":163.00300978075168},null,{"$f":"(17-O65)*POWER(EXP(1),2*(4-IF([1]!Cell_Color(O65)=[1]!Cell_Color($A$4),1,IF([1]!Cell_Color(O65)=[1]!Cell_Color($A$5),2,IF([1]!Cell_Color(O65)=[1]!Cell_Color($A$6),3,IF([1]!Cell_Color(O65)=[1]!Cell_Color($A$7),3,IF([1]!Cell_Color(O65)=[1]!Cell_Color($A$8),4,IF([1]!Cell_Color(O65)=[1]!Cell_Color($A$9),4,0))))))))","v":6},{"$f":"(17-P65)*POWER(EXP(1),2*(4-IF([1]!Cell_Color(P65)=[1]!Cell_Color($A$4),1,IF([1]!Cell_Color(P65)=[1]!Cell_Color($A$5),2,IF([1]!Cell_Color(P65)=[1]!Cell_Color($A$6),3,IF([1]!Cell_Color(P65)=[1]!Cell_Color($A$7),3,IF([1]!Cell_Color(P65)=[1]!Cell_Color($A$8),4,IF([1]!Cell_Color(P65)=[1]!Cell_Color($A$9),4,0))))))))","v":16},{"$f":"(17-Q65)*POWER(EXP(1),2*(4-IF([1]!Cell_Color(Q65)=[1]!Cell_Color($A$4),1,IF([1]!Cell_Color(Q65)=[1]!Cell_Color($A$5),2,IF([1]!Cell_Color(Q65)=[1]!Cell_Color($A$6),3,IF([1]!Cell_Color(Q65)=[1]!Cell_Color($A$7),3,IF([1]!Cell_Color(Q65)=[1]!Cell_Color($A$8),4,IF([1]!Cell_Color(Q65)=[1]!Cell_Color($A$9),4,0))))))))","v":22.167168296791949},{"$f":"(17-R65)*POWER(EXP(1),2*(4-IF([1]!Cell_Color(R65)=[1]!Cell_Color($A$4),1,IF([1]!Cell_Color(R65)=[1]!Cell_Color($A$5),2,IF([1]!Cell_Color(R65)=[1]!Cell_Color($A$6),3,IF([1]!Cell_Color(R65)=[1]!Cell_Color($A$7),3,IF([1]!Cell_Color(R65)=[1]!Cell_Color($A$8),4,IF([1]!Cell_Color(R65)=[1]!Cell_Color($A$9),4,0))))))))","v":15},{"$f":"(17-S65)*POWER(EXP(1),2*(4-IF([1]!Cell_Color(S65)=[1]!Cell_Color($A$4),1,IF([1]!Cell_Color(S65)=[1]!Cell_Color($A$5),2,IF([1]!Cell_Color(S65)=[1]!Cell_Color($A$6),3,IF([1]!Cell_Color(S65)=[1]!Cell_Color($A$7),3,IF([1]!Cell_Color(S65)=[1]!Cell_Color($A$8),4,IF([1]!Cell_Color(S65)=[1]!Cell_Color($A$9),4,0))))))))","v":36.945280494653247},{"$f":"(17-T65)*POWER(EXP(1),2*(4-IF([1]!Cell_Color(T65)=[1]!Cell_Color($A$4),1,IF([1]!Cell_Color(T65)=[1]!Cell_Color($A$5),2,IF([1]!Cell_Color(T65)=[1]!Cell_Color($A$6),3,IF([1]!Cell_Color(T65)=[1]!Cell_Color($A$7),3,IF([1]!Cell_Color(T65)=[1]!Cell_Color($A$8),4,IF([1]!Cell_Color(T65)=[1]!Cell_Color($A$9),4,0))))))))","v":29.556224395722598},{"$f":"(17-U65)*POWER(EXP(1),2*(4-IF([1]!Cell_Color(U65)=[1]!Cell_Color($A$4),1,IF([1]!Cell_Color(U65)=[1]!Cell_Color($A$5),2,IF([1]!Cell_Color(U65)=[1]!Cell_Color($A$6),3,IF([1]!Cell_Color(U65)=[1]!Cell_Color($A$7),3,IF([1]!Cell_Color(U65)=[1]!Cell_Color($A$8),4,IF([1]!Cell_Color(U65)=[1]!Cell_Color($A$9),4,0))))))))","v":15},{"$f":"(17-V65)*POWER(EXP(1),2*(4-IF([1]!Cell_Color(V65)=[1]!Cell_Color($A$4),1,IF([1]!Cell_Color(V65)=[1]!Cell_Color($A$5),2,IF([1]!Cell_Color(V65)=[1]!Cell_Color($A$6),3,IF([1]!Cell_Color(V65)=[1]!Cell_Color($A$7),3,IF([1]!Cell_Color(V65)=[1]!Cell_Color($A$8),4,IF([1]!Cell_Color(V65)=[1]!Cell_Color($A$9),4,0))))))))","v":66.501504890375841}]
[null,null,63,43,-20,52,-11,63,"Ференцварош",8,9,16,3,5,8,4,4,8,10,15,3,15,null,{"$f":"SUM(AB66:AF66)","v":376.84186104546313},{"$f":"SUM(AD66:AH66)","v":243.06073906685015},{"$f":"SUM(AE66:AI66)","v":161.78112197861299},null,{"$f":"(17-O66)*POWER(EXP(1),2*(4-IF([1]!Cell_Color(O66)=[1]!Cell_Color($A$4),1,IF([1]!Cell_Color(O66)=[1]!Cell_Color($A$5),2,IF([1]!Cell_Color(O66)=[1]!Cell_Color($A$6),3,IF([1]!Cell_Color(O66)=[1]!Cell_Color($A$7),3,IF([1]!Cell_Color(O66)=[1]!Cell_Color($A$8),4,IF([1]!Cell_Color(O66)=[1]!Cell_Color($A$9),4,0))))))))","v":66.501504890375841},{"$f":"(17-P66)*POWER(EXP(1),2*(4-IF([1]!Cell_Color(P66)=[1]!Cell_Color($A$4),1,IF([1]!Cell_Color(P66)=[1]!Cell_Color($A$5),2,IF([1]!Cell_Color(P66)=[1]!Cell_Color($A$6),3,IF([1]!Cell_Color(P66)=[1]!Cell_Color($A$7),3,IF([1]!Cell_Color(P66)=[1]!Cell_Color($A$8),4,IF([1]!Cell_Color(P66)=[1]!Cell_Color($A$9),4,0))))))))","v":96.05772928609845},{"$f":"(17-Q66)*POWER(EXP(1),2*(4-IF([1]!Cell_Color(Q66)=[1]!Cell_Color($A$4),1,IF([1]!Cell_Color(Q66)=[1]!Cell_Color($A$5),2,IF([1]!Cell_Color(Q66)=[1]!Cell_Color($A$6),3,IF([1]!Cell_Color(Q66)=[1]!Cell_Color($A$7),3,IF([1]!Cell_Color(Q66)=[1]!Cell_Color($A$8),4,IF([1]!Cell_Color(Q66)=[1]!Cell_Color($A$9),4,0))))))))","v":96.05772928609845},{"$f":"(17-R66)*POWER(EXP(1),2*(4-IF([1]!Cell_Color(R66)=[1]!Cell_Color($A$4),1,IF([1]!Cell_Color(R66)=[1]!Cell_Color($A$5),2,IF([1]!Cell_Color(R66)=[1]!Cell_Color($A$6),3,IF([1]!Cell_Color(R66)=[1]!Cell_Color($A$7),3,IF([1]!Cell_Color(R66)=[1]!Cell_Color($A$8),4,IF([1]!Cell_Color(R66)=[1]!Cell_Color($A$9),4,0))))))))","v":66.501504890375841},{"$f":"(17-S66)*POWER(EXP(1),2*(4-IF([1]!Cell_Color(S66)=[1]!Cell_Color($A$4),1,IF([1]!Cell_Color(S66)=[1]!Cell_Color($A$5),2,IF([1]!Cell_Color(S66)=[1]!Cell_Color($A$6),3,IF([1]!Cell_Color(S66)=[1]!Cell_Color($A$7),3,IF([1]!Cell_Color(S66)=[1]!Cell_Color($A$8),4,IF([1]!Cell_Color(S66)=[1]!Cell_Color($A$9),4,0))))))))","v":51.723392692514544},{"$f":"(17-T66)*POWER(EXP(1),2*(4-IF([1]!Cell_Color(T66)=[1]!Cell_Color($A$4),1,IF([1]!Cell_Color(T66)=[1]!Cell_Color($A$5),2,IF([1]!Cell_Color(T66)=[1]!Cell_Color($A$6),3,IF([1]!Cell_Color(T66)=[1]!Cell_Color($A$7),3,IF([1]!Cell_Color(T66)=[1]!Cell_Color($A$8),4,IF([1]!Cell_Color(T66)=[1]!Cell_Color($A$9),4,0))))))))","v":14.778112197861299},{"$f":"(17-U66)*POWER(EXP(1),2*(4-IF([1]!Cell_Color(U66)=[1]!Cell_Color($A$4),1,IF([1]!Cell_Color(U66)=[1]!Cell_Color($A$5),2,IF([1]!Cell_Color(U66)=[1]!Cell_Color($A$6),3,IF([1]!Cell_Color(U66)=[1]!Cell_Color($A$7),3,IF([1]!Cell_Color(U66)=[1]!Cell_Color($A$8),4,IF([1]!Cell_Color(U66)=[1]!Cell_Color($A$9),4,0))))))))","v":14},{"$f":"(17-V66)*POWER(EXP(1),2*(4-IF([1]!Cell_Color(V66)=[1]!Cell_Color($A$4),1,IF([1]!Cell_Color(V66)=[1]!Cell_Color($A$5),2,IF([1]!Cell_Color(V66)=[1]!Cell_Color($A$6),3,IF([1]!Cell_Color(V66)=[1]!Cell_Color($A$7),3,IF([1]!Cell_Color(V66)=[1]!Cell_Color($A$8),4,IF([1]!Cell_Color(V66)=[1]!Cell_Color($A$9),4,0))))))))","v":14.778112197861299}]
[null,null,64,58,-6,58,-6,64,"Монор СЭ",8,11,11,13,14,4,2,10,11,8,13,9,6,null,{"$f":"SUM(AB67:AF67)","v":190.55923417647429},{"$f":"SUM(AD67:AH67)","v":200.11545857219687},{"$f":"SUM(AE67:AI67)","v":159.39206587968235},null,{"$f":"(17-O67)*POWER(EXP(1),2*(4-IF([1]!Cell_Color(O67)=[1]!Cell_Color($A$4),1,IF([1]!Cell_Color(O67)=[1]!Cell_Color($A$5),2,IF([1]!Cell_Color(O67)=[1]!Cell_Color($A$6),3,IF([1]!Cell_Color(O67)=[1]!Cell_Color($A$7),3,IF([1]!Cell_Color(O67)=[1]!Cell_Color($A$8),4,IF([1]!Cell_Color(O67)=[1]!Cell_Color($A$9),4,0))))))))","v":13},{"$f":"(17-P67)*POWER(EXP(1),2*(4-IF([1]!Cell_Color(P67)=[1]!Cell_Color($A$4),1,IF([1]!Cell_Color(P67)=[1]!Cell_Color($A$5),2,IF([1]!Cell_Color(P67)=[1]!Cell_Color($A$6),3,IF([1]!Cell_Color(P67)=[1]!Cell_Color($A$7),3,IF([1]!Cell_Color(P67)=[1]!Cell_Color($A$8),4,IF([1]!Cell_Color(P67)=[1]!Cell_Color($A$9),4,0))))))))","v":15},{"$f":"(17-Q67)*POWER(EXP(1),2*(4-IF([1]!Cell_Color(Q67)=[1]!Cell_Color($A$4),1,IF([1]!Cell_Color(Q67)=[1]!Cell_Color($A$5),2,IF([1]!Cell_Color(Q67)=[1]!Cell_Color($A$6),3,IF([1]!Cell_Color(Q67)=[1]!Cell_Color($A$7),3,IF([1]!Cell_Color(Q67)=[1]!Cell_Color($A$8),4,IF([1]!Cell_Color(Q67)=[1]!Cell_Color($A$9),4,0))))))))","v":51.723392692514544},{"$f":"(17-R67)*POWER(EXP(1),2*(4-IF([1]!Cell_Color(R67)=[1]!Cell_Color($A$4),1,IF([1]!Cell_Color(R67)=[1]!Cell_Color($A$5),2,IF([1]!Cell_Color(R67)=[1]!Cell_Color($A$6),3,IF([1]!Cell_Color(R67)=[1]!Cell_Color($A$7),3,IF([1]!Cell_Color(R67)=[1]!Cell_Color($A$8),4,IF([1]!Cell_Color(R67)=[1]!Cell_Color($A$9),4,0))))))))","v":44.334336593583899},{"$f":"(17-S67)*POWER(EXP(1),2*(4-IF([1]!Cell_Color(S67)=[1]!Cell_Color($A$4),1,IF([1]!Cell_Color(S67)=[1]!Cell_Color($A$5),2,IF([1]!Cell_Color(S67)=[1]!Cell_Color($A$6),3,IF([1]!Cell_Color(S67)=[1]!Cell_Color($A$7),3,IF([1]!Cell_Color(S67)=[1]!Cell_Color($A$8),4,IF([1]!Cell_Color(S67)=[1]!Cell_Color($A$9),4,0))))))))","v":66.501504890375841},{"$f":"(17-T67)*POWER(EXP(1),2*(4-IF([1]!Cell_Color(T67)=[1]!Cell_Color($A$4),1,IF([1]!Cell_Color(T67)=[1]!Cell_Color($A$5),2,IF([1]!Cell_Color(T67)=[1]!Cell_Color($A$6),3,IF([1]!Cell_Color(T67)=[1]!Cell_Color($A$7),3,IF([1]!Cell_Color(T67)=[1]!Cell_Color($A$8),4,IF([1]!Cell_Color(T67)=[1]!Cell_Color($A$9),4,0))))))))","v":29.556224395722598},{"$f":"(17-U67)*POWER(EXP(1),2*(4-IF([1]!Cell_Color(U67)=[1]!Cell_Color($A$4),1,IF([1]!Cell_Color(U67)=[1]!Cell_Color($A$5),2,IF([1]!Cell_Color(U67)=[1]!Cell_Color($A$6),3,IF([1]!Cell_Color(U67)=[1]!Cell_Color($A$7),3,IF([1]!Cell_Color(U67)=[1]!Cell_Color($A$8),4,IF([1]!Cell_Color(U67)=[1]!Cell_Color($A$9),4,0))))))))","v":8},{"$f":"(17-V67)*POWER(EXP(1),2*(4-IF([1]!Cell_Color(V67)=[1]!Cell_Color($A$4),1,IF([1]!Cell_Color(V67)=[1]!Cell_Color($A$5),2,IF([1]!Cell_Color(V67)=[1]!Cell_Color($A$6),3,IF([1]!Cell_Color(V67)=[1]!Cell_Color($A$7),3,IF([1]!Cell_Color(V67)=[1]!Cell_Color($A$8),4,IF([1]!Cell_Color(V67)=[1]!Cell_Color($A$9),4,0))))))))","v":11}]
[null,null,65,41,-24,51,-14,65,"ДВТК",13,8,14,1,12,9,3,3,15,14,16,16,16,null,{"$f":"SUM(AB68:AF68)","v":397.36948792458378},{"$f":"SUM(AD68:AH68)","v":243.19930984704013},{"$f":"SUM(AE68:AI68)","v":140.75252446201105},null,{"$f":"(17-O68)*POWER(EXP(1),2*(4-IF([1]!Cell_Color(O68)=[1]!Cell_Color($A$4),1,IF([1]!Cell_Color(O68)=[1]!Cell_Color($A$5),2,IF([1]!Cell_Color(O68)=[1]!Cell_Color($A$6),3,IF([1]!Cell_Color(O68)=[1]!Cell_Color($A$7),3,IF([1]!Cell_Color(O68)=[1]!Cell_Color($A$8),4,IF([1]!Cell_Color(O68)=[1]!Cell_Color($A$9),4,0))))))))","v":59.112448791445196},{"$f":"(17-P68)*POWER(EXP(1),2*(4-IF([1]!Cell_Color(P68)=[1]!Cell_Color($A$4),1,IF([1]!Cell_Color(P68)=[1]!Cell_Color($A$5),2,IF([1]!Cell_Color(P68)=[1]!Cell_Color($A$6),3,IF([1]!Cell_Color(P68)=[1]!Cell_Color($A$7),3,IF([1]!Cell_Color(P68)=[1]!Cell_Color($A$8),4,IF([1]!Cell_Color(P68)=[1]!Cell_Color($A$9),4,0))))))))","v":103.44678538502909},{"$f":"(17-Q68)*POWER(EXP(1),2*(4-IF([1]!Cell_Color(Q68)=[1]!Cell_Color($A$4),1,IF([1]!Cell_Color(Q68)=[1]!Cell_Color($A$5),2,IF([1]!Cell_Color(Q68)=[1]!Cell_Color($A$6),3,IF([1]!Cell_Color(Q68)=[1]!Cell_Color($A$7),3,IF([1]!Cell_Color(Q68)=[1]!Cell_Color($A$8),4,IF([1]!Cell_Color(Q68)=[1]!Cell_Color($A$9),4,0))))))))","v":103.44678538502909},{"$f":"(17-R68)*POWER(EXP(1),2*(4-IF([1]!Cell_Color(R68)=[1]!Cell_Color($A$4),1,IF([1]!Cell_Color(R68)=[1]!Cell_Color($A$5),2,IF([1]!Cell_Color(R68)=[1]!Cell_Color($A$6),3,IF([1]!Cell_Color(R68)=[1]!Cell_Color($A$7),3,IF([1]!Cell_Color(R68)=[1]!Cell_Color($A$8),4,IF([1]!Cell_Color(R68)=[1]!Cell_Color($A$9),4,0))))))))","v":109.19630006628846},{"$f":"(17-S68)*POWER(EXP(1),2*(4-IF([1]!Cell_Color(S68)=[1]!Cell_Color($A$4),1,IF([1]!Cell_Color(S68)=[1]!Cell_Color($A$5),2,IF([1]!Cell_Color(S68)=[1]!Cell_Color($A$6),3,IF([1]!Cell_Color(S68)=[1]!Cell_Color($A$7),3,IF([1]!Cell_Color(S68)=[1]!Cell_Color($A$8),4,IF([1]!Cell_Color(S68)=[1]!Cell_Color($A$9),4,0))))))))","v":22.167168296791949},{"$f":"(17-T68)*POWER(EXP(1),2*(4-IF([1]!Cell_Color(T68)=[1]!Cell_Color($A$4),1,IF([1]!Cell_Color(T68)=[1]!Cell_Color($A$5),2,IF([1]!Cell_Color(T68)=[1]!Cell_Color($A$6),3,IF([1]!Cell_Color(T68)=[1]!Cell_Color($A$7),3,IF([1]!Cell_Color(T68)=[1]!Cell_Color($A$8),4,IF([1]!Cell_Color(T68)=[1]!Cell_Color($A$9),4,0))))))))","v":7.3890560989306495},{"$f":"(17-U68)*POWER(EXP(1),2*(4-IF([1]!Cell_Color(U68)=[1]!Cell_Color($A$4),1,IF([1]!Cell_Color(U68)=[1]!Cell_Color($A$5),2,IF([1]!Cell_Color(U68)=[1]!Cell_Color($A$6),3,IF([1]!Cell_Color(U68)=[1]!Cell_Color($A$7),3,IF([1]!Cell_Color(U68)=[1]!Cell_Color($A$8),4,IF([1]!Cell_Color(U68)=[1]!Cell_Color($A$9),4,0))))))))","v":1},{"$f":"(17-V68)*POWER(EXP(1),2*(4-IF([1]!Cell_Color(V68)=[1]!Cell_Color($A$4),1,IF([1]!Cell_Color(V68)=[1]!Cell_Color($A$5),2,IF([1]!Cell_Color(V68)=[1]!Cell_Color($A$6),3,IF([1]!Cell_Color(V68)=[1]!Cell_Color($A$7),3,IF([1]!Cell_Color(V68)=[1]!Cell_Color($A$8),4,IF([1]!Cell_Color(V68)=[1]!Cell_Color($A$9),4,0))))))))","v":1}]
[null,null,66,57,{"$f":"D69-H69","v":-9},56,{"$f":"F69-H69","v":-10},66,"Интеграл-ДАЦ СЕ",null,null,13,11,5,9,2,6,5,15,9,6,4,null,{"$f":"SUM(AB69:AF69)","v":207.72640247326623},{"$f":"SUM(AD69:AH69)","v":203.72640247326623},{"$f":"SUM(AE69:AI69)","v":135.4467853850291},null,{"$f":"(17-O69)*POWER(EXP(1),2*(4-IF([1]!Cell_Color(O69)=[1]!Cell_Color($A$4),1,IF([1]!Cell_Color(O69)=[1]!Cell_Color($A$5),2,IF([1]!Cell_Color(O69)=[1]!Cell_Color($A$6),3,IF([1]!Cell_Color(O69)=[1]!Cell_Color($A$7),3,IF([1]!Cell_Color(O69)=[1]!Cell_Color($A$8),4,IF([1]!Cell_Color(O69)=[1]!Cell_Color($A$9),4,0))))))))","v":8},{"$f":"(17-P69)*POWER(EXP(1),2*(4-IF([1]!Cell_Color(P69)=[1]!Cell_Color($A$4),1,IF([1]!Cell_Color(P69)=[1]!Cell_Color($A$5),2,IF([1]!Cell_Color(P69)=[1]!Cell_Color($A$6),3,IF([1]!Cell_Color(P69)=[1]!Cell_Color($A$7),3,IF([1]!Cell_Color(P69)=[1]!Cell_Color($A$8),4,IF([1]!Cell_Color(P69)=[1]!Cell_Color($A$9),4,0))))))))","v":15},{"$f":"(17-Q69)*POWER(EXP(1),2*(4-IF([1]!Cell_Color(Q69)=[1]!Cell_Color($A$4),1,IF([1]!Cell_Color(Q69)=[1]!Cell_Color($A$5),2,IF([1]!Cell_Color(Q69)=[1]!Cell_Color($A$6),3,IF([1]!Cell_Color(Q69)=[1]!Cell_Color($A$7),3,IF([1]!Cell_Color(Q69)=[1]!Cell_Color($A$8),4,IF([1]!Cell_Color(Q69)=[1]!Cell_Color($A$9),4,0))))))))","v":81.279617088237146},{"$f":"(17-R69)*POWER(EXP(1),2*(4-IF([1]!Cell_Color(R69)=[1]!Cell_Color($A$4),1,IF([1]!Cell_Color(R69)=[1]!Cell_Color($A$5),2,IF([1]!Cell_Color(R69)=[1]!Cell_Color($A$6),3,IF([1]!Cell_Color(R69)=[1]!Cell_Color($A$7),3,IF([1]!Cell_Color(R69)=[1]!Cell_Color($A$8),4,IF([1]!Cell_Color(R69)=[1]!Cell_Color($A$9),4,0))))))))","v":88.668673187167798},{"$f":"(17-S69)*POWER(EXP(1),2*(4-IF([1]!Cell_Color(S69)=[1]!Cell_Color($A$4),1,IF([1]!Cell_Color(S69)=[1]!Cell_Color($A$5),2,IF([1]!Cell_Color(S69)=[1]!Cell_Color($A$6),3,IF([1]!Cell_Color(S69)=[1]!Cell_Color($A$7),3,IF([1]!Cell_Color(S69)=[1]!Cell_Color($A$8),4,IF([1]!Cell_Color(S69)=[1]!Cell_Color($A$9),4,0))))))))","v":14.778112197861299},{"$f":"(17-T69)*POWER(EXP(1),2*(4-IF([1]!Cell_Color(T69)=[1]!Cell_Color($A$4),1,IF([1]!Cell_Color(T69)=[1]!Cell_Color($A$5),2,IF([1]!Cell_Color(T69)=[1]!Cell_Color($A$6),3,IF([1]!Cell_Color(T69)=[1]!Cell_Color($A$7),3,IF([1]!Cell_Color(T69)=[1]!Cell_Color($A$8),4,IF([1]!Cell_Color(T69)=[1]!Cell_Color($A$9),4,0))))))))","v":8},{"$f":"(17-U69)*POWER(EXP(1),2*(4-IF([1]!Cell_Color(U69)=[1]!Cell_Color($A$4),1,IF([1]!Cell_Color(U69)=[1]!Cell_Color($A$5),2,IF([1]!Cell_Color(U69)=[1]!Cell_Color($A$6),3,IF([1]!Cell_Color(U69)=[1]!Cell_Color($A$7),3,IF([1]!Cell_Color(U69)=[1]!Cell_Color($A$8),4,IF([1]!Cell_Color(U69)=[1]!Cell_Color($A$9),4,0))))))))","v":11},{"$f":"(17-V69)*POWER(EXP(1),2*(4-IF([1]!Cell_Color(V69)=[1]!Cell_Color($A$4),1,IF([1]!Cell_Color(V69)=[1]!Cell_Color($A$5),2,IF([1]!Cell_Color(V69)=[1]!Cell_Color($A$6),3,IF([1]!Cell_Color(V69)=[1]!Cell_Color($A$7),3,IF([1]!Cell_Color(V69)=[1]!Cell_Color($A$8),4,IF([1]!Cell_Color(V69)=[1]!Cell_Color($A$9),4,0))))))))","v":13}]
[null,null,{"$f":"C69+1","v":67},49,-18,63,-4,67,"Татабанья",11,10,8,8,7,6,5,13,6,12,16,14,12,null,{"$f":"SUM(AB70:AF70)","v":317.72941225401792},{"$f":"SUM(AD70:AH70)","v":158.17017807754362},{"$f":"SUM(AE70:AI70)","v":133.61395368182104},null,{"$f":"(17-O70)*POWER(EXP(1),2*(4-IF([1]!Cell_Color(O70)=[1]!Cell_Color($A$4),1,IF([1]!Cell_Color(O70)=[1]!Cell_Color($A$5),2,IF([1]!Cell_Color(O70)=[1]!Cell_Color($A$6),3,IF([1]!Cell_Color(O70)=[1]!Cell_Color($A$7),3,IF([1]!Cell_Color(O70)=[1]!Cell_Color($A$8),4,IF([1]!Cell_Color(O70)=[1]!Cell_Color($A$9),4,0))))))))","v":81.279617088237146},{"$f":"(17-P70)*POWER(EXP(1),2*(4-IF([1]!Cell_Color(P70)=[1]!Cell_Color($A$4),1,IF([1]!Cell_Color(P70)=[1]!Cell_Color($A$5),2,IF([1]!Cell_Color(P70)=[1]!Cell_Color($A$6),3,IF([1]!Cell_Color(P70)=[1]!Cell_Color($A$7),3,IF([1]!Cell_Color(P70)=[1]!Cell_Color($A$8),4,IF([1]!Cell_Color(P70)=[1]!Cell_Color($A$9),4,0))))))))","v":88.668673187167798},{"$f":"(17-Q70)*POWER(EXP(1),2*(4-IF([1]!Cell_Color(Q70)=[1]!Cell_Color($A$4),1,IF([1]!Cell_Color(Q70)=[1]!Cell_Color($A$5),2,IF([1]!Cell_Color(Q70)=[1]!Cell_Color($A$6),3,IF([1]!Cell_Color(Q70)=[1]!Cell_Color($A$7),3,IF([1]!Cell_Color(Q70)=[1]!Cell_Color($A$8),4,IF([1]!Cell_Color(Q70)=[1]!Cell_Color($A$9),4,0))))))))","v":29.556224395722598},{"$f":"(17-R70)*POWER(EXP(1),2*(4-IF([1]!Cell_Color(R70)=[1]!Cell_Color($A$4),1,IF([1]!Cell_Color(R70)=[1]!Cell_Color($A$5),2,IF([1]!Cell_Color(R70)=[1]!Cell_Color($A$6),3,IF([1]!Cell_Color(R70)=[1]!Cell_Color($A$7),3,IF([1]!Cell_Color(R70)=[1]!Cell_Color($A$8),4,IF([1]!Cell_Color(R70)=[1]!Cell_Color($A$9),4,0))))))))","v":81.279617088237146},{"$f":"(17-S70)*POWER(EXP(1),2*(4-IF([1]!Cell_Color(S70)=[1]!Cell_Color($A$4),1,IF([1]!Cell_Color(S70)=[1]!Cell_Color($A$5),2,IF([1]!Cell_Color(S70)=[1]!Cell_Color($A$6),3,IF([1]!Cell_Color(S70)=[1]!Cell_Color($A$7),3,IF([1]!Cell_Color(S70)=[1]!Cell_Color($A$8),4,IF([1]!Cell_Color(S70)=[1]!Cell_Color($A$9),4,0))))))))","v":36.945280494653247},{"$f":"(17-T70)*POWER(EXP(1),2*(4-IF([1]!Cell_Color(T70)=[1]!Cell_Color($A$4),1,IF([1]!Cell_Color(T70)=[1]!Cell_Color($A$5),2,IF([1]!Cell_Color(T70)=[1]!Cell_Color($A$6),3,IF([1]!Cell_Color(T70)=[1]!Cell_Color($A$7),3,IF([1]!Cell_Color(T70)=[1]!Cell_Color($A$8),4,IF([1]!Cell_Color(T70)=[1]!Cell_Color($A$9),4,0))))))))","v":7.3890560989306495},{"$f":"(17-U70)*POWER(EXP(1),2*(4-IF([1]!Cell_Color(U70)=[1]!Cell_Color($A$4),1,IF([1]!Cell_Color(U70)=[1]!Cell_Color($A$5),2,IF([1]!Cell_Color(U70)=[1]!Cell_Color($A$6),3,IF([1]!Cell_Color(U70)=[1]!Cell_Color($A$7),3,IF([1]!Cell_Color(U70)=[1]!Cell_Color($A$8),4,IF([1]!Cell_Color(U70)=[1]!Cell_Color($A$9),4,0))))))))","v":3},{"$f":"(17-V70)*POWER(EXP(1),2*(4-IF([1]!Cell_Color(V70)=[1]!Cell_Color($A$4),1,IF([1]!Cell_Color(V70)=[1]!Cell_Color($A$5),2,IF([1]!Cell_Color(V70)=[1]!Cell_Color($A$6),3,IF([1]!Cell_Color(V70)=[1]!Cell_Color($A$7),3,IF([1]!Cell_Color(V70)=[1]!Cell_Color($A$8),4,IF([1]!Cell_Color(V70)=[1]!Cell_Color($A$9),4,0))))))))","v":5}]
[null,null,68,64,-4,69,1,68,"Ясапать Вароши",null,null,15,13,5,10,8,4,1,8,14,6,8,null,{"$f":"SUM(AB71:AF71)","v":111.50150489037584},{"$f":"SUM(AD71:AH71)","v":128.6686731871678},{"$f":"SUM(AE71:AI71)","v":124.6686731871678},null,{"$f":"(17-O71)*POWER(EXP(1),2*(4-IF([1]!Cell_Color(O71)=[1]!Cell_Color($A$4),1,IF([1]!Cell_Color(O71)=[1]!Cell_Color($A$5),2,IF([1]!Cell_Color(O71)=[1]!Cell_Color($A$6),3,IF([1]!Cell_Color(O71)=[1]!Cell_Color($A$7),3,IF([1]!Cell_Color(O71)=[1]!Cell_Color($A$8),4,IF([1]!Cell_Color(O71)=[1]!Cell_Color($A$9),4,0))))))))","v":7},{"$f":"(17-P71)*POWER(EXP(1),2*(4-IF([1]!Cell_Color(P71)=[1]!Cell_Color($A$4),1,IF([1]!Cell_Color(P71)=[1]!Cell_Color($A$5),2,IF([1]!Cell_Color(P71)=[1]!Cell_Color($A$6),3,IF([1]!Cell_Color(P71)=[1]!Cell_Color($A$7),3,IF([1]!Cell_Color(P71)=[1]!Cell_Color($A$8),4,IF([1]!Cell_Color(P71)=[1]!Cell_Color($A$9),4,0))))))))","v":9},{"$f":"(17-Q71)*POWER(EXP(1),2*(4-IF([1]!Cell_Color(Q71)=[1]!Cell_Color($A$4),1,IF([1]!Cell_Color(Q71)=[1]!Cell_Color($A$5),2,IF([1]!Cell_Color(Q71)=[1]!Cell_Color($A$6),3,IF([1]!Cell_Color(Q71)=[1]!Cell_Color($A$7),3,IF([1]!Cell_Color(Q71)=[1]!Cell_Color($A$8),4,IF([1]!Cell_Color(Q71)=[1]!Cell_Color($A$9),4,0))))))))","v":13},{"$f":"(17-R71)*POWER(EXP(1),2*(4-IF([1]!Cell_Color(R71)=[1]!Cell_Color($A$4),1,IF([1]!Cell_Color(R71)=[1]!Cell_Color($A$5),2,IF([1]!Cell_Color(R71)=[1]!Cell_Color($A$6),3,IF([1]!Cell_Color(R71)=[1]!Cell_Color($A$7),3,IF([1]!Cell_Color(R71)=[1]!Cell_Color($A$8),4,IF([1]!Cell_Color(R71)=[1]!Cell_Color($A$9),4,0))))))))","v":16},{"$f":"(17-S71)*POWER(EXP(1),2*(4-IF([1]!Cell_Color(S71)=[1]!Cell_Color($A$4),1,IF([1]!Cell_Color(S71)=[1]!Cell_Color($A$5),2,IF([1]!Cell_Color(S71)=[1]!Cell_Color($A$6),3,IF([1]!Cell_Color(S71)=[1]!Cell_Color($A$7),3,IF([1]!Cell_Color(S71)=[1]!Cell_Color($A$8),4,IF([1]!Cell_Color(S71)=[1]!Cell_Color($A$9),4,0))))))))","v":66.501504890375841},{"$f":"(17-T71)*POWER(EXP(1),2*(4-IF([1]!Cell_Color(T71)=[1]!Cell_Color($A$4),1,IF([1]!Cell_Color(T71)=[1]!Cell_Color($A$5),2,IF([1]!Cell_Color(T71)=[1]!Cell_Color($A$6),3,IF([1]!Cell_Color(T71)=[1]!Cell_Color($A$7),3,IF([1]!Cell_Color(T71)=[1]!Cell_Color($A$8),4,IF([1]!Cell_Color(T71)=[1]!Cell_Color($A$9),4,0))))))))","v":22.167168296791949},{"$f":"(17-U71)*POWER(EXP(1),2*(4-IF([1]!Cell_Color(U71)=[1]!Cell_Color($A$4),1,IF([1]!Cell_Color(U71)=[1]!Cell_Color($A$5),2,IF([1]!Cell_Color(U71)=[1]!Cell_Color($A$6),3,IF([1]!Cell_Color(U71)=[1]!Cell_Color($A$7),3,IF([1]!Cell_Color(U71)=[1]!Cell_Color($A$8),4,IF([1]!Cell_Color(U71)=[1]!Cell_Color($A$9),4,0))))))))","v":11},{"$f":"(17-V71)*POWER(EXP(1),2*(4-IF([1]!Cell_Color(V71)=[1]!Cell_Color($A$4),1,IF([1]!Cell_Color(V71)=[1]!Cell_Color($A$5),2,IF([1]!Cell_Color(V71)=[1]!Cell_Color($A$6),3,IF([1]!Cell_Color(V71)=[1]!Cell_Color($A$7),3,IF([1]!Cell_Color(V71)=[1]!Cell_Color($A$8),4,IF([1]!Cell_Color(V71)=[1]!Cell_Color($A$9),4,0))))))))","v":9}]
[null,null,69,85,16,72,3,69,"Тужер СЕ",null,null,7,6,6,9,9,11,8,8,1,11,11,null,{"$f":"SUM(AB72:AF72)","v":40},{"$f":"SUM(AD72:AH72)","v":84.334336593583899},{"$f":"SUM(AE72:AI72)","v":122.6686731871678},null,{"$f":"(17-O72)*POWER(EXP(1),2*(4-IF([1]!Cell_Color(O72)=[1]!Cell_Color($A$4),1,IF([1]!Cell_Color(O72)=[1]!Cell_Color($A$5),2,IF([1]!Cell_Color(O72)=[1]!Cell_Color($A$6),3,IF([1]!Cell_Color(O72)=[1]!Cell_Color($A$7),3,IF([1]!Cell_Color(O72)=[1]!Cell_Color($A$8),4,IF([1]!Cell_Color(O72)=[1]!Cell_Color($A$9),4,0))))))))","v":8},{"$f":"(17-P72)*POWER(EXP(1),2*(4-IF([1]!Cell_Color(P72)=[1]!Cell_Color($A$4),1,IF([1]!Cell_Color(P72)=[1]!Cell_Color($A$5),2,IF([1]!Cell_Color(P72)=[1]!Cell_Color($A$6),3,IF([1]!Cell_Color(P72)=[1]!Cell_Color($A$7),3,IF([1]!Cell_Color(P72)=[1]!Cell_Color($A$8),4,IF([1]!Cell_Color(P72)=[1]!Cell_Color($A$9),4,0))))))))","v":8},{"$f":"(17-Q72)*POWER(EXP(1),2*(4-IF([1]!Cell_Color(Q72)=[1]!Cell_Color($A$4),1,IF([1]!Cell_Color(Q72)=[1]!Cell_Color($A$5),2,IF([1]!Cell_Color(Q72)=[1]!Cell_Color($A$6),3,IF([1]!Cell_Color(Q72)=[1]!Cell_Color($A$7),3,IF([1]!Cell_Color(Q72)=[1]!Cell_Color($A$8),4,IF([1]!Cell_Color(Q72)=[1]!Cell_Color($A$9),4,0))))))))","v":6},{"$f":"(17-R72)*POWER(EXP(1),2*(4-IF([1]!Cell_Color(R72)=[1]!Cell_Color($A$4),1,IF([1]!Cell_Color(R72)=[1]!Cell_Color($A$5),2,IF([1]!Cell_Color(R72)=[1]!Cell_Color($A$6),3,IF([1]!Cell_Color(R72)=[1]!Cell_Color($A$7),3,IF([1]!Cell_Color(R72)=[1]!Cell_Color($A$8),4,IF([1]!Cell_Color(R72)=[1]!Cell_Color($A$9),4,0))))))))","v":9},{"$f":"(17-S72)*POWER(EXP(1),2*(4-IF([1]!Cell_Color(S72)=[1]!Cell_Color($A$4),1,IF([1]!Cell_Color(S72)=[1]!Cell_Color($A$5),2,IF([1]!Cell_Color(S72)=[1]!Cell_Color($A$6),3,IF([1]!Cell_Color(S72)=[1]!Cell_Color($A$7),3,IF([1]!Cell_Color(S72)=[1]!Cell_Color($A$8),4,IF([1]!Cell_Color(S72)=[1]!Cell_Color($A$9),4,0))))))))","v":9},{"$f":"(17-T72)*POWER(EXP(1),2*(4-IF([1]!Cell_Color(T72)=[1]!Cell_Color($A$4),1,IF([1]!Cell_Color(T72)=[1]!Cell_Color($A$5),2,IF([1]!Cell_Color(T72)=[1]!Cell_Color($A$6),3,IF([1]!Cell_Color(T72)=[1]!Cell_Color($A$7),3,IF([1]!Cell_Color(T72)=[1]!Cell_Color($A$8),4,IF([1]!Cell_Color(T72)=[1]!Cell_Color($A$9),4,0))))))))","v":16},{"$f":"(17-U72)*POWER(EXP(1),2*(4-IF([1]!Cell_Color(U72)=[1]!Cell_Color($A$4),1,IF([1]!Cell_Color(U72)=[1]!Cell_Color($A$5),2,IF([1]!Cell_Color(U72)=[1]!Cell_Color($A$6),3,IF([1]!Cell_Color(U72)=[1]!Cell_Color($A$7),3,IF([1]!Cell_Color(U72)=[1]!Cell_Color($A$8),4,IF([1]!Cell_Color(U72)=[1]!Cell_Color($A$9),4,0))))))))","v":44.334336593583899},{"$f":"(17-V72)*POWER(EXP(1),2*(4-IF([1]!Cell_Color(V72)=[1]!Cell_Color($A$4),1,IF([1]!Cell_Color(V72)=[1]!Cell_Color($A$5),2,IF([1]!Cell_Color(V72)=[1]!Cell_Color($A$6),3,IF([1]!Cell_Color(V72)=[1]!Cell_Color($A$7),3,IF([1]!Cell_Color(V72)=[1]!Cell_Color($A$8),4,IF([1]!Cell_Color(V72)=[1]!Cell_Color($A$9),4,0))))))))","v":44.334336593583899}]
[null,null,70,42,-28,59,-11,70,"ФК Дабаш",12,3,3,6,8,2,4,9,4,14,15,16,16,null,{"$f":"SUM(AB73:AF73)","v":384.2309171443938},{"$f":"SUM(AD73:AH73)","v":180.3373463743356},{"$f":"SUM(AE73:AI73)","v":122.22489758289041},null,{"$f":"(17-O73)*POWER(EXP(1),2*(4-IF([1]!Cell_Color(O73)=[1]!Cell_Color($A$4),1,IF([1]!Cell_Color(O73)=[1]!Cell_Color($A$5),2,IF([1]!Cell_Color(O73)=[1]!Cell_Color($A$6),3,IF([1]!Cell_Color(O73)=[1]!Cell_Color($A$7),3,IF([1]!Cell_Color(O73)=[1]!Cell_Color($A$8),4,IF([1]!Cell_Color(O73)=[1]!Cell_Color($A$9),4,0))))))))","v":110.83584148395974},{"$f":"(17-P73)*POWER(EXP(1),2*(4-IF([1]!Cell_Color(P73)=[1]!Cell_Color($A$4),1,IF([1]!Cell_Color(P73)=[1]!Cell_Color($A$5),2,IF([1]!Cell_Color(P73)=[1]!Cell_Color($A$6),3,IF([1]!Cell_Color(P73)=[1]!Cell_Color($A$7),3,IF([1]!Cell_Color(P73)=[1]!Cell_Color($A$8),4,IF([1]!Cell_Color(P73)=[1]!Cell_Color($A$9),4,0))))))))","v":96.05772928609845},{"$f":"(17-Q73)*POWER(EXP(1),2*(4-IF([1]!Cell_Color(Q73)=[1]!Cell_Color($A$4),1,IF([1]!Cell_Color(Q73)=[1]!Cell_Color($A$5),2,IF([1]!Cell_Color(Q73)=[1]!Cell_Color($A$6),3,IF([1]!Cell_Color(Q73)=[1]!Cell_Color($A$7),3,IF([1]!Cell_Color(Q73)=[1]!Cell_Color($A$8),4,IF([1]!Cell_Color(Q73)=[1]!Cell_Color($A$9),4,0))))))))","v":59.112448791445196},{"$f":"(17-R73)*POWER(EXP(1),2*(4-IF([1]!Cell_Color(R73)=[1]!Cell_Color($A$4),1,IF([1]!Cell_Color(R73)=[1]!Cell_Color($A$5),2,IF([1]!Cell_Color(R73)=[1]!Cell_Color($A$6),3,IF([1]!Cell_Color(R73)=[1]!Cell_Color($A$7),3,IF([1]!Cell_Color(R73)=[1]!Cell_Color($A$8),4,IF([1]!Cell_Color(R73)=[1]!Cell_Color($A$9),4,0))))))))","v":96.05772928609845},{"$f":"(17-S73)*POWER(EXP(1),2*(4-IF([1]!Cell_Color(S73)=[1]!Cell_Color($A$4),1,IF([1]!Cell_Color(S73)=[1]!Cell_Color($A$5),2,IF([1]!Cell_Color(S73)=[1]!Cell_Color($A$6),3,IF([1]!Cell_Color(S73)=[1]!Cell_Color($A$7),3,IF([1]!Cell_Color(S73)=[1]!Cell_Color($A$8),4,IF([1]!Cell_Color(S73)=[1]!Cell_Color($A$9),4,0))))))))","v":22.167168296791949},{"$f":"(17-T73)*POWER(EXP(1),2*(4-IF([1]!Cell_Color(T73)=[1]!Cell_Color($A$4),1,IF([1]!Cell_Color(T73)=[1]!Cell_Color($A$5),2,IF([1]!Cell_Color(T73)=[1]!Cell_Color($A$6),3,IF([1]!Cell_Color(T73)=[1]!Cell_Color($A$7),3,IF([1]!Cell_Color(T73)=[1]!Cell_Color($A$8),4,IF([1]!Cell_Color(T73)=[1]!Cell_Color($A$9),4,0))))))))","v":2},{"$f":"(17-U73)*POWER(EXP(1),2*(4-IF([1]!Cell_Color(U73)=[1]!Cell_Color($A$4),1,IF([1]!Cell_Color(U73)=[1]!Cell_Color($A$5),2,IF([1]!Cell_Color(U73)=[1]!Cell_Color($A$6),3,IF([1]!Cell_Color(U73)=[1]!Cell_Color($A$7),3,IF([1]!Cell_Color(U73)=[1]!Cell_Color($A$8),4,IF([1]!Cell_Color(U73)=[1]!Cell_Color($A$9),4,0))))))))","v":1},{"$f":"(17-V73)*POWER(EXP(1),2*(4-IF([1]!Cell_Color(V73)=[1]!Cell_Color($A$4),1,IF([1]!Cell_Color(V73)=[1]!Cell_Color($A$5),2,IF([1]!Cell_Color(V73)=[1]!Cell_Color($A$6),3,IF([1]!Cell_Color(V73)=[1]!Cell_Color($A$7),3,IF([1]!Cell_Color(V73)=[1]!Cell_Color($A$8),4,IF([1]!Cell_Color(V73)=[1]!Cell_Color($A$9),4,0))))))))","v":1}]
[null,null,71,92,21,71,null,71,"Бударши СК",null,null,2,11,16,16,16,13,9,8,3,9,13,null,{"$f":"SUM(AB74:AF74)","v":23},{"$f":"SUM(AD74:AH74)","v":94.112448791445189},{"$f":"SUM(AE74:AI74)","v":119.66867318716778},null,{"$f":"(17-O74)*POWER(EXP(1),2*(4-IF([1]!Cell_Color(O74)=[1]!Cell_Color($A$4),1,IF([1]!Cell_Color(O74)=[1]!Cell_Color($A$5),2,IF([1]!Cell_Color(O74)=[1]!Cell_Color($A$6),3,IF([1]!Cell_Color(O74)=[1]!Cell_Color($A$7),3,IF([1]!Cell_Color(O74)=[1]!Cell_Color($A$8),4,IF([1]!Cell_Color(O74)=[1]!Cell_Color($A$9),4,0))))))))","v":1},{"$f":"(17-P74)*POWER(EXP(1),2*(4-IF([1]!Cell_Color(P74)=[1]!Cell_Color($A$4),1,IF([1]!Cell_Color(P74)=[1]!Cell_Color($A$5),2,IF([1]!Cell_Color(P74)=[1]!Cell_Color($A$6),3,IF([1]!Cell_Color(P74)=[1]!Cell_Color($A$7),3,IF([1]!Cell_Color(P74)=[1]!Cell_Color($A$8),4,IF([1]!Cell_Color(P74)=[1]!Cell_Color($A$9),4,0))))))))","v":1},{"$f":"(17-Q74)*POWER(EXP(1),2*(4-IF([1]!Cell_Color(Q74)=[1]!Cell_Color($A$4),1,IF([1]!Cell_Color(Q74)=[1]!Cell_Color($A$5),2,IF([1]!Cell_Color(Q74)=[1]!Cell_Color($A$6),3,IF([1]!Cell_Color(Q74)=[1]!Cell_Color($A$7),3,IF([1]!Cell_Color(Q74)=[1]!Cell_Color($A$8),4,IF([1]!Cell_Color(Q74)=[1]!Cell_Color($A$9),4,0))))))))","v":4},{"$f":"(17-R74)*POWER(EXP(1),2*(4-IF([1]!Cell_Color(R74)=[1]!Cell_Color($A$4),1,IF([1]!Cell_Color(R74)=[1]!Cell_Color($A$5),2,IF([1]!Cell_Color(R74)=[1]!Cell_Color($A$6),3,IF([1]!Cell_Color(R74)=[1]!Cell_Color($A$7),3,IF([1]!Cell_Color(R74)=[1]!Cell_Color($A$8),4,IF([1]!Cell_Color(R74)=[1]!Cell_Color($A$9),4,0))))))))","v":8},{"$f":"(17-S74)*POWER(EXP(1),2*(4-IF([1]!Cell_Color(S74)=[1]!Cell_Color($A$4),1,IF([1]!Cell_Color(S74)=[1]!Cell_Color($A$5),2,IF([1]!Cell_Color(S74)=[1]!Cell_Color($A$6),3,IF([1]!Cell_Color(S74)=[1]!Cell_Color($A$7),3,IF([1]!Cell_Color(S74)=[1]!Cell_Color($A$8),4,IF([1]!Cell_Color(S74)=[1]!Cell_Color($A$9),4,0))))))))","v":9},{"$f":"(17-T74)*POWER(EXP(1),2*(4-IF([1]!Cell_Color(T74)=[1]!Cell_Color($A$4),1,IF([1]!Cell_Color(T74)=[1]!Cell_Color($A$5),2,IF([1]!Cell_Color(T74)=[1]!Cell_Color($A$6),3,IF([1]!Cell_Color(T74)=[1]!Cell_Color($A$7),3,IF([1]!Cell_Color(T74)=[1]!Cell_Color($A$8),4,IF([1]!Cell_Color(T74)=[1]!Cell_Color($A$9),4,0))))))))","v":14},{"$f":"(17-U74)*POWER(EXP(1),2*(4-IF([1]!Cell_Color(U74)=[1]!Cell_Color($A$4),1,IF([1]!Cell_Color(U74)=[1]!Cell_Color($A$5),2,IF([1]!Cell_Color(U74)=[1]!Cell_Color($A$6),3,IF([1]!Cell_Color(U74)=[1]!Cell_Color($A$7),3,IF([1]!Cell_Color(U74)=[1]!Cell_Color($A$8),4,IF([1]!Cell_Color(U74)=[1]!Cell_Color($A$9),4,0))))))))","v":59.112448791445196},{"$f":"(17-V74)*POWER(EXP(1),2*(4-IF([1]!Cell_Color(V74)=[1]!Cell_Color($A$4),1,IF([1]!Cell_Color(V74)=[1]!Cell_Color($A$5),2,IF([1]!Cell_Color(V74)=[1]!Cell_Color($A$6),3,IF([1]!Cell_Color(V74)=[1]!Cell_Color($A$7),3,IF([1]!Cell_Color(V74)=[1]!Cell_Color($A$8),4,IF([1]!Cell_Color(V74)=[1]!Cell_Color($A$9),4,0))))))))","v":29.556224395722598}]
[null,null,72,87,15,75,3,72,"Матесалка ФК",13,13,15,15,13,8,11,16,12,5,4,11,12,null,{"$f":"SUM(AB75:AF75)","v":33},{"$f":"SUM(AD75:AH75)","v":75.334336593583899},{"$f":"SUM(AE75:AI75)","v":111.27961708823715},null,{"$f":"(17-O75)*POWER(EXP(1),2*(4-IF([1]!Cell_Color(O75)=[1]!Cell_Color($A$4),1,IF([1]!Cell_Color(O75)=[1]!Cell_Color($A$5),2,IF([1]!Cell_Color(O75)=[1]!Cell_Color($A$6),3,IF([1]!Cell_Color(O75)=[1]!Cell_Color($A$7),3,IF([1]!Cell_Color(O75)=[1]!Cell_Color($A$8),4,IF([1]!Cell_Color(O75)=[1]!Cell_Color($A$9),4,0))))))))","v":9},{"$f":"(17-P75)*POWER(EXP(1),2*(4-IF([1]!Cell_Color(P75)=[1]!Cell_Color($A$4),1,IF([1]!Cell_Color(P75)=[1]!Cell_Color($A$5),2,IF([1]!Cell_Color(P75)=[1]!Cell_Color($A$6),3,IF([1]!Cell_Color(P75)=[1]!Cell_Color($A$7),3,IF([1]!Cell_Color(P75)=[1]!Cell_Color($A$8),4,IF([1]!Cell_Color(P75)=[1]!Cell_Color($A$9),4,0))))))))","v":6},{"$f":"(17-Q75)*POWER(EXP(1),2*(4-IF([1]!Cell_Color(Q75)=[1]!Cell_Color($A$4),1,IF([1]!Cell_Color(Q75)=[1]!Cell_Color($A$5),2,IF([1]!Cell_Color(Q75)=[1]!Cell_Color($A$6),3,IF([1]!Cell_Color(Q75)=[1]!Cell_Color($A$7),3,IF([1]!Cell_Color(Q75)=[1]!Cell_Color($A$8),4,IF([1]!Cell_Color(Q75)=[1]!Cell_Color($A$9),4,0))))))))","v":1},{"$f":"(17-R75)*POWER(EXP(1),2*(4-IF([1]!Cell_Color(R75)=[1]!Cell_Color($A$4),1,IF([1]!Cell_Color(R75)=[1]!Cell_Color($A$5),2,IF([1]!Cell_Color(R75)=[1]!Cell_Color($A$6),3,IF([1]!Cell_Color(R75)=[1]!Cell_Color($A$7),3,IF([1]!Cell_Color(R75)=[1]!Cell_Color($A$8),4,IF([1]!Cell_Color(R75)=[1]!Cell_Color($A$9),4,0))))))))","v":5},{"$f":"(17-S75)*POWER(EXP(1),2*(4-IF([1]!Cell_Color(S75)=[1]!Cell_Color($A$4),1,IF([1]!Cell_Color(S75)=[1]!Cell_Color($A$5),2,IF([1]!Cell_Color(S75)=[1]!Cell_Color($A$6),3,IF([1]!Cell_Color(S75)=[1]!Cell_Color($A$7),3,IF([1]!Cell_Color(S75)=[1]!Cell_Color($A$8),4,IF([1]!Cell_Color(S75)=[1]!Cell_Color($A$9),4,0))))))))","v":12},{"$f":"(17-T75)*POWER(EXP(1),2*(4-IF([1]!Cell_Color(T75)=[1]!Cell_Color($A$4),1,IF([1]!Cell_Color(T75)=[1]!Cell_Color($A$5),2,IF([1]!Cell_Color(T75)=[1]!Cell_Color($A$6),3,IF([1]!Cell_Color(T75)=[1]!Cell_Color($A$7),3,IF([1]!Cell_Color(T75)=[1]!Cell_Color($A$8),4,IF([1]!Cell_Color(T75)=[1]!Cell_Color($A$9),4,0))))))))","v":13},{"$f":"(17-U75)*POWER(EXP(1),2*(4-IF([1]!Cell_Color(U75)=[1]!Cell_Color($A$4),1,IF([1]!Cell_Color(U75)=[1]!Cell_Color($A$5),2,IF([1]!Cell_Color(U75)=[1]!Cell_Color($A$6),3,IF([1]!Cell_Color(U75)=[1]!Cell_Color($A$7),3,IF([1]!Cell_Color(U75)=[1]!Cell_Color($A$8),4,IF([1]!Cell_Color(U75)=[1]!Cell_Color($A$9),4,0))))))))","v":44.334336593583899},{"$f":"(17-V75)*POWER(EXP(1),2*(4-IF([1]!Cell_Color(V75)=[1]!Cell_Color($A$4),1,IF([1]!Cell_Color(V75)=[1]!Cell_Color($A$5),2,IF([1]!Cell_Color(V75)=[1]!Cell_Color($A$6),3,IF([1]!Cell_Color(V75)=[1]!Cell_Color($A$7),3,IF([1]!Cell_Color(V75)=[1]!Cell_Color($A$8),4,IF([1]!Cell_Color(V75)=[1]!Cell_Color($A$9),4,0))))))))","v":36.945280494653247}]
[null,null,73,67,-6,81,8,73,"Цельдёмёльк",4,11,6,7,7,7,16,12,9,9,6,2,9,null,{"$f":"SUM(AB76:AF76)","v":102.27961708823715},{"$f":"SUM(AD76:AH76)","v":47},{"$f":"SUM(AE76:AI76)","v":101.11244879144519},null,{"$f":"(17-O76)*POWER(EXP(1),2*(4-IF([1]!Cell_Color(O76)=[1]!Cell_Color($A$4),1,IF([1]!Cell_Color(O76)=[1]!Cell_Color($A$5),2,IF([1]!Cell_Color(O76)=[1]!Cell_Color($A$6),3,IF([1]!Cell_Color(O76)=[1]!Cell_Color($A$7),3,IF([1]!Cell_Color(O76)=[1]!Cell_Color($A$8),4,IF([1]!Cell_Color(O76)=[1]!Cell_Color($A$9),4,0))))))))","v":73.890560989306493},{"$f":"(17-P76)*POWER(EXP(1),2*(4-IF([1]!Cell_Color(P76)=[1]!Cell_Color($A$4),1,IF([1]!Cell_Color(P76)=[1]!Cell_Color($A$5),2,IF([1]!Cell_Color(P76)=[1]!Cell_Color($A$6),3,IF([1]!Cell_Color(P76)=[1]!Cell_Color($A$7),3,IF([1]!Cell_Color(P76)=[1]!Cell_Color($A$8),4,IF([1]!Cell_Color(P76)=[1]!Cell_Color($A$9),4,0))))))))","v":7.3890560989306495},{"$f":"(17-Q76)*POWER(EXP(1),2*(4-IF([1]!Cell_Color(Q76)=[1]!Cell_Color($A$4),1,IF([1]!Cell_Color(Q76)=[1]!Cell_Color($A$5),2,IF([1]!Cell_Color(Q76)=[1]!Cell_Color($A$6),3,IF([1]!Cell_Color(Q76)=[1]!Cell_Color($A$7),3,IF([1]!Cell_Color(Q76)=[1]!Cell_Color($A$8),4,IF([1]!Cell_Color(Q76)=[1]!Cell_Color($A$9),4,0))))))))","v":5},{"$f":"(17-R76)*POWER(EXP(1),2*(4-IF([1]!Cell_Color(R76)=[1]!Cell_Color($A$4),1,IF([1]!Cell_Color(R76)=[1]!Cell_Color($A$5),2,IF([1]!Cell_Color(R76)=[1]!Cell_Color($A$6),3,IF([1]!Cell_Color(R76)=[1]!Cell_Color($A$7),3,IF([1]!Cell_Color(R76)=[1]!Cell_Color($A$8),4,IF([1]!Cell_Color(R76)=[1]!Cell_Color($A$9),4,0))))))))","v":8},{"$f":"(17-S76)*POWER(EXP(1),2*(4-IF([1]!Cell_Color(S76)=[1]!Cell_Color($A$4),1,IF([1]!Cell_Color(S76)=[1]!Cell_Color($A$5),2,IF([1]!Cell_Color(S76)=[1]!Cell_Color($A$6),3,IF([1]!Cell_Color(S76)=[1]!Cell_Color($A$7),3,IF([1]!Cell_Color(S76)=[1]!Cell_Color($A$8),4,IF([1]!Cell_Color(S76)=[1]!Cell_Color($A$9),4,0))))))))","v":8},{"$f":"(17-T76)*POWER(EXP(1),2*(4-IF([1]!Cell_Color(T76)=[1]!Cell_Color($A$4),1,IF([1]!Cell_Color(T76)=[1]!Cell_Color($A$5),2,IF([1]!Cell_Color(T76)=[1]!Cell_Color($A$6),3,IF([1]!Cell_Color(T76)=[1]!Cell_Color($A$7),3,IF([1]!Cell_Color(T76)=[1]!Cell_Color($A$8),4,IF([1]!Cell_Color(T76)=[1]!Cell_Color($A$9),4,0))))))))","v":11},{"$f":"(17-U76)*POWER(EXP(1),2*(4-IF([1]!Cell_Color(U76)=[1]!Cell_Color($A$4),1,IF([1]!Cell_Color(U76)=[1]!Cell_Color($A$5),2,IF([1]!Cell_Color(U76)=[1]!Cell_Color($A$6),3,IF([1]!Cell_Color(U76)=[1]!Cell_Color($A$7),3,IF([1]!Cell_Color(U76)=[1]!Cell_Color($A$8),4,IF([1]!Cell_Color(U76)=[1]!Cell_Color($A$9),4,0))))))))","v":15},{"$f":"(17-V76)*POWER(EXP(1),2*(4-IF([1]!Cell_Color(V76)=[1]!Cell_Color($A$4),1,IF([1]!Cell_Color(V76)=[1]!Cell_Color($A$5),2,IF([1]!Cell_Color(V76)=[1]!Cell_Color($A$6),3,IF([1]!Cell_Color(V76)=[1]!Cell_Color($A$7),3,IF([1]!Cell_Color(V76)=[1]!Cell_Color($A$8),4,IF([1]!Cell_Color(V76)=[1]!Cell_Color($A$9),4,0))))))))","v":59.112448791445196}]
[null,null,74,78,4,74,null,74,"Халастелек ФК",null,null,11,1,14,15,13,8,7,4,3,13,13,null,{"$f":"SUM(AB77:AF77)","v":50.778112197861297},{"$f":"SUM(AD77:AH77)","v":75.556224395722595},{"$f":"SUM(AE77:AI77)","v":96.112448791445189},null,{"$f":"(17-O77)*POWER(EXP(1),2*(4-IF([1]!Cell_Color(O77)=[1]!Cell_Color($A$4),1,IF([1]!Cell_Color(O77)=[1]!Cell_Color($A$5),2,IF([1]!Cell_Color(O77)=[1]!Cell_Color($A$6),3,IF([1]!Cell_Color(O77)=[1]!Cell_Color($A$7),3,IF([1]!Cell_Color(O77)=[1]!Cell_Color($A$8),4,IF([1]!Cell_Color(O77)=[1]!Cell_Color($A$9),4,0))))))))","v":14.778112197861299},{"$f":"(17-P77)*POWER(EXP(1),2*(4-IF([1]!Cell_Color(P77)=[1]!Cell_Color($A$4),1,IF([1]!Cell_Color(P77)=[1]!Cell_Color($A$5),2,IF([1]!Cell_Color(P77)=[1]!Cell_Color($A$6),3,IF([1]!Cell_Color(P77)=[1]!Cell_Color($A$7),3,IF([1]!Cell_Color(P77)=[1]!Cell_Color($A$8),4,IF([1]!Cell_Color(P77)=[1]!Cell_Color($A$9),4,0))))))))","v":4},{"$f":"(17-Q77)*POWER(EXP(1),2*(4-IF([1]!Cell_Color(Q77)=[1]!Cell_Color($A$4),1,IF([1]!Cell_Color(Q77)=[1]!Cell_Color($A$5),2,IF([1]!Cell_Color(Q77)=[1]!Cell_Color($A$6),3,IF([1]!Cell_Color(Q77)=[1]!Cell_Color($A$7),3,IF([1]!Cell_Color(Q77)=[1]!Cell_Color($A$8),4,IF([1]!Cell_Color(Q77)=[1]!Cell_Color($A$9),4,0))))))))","v":9},{"$f":"(17-R77)*POWER(EXP(1),2*(4-IF([1]!Cell_Color(R77)=[1]!Cell_Color($A$4),1,IF([1]!Cell_Color(R77)=[1]!Cell_Color($A$5),2,IF([1]!Cell_Color(R77)=[1]!Cell_Color($A$6),3,IF([1]!Cell_Color(R77)=[1]!Cell_Color($A$7),3,IF([1]!Cell_Color(R77)=[1]!Cell_Color($A$8),4,IF([1]!Cell_Color(R77)=[1]!Cell_Color($A$9),4,0))))))))","v":10},{"$f":"(17-S77)*POWER(EXP(1),2*(4-IF([1]!Cell_Color(S77)=[1]!Cell_Color($A$4),1,IF([1]!Cell_Color(S77)=[1]!Cell_Color($A$5),2,IF([1]!Cell_Color(S77)=[1]!Cell_Color($A$6),3,IF([1]!Cell_Color(S77)=[1]!Cell_Color($A$7),3,IF([1]!Cell_Color(S77)=[1]!Cell_Color($A$8),4,IF([1]!Cell_Color(S77)=[1]!Cell_Color($A$9),4,0))))))))","v":13},{"$f":"(17-T77)*POWER(EXP(1),2*(4-IF([1]!Cell_Color(T77)=[1]!Cell_Color($A$4),1,IF([1]!Cell_Color(T77)=[1]!Cell_Color($A$5),2,IF([1]!Cell_Color(T77)=[1]!Cell_Color($A$6),3,IF([1]!Cell_Color(T77)=[1]!Cell_Color($A$7),3,IF([1]!Cell_Color(T77)=[1]!Cell_Color($A$8),4,IF([1]!Cell_Color(T77)=[1]!Cell_Color($A$9),4,0))))))))","v":14},{"$f":"(17-U77)*POWER(EXP(1),2*(4-IF([1]!Cell_Color(U77)=[1]!Cell_Color($A$4),1,IF([1]!Cell_Color(U77)=[1]!Cell_Color($A$5),2,IF([1]!Cell_Color(U77)=[1]!Cell_Color($A$6),3,IF([1]!Cell_Color(U77)=[1]!Cell_Color($A$7),3,IF([1]!Cell_Color(U77)=[1]!Cell_Color($A$8),4,IF([1]!Cell_Color(U77)=[1]!Cell_Color($A$9),4,0))))))))","v":29.556224395722598},{"$f":"(17-V77)*POWER(EXP(1),2*(4-IF([1]!Cell_Color(V77)=[1]!Cell_Color($A$4),1,IF([1]!Cell_Color(V77)=[1]!Cell_Color($A$5),2,IF([1]!Cell_Color(V77)=[1]!Cell_Color($A$6),3,IF([1]!Cell_Color(V77)=[1]!Cell_Color($A$7),3,IF([1]!Cell_Color(V77)=[1]!Cell_Color($A$8),4,IF([1]!Cell_Color(V77)=[1]!Cell_Color($A$9),4,0))))))))","v":29.556224395722598}]
[null,null,75,71,-4,78,3,75,"Межофальва",10,15,16,10,3,2,12,14,16,14,9,1,9,null,{"$f":"SUM(AB78:AF78)","v":84.501504890375841},{"$f":"SUM(AD78:AH78)","v":56.556224395722595},{"$f":"SUM(AE78:AI78)","v":93.501504890375855},null,{"$f":"(17-O78)*POWER(EXP(1),2*(4-IF([1]!Cell_Color(O78)=[1]!Cell_Color($A$4),1,IF([1]!Cell_Color(O78)=[1]!Cell_Color($A$5),2,IF([1]!Cell_Color(O78)=[1]!Cell_Color($A$6),3,IF([1]!Cell_Color(O78)=[1]!Cell_Color($A$7),3,IF([1]!Cell_Color(O78)=[1]!Cell_Color($A$8),4,IF([1]!Cell_Color(O78)=[1]!Cell_Color($A$9),4,0))))))))","v":15},{"$f":"(17-P78)*POWER(EXP(1),2*(4-IF([1]!Cell_Color(P78)=[1]!Cell_Color($A$4),1,IF([1]!Cell_Color(P78)=[1]!Cell_Color($A$5),2,IF([1]!Cell_Color(P78)=[1]!Cell_Color($A$6),3,IF([1]!Cell_Color(P78)=[1]!Cell_Color($A$7),3,IF([1]!Cell_Color(P78)=[1]!Cell_Color($A$8),4,IF([1]!Cell_Color(P78)=[1]!Cell_Color($A$9),4,0))))))))","v":36.945280494653247},{"$f":"(17-Q78)*POWER(EXP(1),2*(4-IF([1]!Cell_Color(Q78)=[1]!Cell_Color($A$4),1,IF([1]!Cell_Color(Q78)=[1]!Cell_Color($A$5),2,IF([1]!Cell_Color(Q78)=[1]!Cell_Color($A$6),3,IF([1]!Cell_Color(Q78)=[1]!Cell_Color($A$7),3,IF([1]!Cell_Color(Q78)=[1]!Cell_Color($A$8),4,IF([1]!Cell_Color(Q78)=[1]!Cell_Color($A$9),4,0))))))))","v":22.167168296791949},{"$f":"(17-R78)*POWER(EXP(1),2*(4-IF([1]!Cell_Color(R78)=[1]!Cell_Color($A$4),1,IF([1]!Cell_Color(R78)=[1]!Cell_Color($A$5),2,IF([1]!Cell_Color(R78)=[1]!Cell_Color($A$6),3,IF([1]!Cell_Color(R78)=[1]!Cell_Color($A$7),3,IF([1]!Cell_Color(R78)=[1]!Cell_Color($A$8),4,IF([1]!Cell_Color(R78)=[1]!Cell_Color($A$9),4,0))))))))","v":7.3890560989306495},{"$f":"(17-S78)*POWER(EXP(1),2*(4-IF([1]!Cell_Color(S78)=[1]!Cell_Color($A$4),1,IF([1]!Cell_Color(S78)=[1]!Cell_Color($A$5),2,IF([1]!Cell_Color(S78)=[1]!Cell_Color($A$6),3,IF([1]!Cell_Color(S78)=[1]!Cell_Color($A$7),3,IF([1]!Cell_Color(S78)=[1]!Cell_Color($A$8),4,IF([1]!Cell_Color(S78)=[1]!Cell_Color($A$9),4,0))))))))","v":3},{"$f":"(17-T78)*POWER(EXP(1),2*(4-IF([1]!Cell_Color(T78)=[1]!Cell_Color($A$4),1,IF([1]!Cell_Color(T78)=[1]!Cell_Color($A$5),2,IF([1]!Cell_Color(T78)=[1]!Cell_Color($A$6),3,IF([1]!Cell_Color(T78)=[1]!Cell_Color($A$7),3,IF([1]!Cell_Color(T78)=[1]!Cell_Color($A$8),4,IF([1]!Cell_Color(T78)=[1]!Cell_Color($A$9),4,0))))))))","v":8},{"$f":"(17-U78)*POWER(EXP(1),2*(4-IF([1]!Cell_Color(U78)=[1]!Cell_Color($A$4),1,IF([1]!Cell_Color(U78)=[1]!Cell_Color($A$5),2,IF([1]!Cell_Color(U78)=[1]!Cell_Color($A$6),3,IF([1]!Cell_Color(U78)=[1]!Cell_Color($A$7),3,IF([1]!Cell_Color(U78)=[1]!Cell_Color($A$8),4,IF([1]!Cell_Color(U78)=[1]!Cell_Color($A$9),4,0))))))))","v":16},{"$f":"(17-V78)*POWER(EXP(1),2*(4-IF([1]!Cell_Color(V78)=[1]!Cell_Color($A$4),1,IF([1]!Cell_Color(V78)=[1]!Cell_Color($A$5),2,IF([1]!Cell_Color(V78)=[1]!Cell_Color($A$6),3,IF([1]!Cell_Color(V78)=[1]!Cell_Color($A$7),3,IF([1]!Cell_Color(V78)=[1]!Cell_Color($A$8),4,IF([1]!Cell_Color(V78)=[1]!Cell_Color($A$9),4,0))))))))","v":59.112448791445196}]
[null,null,76,54,-22,68,-8,76,"Будафок ЛК",14,16,12,10,11,10,9,8,12,16,2,15,9,null,{"$f":"SUM(AB79:AF79)","v":221.67168296791948},{"$f":"SUM(AD79:AH79)","v":140.61395368182104},{"$f":"SUM(AE79:AI79)","v":82.112448791445203},null,{"$f":"(17-O79)*POWER(EXP(1),2*(4-IF([1]!Cell_Color(O79)=[1]!Cell_Color($A$4),1,IF([1]!Cell_Color(O79)=[1]!Cell_Color($A$5),2,IF([1]!Cell_Color(O79)=[1]!Cell_Color($A$6),3,IF([1]!Cell_Color(O79)=[1]!Cell_Color($A$7),3,IF([1]!Cell_Color(O79)=[1]!Cell_Color($A$8),4,IF([1]!Cell_Color(O79)=[1]!Cell_Color($A$9),4,0))))))))","v":51.723392692514544},{"$f":"(17-P79)*POWER(EXP(1),2*(4-IF([1]!Cell_Color(P79)=[1]!Cell_Color($A$4),1,IF([1]!Cell_Color(P79)=[1]!Cell_Color($A$5),2,IF([1]!Cell_Color(P79)=[1]!Cell_Color($A$6),3,IF([1]!Cell_Color(P79)=[1]!Cell_Color($A$7),3,IF([1]!Cell_Color(P79)=[1]!Cell_Color($A$8),4,IF([1]!Cell_Color(P79)=[1]!Cell_Color($A$9),4,0))))))))","v":59.112448791445196},{"$f":"(17-Q79)*POWER(EXP(1),2*(4-IF([1]!Cell_Color(Q79)=[1]!Cell_Color($A$4),1,IF([1]!Cell_Color(Q79)=[1]!Cell_Color($A$5),2,IF([1]!Cell_Color(Q79)=[1]!Cell_Color($A$6),3,IF([1]!Cell_Color(Q79)=[1]!Cell_Color($A$7),3,IF([1]!Cell_Color(Q79)=[1]!Cell_Color($A$8),4,IF([1]!Cell_Color(Q79)=[1]!Cell_Color($A$9),4,0))))))))","v":66.501504890375841},{"$f":"(17-R79)*POWER(EXP(1),2*(4-IF([1]!Cell_Color(R79)=[1]!Cell_Color($A$4),1,IF([1]!Cell_Color(R79)=[1]!Cell_Color($A$5),2,IF([1]!Cell_Color(R79)=[1]!Cell_Color($A$6),3,IF([1]!Cell_Color(R79)=[1]!Cell_Color($A$7),3,IF([1]!Cell_Color(R79)=[1]!Cell_Color($A$8),4,IF([1]!Cell_Color(R79)=[1]!Cell_Color($A$9),4,0))))))))","v":36.945280494653247},{"$f":"(17-S79)*POWER(EXP(1),2*(4-IF([1]!Cell_Color(S79)=[1]!Cell_Color($A$4),1,IF([1]!Cell_Color(S79)=[1]!Cell_Color($A$5),2,IF([1]!Cell_Color(S79)=[1]!Cell_Color($A$6),3,IF([1]!Cell_Color(S79)=[1]!Cell_Color($A$7),3,IF([1]!Cell_Color(S79)=[1]!Cell_Color($A$8),4,IF([1]!Cell_Color(S79)=[1]!Cell_Color($A$9),4,0))))))))","v":7.3890560989306495},{"$f":"(17-T79)*POWER(EXP(1),2*(4-IF([1]!Cell_Color(T79)=[1]!Cell_Color($A$4),1,IF([1]!Cell_Color(T79)=[1]!Cell_Color($A$5),2,IF([1]!Cell_Color(T79)=[1]!Cell_Color($A$6),3,IF([1]!Cell_Color(T79)=[1]!Cell_Color($A$7),3,IF([1]!Cell_Color(T79)=[1]!Cell_Color($A$8),4,IF([1]!Cell_Color(T79)=[1]!Cell_Color($A$9),4,0))))))))","v":15},{"$f":"(17-U79)*POWER(EXP(1),2*(4-IF([1]!Cell_Color(U79)=[1]!Cell_Color($A$4),1,IF([1]!Cell_Color(U79)=[1]!Cell_Color($A$5),2,IF([1]!Cell_Color(U79)=[1]!Cell_Color($A$6),3,IF([1]!Cell_Color(U79)=[1]!Cell_Color($A$7),3,IF([1]!Cell_Color(U79)=[1]!Cell_Color($A$8),4,IF([1]!Cell_Color(U79)=[1]!Cell_Color($A$9),4,0))))))))","v":14.778112197861299},{"$f":"(17-V79)*POWER(EXP(1),2*(4-IF([1]!Cell_Color(V79)=[1]!Cell_Color($A$4),1,IF([1]!Cell_Color(V79)=[1]!Cell_Color($A$5),2,IF([1]!Cell_Color(V79)=[1]!Cell_Color($A$6),3,IF([1]!Cell_Color(V79)=[1]!Cell_Color($A$7),3,IF([1]!Cell_Color(V79)=[1]!Cell_Color($A$8),4,IF([1]!Cell_Color(V79)=[1]!Cell_Color($A$9),4,0))))))))","v":8}]
[null,null,77,70,-7,73,-4,77,"Кечкемет",11,15,10,8,13,4,15,1,13,3,8,8,10,null,{"$f":"SUM(AB80:AF80)","v":87.334336593583899},{"$f":"SUM(AD80:AH80)","v":77.556224395722595},{"$f":"SUM(AE80:AI80)","v":68.556224395722595},null,{"$f":"(17-O80)*POWER(EXP(1),2*(4-IF([1]!Cell_Color(O80)=[1]!Cell_Color($A$4),1,IF([1]!Cell_Color(O80)=[1]!Cell_Color($A$5),2,IF([1]!Cell_Color(O80)=[1]!Cell_Color($A$6),3,IF([1]!Cell_Color(O80)=[1]!Cell_Color($A$7),3,IF([1]!Cell_Color(O80)=[1]!Cell_Color($A$8),4,IF([1]!Cell_Color(O80)=[1]!Cell_Color($A$9),4,0))))))))","v":13},{"$f":"(17-P80)*POWER(EXP(1),2*(4-IF([1]!Cell_Color(P80)=[1]!Cell_Color($A$4),1,IF([1]!Cell_Color(P80)=[1]!Cell_Color($A$5),2,IF([1]!Cell_Color(P80)=[1]!Cell_Color($A$6),3,IF([1]!Cell_Color(P80)=[1]!Cell_Color($A$7),3,IF([1]!Cell_Color(P80)=[1]!Cell_Color($A$8),4,IF([1]!Cell_Color(P80)=[1]!Cell_Color($A$9),4,0))))))))","v":14.778112197861299},{"$f":"(17-Q80)*POWER(EXP(1),2*(4-IF([1]!Cell_Color(Q80)=[1]!Cell_Color($A$4),1,IF([1]!Cell_Color(Q80)=[1]!Cell_Color($A$5),2,IF([1]!Cell_Color(Q80)=[1]!Cell_Color($A$6),3,IF([1]!Cell_Color(Q80)=[1]!Cell_Color($A$7),3,IF([1]!Cell_Color(Q80)=[1]!Cell_Color($A$8),4,IF([1]!Cell_Color(Q80)=[1]!Cell_Color($A$9),4,0))))))))","v":16},{"$f":"(17-R80)*POWER(EXP(1),2*(4-IF([1]!Cell_Color(R80)=[1]!Cell_Color($A$4),1,IF([1]!Cell_Color(R80)=[1]!Cell_Color($A$5),2,IF([1]!Cell_Color(R80)=[1]!Cell_Color($A$6),3,IF([1]!Cell_Color(R80)=[1]!Cell_Color($A$7),3,IF([1]!Cell_Color(R80)=[1]!Cell_Color($A$8),4,IF([1]!Cell_Color(R80)=[1]!Cell_Color($A$9),4,0))))))))","v":29.556224395722598},{"$f":"(17-S80)*POWER(EXP(1),2*(4-IF([1]!Cell_Color(S80)=[1]!Cell_Color($A$4),1,IF([1]!Cell_Color(S80)=[1]!Cell_Color($A$5),2,IF([1]!Cell_Color(S80)=[1]!Cell_Color($A$6),3,IF([1]!Cell_Color(S80)=[1]!Cell_Color($A$7),3,IF([1]!Cell_Color(S80)=[1]!Cell_Color($A$8),4,IF([1]!Cell_Color(S80)=[1]!Cell_Color($A$9),4,0))))))))","v":14},{"$f":"(17-T80)*POWER(EXP(1),2*(4-IF([1]!Cell_Color(T80)=[1]!Cell_Color($A$4),1,IF([1]!Cell_Color(T80)=[1]!Cell_Color($A$5),2,IF([1]!Cell_Color(T80)=[1]!Cell_Color($A$6),3,IF([1]!Cell_Color(T80)=[1]!Cell_Color($A$7),3,IF([1]!Cell_Color(T80)=[1]!Cell_Color($A$8),4,IF([1]!Cell_Color(T80)=[1]!Cell_Color($A$9),4,0))))))))","v":9},{"$f":"(17-U80)*POWER(EXP(1),2*(4-IF([1]!Cell_Color(U80)=[1]!Cell_Color($A$4),1,IF([1]!Cell_Color(U80)=[1]!Cell_Color($A$5),2,IF([1]!Cell_Color(U80)=[1]!Cell_Color($A$6),3,IF([1]!Cell_Color(U80)=[1]!Cell_Color($A$7),3,IF([1]!Cell_Color(U80)=[1]!Cell_Color($A$8),4,IF([1]!Cell_Color(U80)=[1]!Cell_Color($A$9),4,0))))))))","v":9},{"$f":"(17-V80)*POWER(EXP(1),2*(4-IF([1]!Cell_Color(V80)=[1]!Cell_Color($A$4),1,IF([1]!Cell_Color(V80)=[1]!Cell_Color($A$5),2,IF([1]!Cell_Color(V80)=[1]!Cell_Color($A$6),3,IF([1]!Cell_Color(V80)=[1]!Cell_Color($A$7),3,IF([1]!Cell_Color(V80)=[1]!Cell_Color($A$8),4,IF([1]!Cell_Color(V80)=[1]!Cell_Color($A$9),4,0))))))))","v":7}]
[null,null,78,75,-3,76,-2,78,"Чиллахедь МТЕ",null,null,12,13,14,7,8,3,14,15,12,3,16,null,{"$f":"SUM(AB81:AF81)","v":69.945280494653247},{"$f":"SUM(AD81:AH81)","v":69.945280494653247},{"$f":"SUM(AE81:AI81)","v":63.334336593583899},null,{"$f":"(17-O81)*POWER(EXP(1),2*(4-IF([1]!Cell_Color(O81)=[1]!Cell_Color($A$4),1,IF([1]!Cell_Color(O81)=[1]!Cell_Color($A$5),2,IF([1]!Cell_Color(O81)=[1]!Cell_Color($A$6),3,IF([1]!Cell_Color(O81)=[1]!Cell_Color($A$7),3,IF([1]!Cell_Color(O81)=[1]!Cell_Color($A$8),4,IF([1]!Cell_Color(O81)=[1]!Cell_Color($A$9),4,0))))))))","v":10},{"$f":"(17-P81)*POWER(EXP(1),2*(4-IF([1]!Cell_Color(P81)=[1]!Cell_Color($A$4),1,IF([1]!Cell_Color(P81)=[1]!Cell_Color($A$5),2,IF([1]!Cell_Color(P81)=[1]!Cell_Color($A$6),3,IF([1]!Cell_Color(P81)=[1]!Cell_Color($A$7),3,IF([1]!Cell_Color(P81)=[1]!Cell_Color($A$8),4,IF([1]!Cell_Color(P81)=[1]!Cell_Color($A$9),4,0))))))))","v":9},{"$f":"(17-Q81)*POWER(EXP(1),2*(4-IF([1]!Cell_Color(Q81)=[1]!Cell_Color($A$4),1,IF([1]!Cell_Color(Q81)=[1]!Cell_Color($A$5),2,IF([1]!Cell_Color(Q81)=[1]!Cell_Color($A$6),3,IF([1]!Cell_Color(Q81)=[1]!Cell_Color($A$7),3,IF([1]!Cell_Color(Q81)=[1]!Cell_Color($A$8),4,IF([1]!Cell_Color(Q81)=[1]!Cell_Color($A$9),4,0))))))))","v":14},{"$f":"(17-R81)*POWER(EXP(1),2*(4-IF([1]!Cell_Color(R81)=[1]!Cell_Color($A$4),1,IF([1]!Cell_Color(R81)=[1]!Cell_Color($A$5),2,IF([1]!Cell_Color(R81)=[1]!Cell_Color($A$6),3,IF([1]!Cell_Color(R81)=[1]!Cell_Color($A$7),3,IF([1]!Cell_Color(R81)=[1]!Cell_Color($A$8),4,IF([1]!Cell_Color(R81)=[1]!Cell_Color($A$9),4,0))))))))","v":22.167168296791949},{"$f":"(17-S81)*POWER(EXP(1),2*(4-IF([1]!Cell_Color(S81)=[1]!Cell_Color($A$4),1,IF([1]!Cell_Color(S81)=[1]!Cell_Color($A$5),2,IF([1]!Cell_Color(S81)=[1]!Cell_Color($A$6),3,IF([1]!Cell_Color(S81)=[1]!Cell_Color($A$7),3,IF([1]!Cell_Color(S81)=[1]!Cell_Color($A$8),4,IF([1]!Cell_Color(S81)=[1]!Cell_Color($A$9),4,0))))))))","v":14.778112197861299},{"$f":"(17-T81)*POWER(EXP(1),2*(4-IF([1]!Cell_Color(T81)=[1]!Cell_Color($A$4),1,IF([1]!Cell_Color(T81)=[1]!Cell_Color($A$5),2,IF([1]!Cell_Color(T81)=[1]!Cell_Color($A$6),3,IF([1]!Cell_Color(T81)=[1]!Cell_Color($A$7),3,IF([1]!Cell_Color(T81)=[1]!Cell_Color($A$8),4,IF([1]!Cell_Color(T81)=[1]!Cell_Color($A$9),4,0))))))))","v":5},{"$f":"(17-U81)*POWER(EXP(1),2*(4-IF([1]!Cell_Color(U81)=[1]!Cell_Color($A$4),1,IF([1]!Cell_Color(U81)=[1]!Cell_Color($A$5),2,IF([1]!Cell_Color(U81)=[1]!Cell_Color($A$6),3,IF([1]!Cell_Color(U81)=[1]!Cell_Color($A$7),3,IF([1]!Cell_Color(U81)=[1]!Cell_Color($A$8),4,IF([1]!Cell_Color(U81)=[1]!Cell_Color($A$9),4,0))))))))","v":14},{"$f":"(17-V81)*POWER(EXP(1),2*(4-IF([1]!Cell_Color(V81)=[1]!Cell_Color($A$4),1,IF([1]!Cell_Color(V81)=[1]!Cell_Color($A$5),2,IF([1]!Cell_Color(V81)=[1]!Cell_Color($A$6),3,IF([1]!Cell_Color(V81)=[1]!Cell_Color($A$7),3,IF([1]!Cell_Color(V81)=[1]!Cell_Color($A$8),4,IF([1]!Cell_Color(V81)=[1]!Cell_Color($A$9),4,0))))))))","v":7.3890560989306495}]
[null,null,79,62,-17,79,null,79,"Бакталорантаза Вароши",15,9,5,7,9,7,14,4,11,5,5,7,2,null,{"$f":"SUM(AB82:AF82)","v":127.05772928609844},{"$f":"SUM(AD82:AH82)","v":53},{"$f":"SUM(AE82:AI82)","v":55},null,{"$f":"(17-O82)*POWER(EXP(1),2*(4-IF([1]!Cell_Color(O82)=[1]!Cell_Color($A$4),1,IF([1]!Cell_Color(O82)=[1]!Cell_Color($A$5),2,IF([1]!Cell_Color(O82)=[1]!Cell_Color($A$6),3,IF([1]!Cell_Color(O82)=[1]!Cell_Color($A$7),3,IF([1]!Cell_Color(O82)=[1]!Cell_Color($A$8),4,IF([1]!Cell_Color(O82)=[1]!Cell_Color($A$9),4,0))))))))","v":73.890560989306493},{"$f":"(17-P82)*POWER(EXP(1),2*(4-IF([1]!Cell_Color(P82)=[1]!Cell_Color($A$4),1,IF([1]!Cell_Color(P82)=[1]!Cell_Color($A$5),2,IF([1]!Cell_Color(P82)=[1]!Cell_Color($A$6),3,IF([1]!Cell_Color(P82)=[1]!Cell_Color($A$7),3,IF([1]!Cell_Color(P82)=[1]!Cell_Color($A$8),4,IF([1]!Cell_Color(P82)=[1]!Cell_Color($A$9),4,0))))))))","v":22.167168296791949},{"$f":"(17-Q82)*POWER(EXP(1),2*(4-IF([1]!Cell_Color(Q82)=[1]!Cell_Color($A$4),1,IF([1]!Cell_Color(Q82)=[1]!Cell_Color($A$5),2,IF([1]!Cell_Color(Q82)=[1]!Cell_Color($A$6),3,IF([1]!Cell_Color(Q82)=[1]!Cell_Color($A$7),3,IF([1]!Cell_Color(Q82)=[1]!Cell_Color($A$8),4,IF([1]!Cell_Color(Q82)=[1]!Cell_Color($A$9),4,0))))))))","v":13},{"$f":"(17-R82)*POWER(EXP(1),2*(4-IF([1]!Cell_Color(R82)=[1]!Cell_Color($A$4),1,IF([1]!Cell_Color(R82)=[1]!Cell_Color($A$5),2,IF([1]!Cell_Color(R82)=[1]!Cell_Color($A$6),3,IF([1]!Cell_Color(R82)=[1]!Cell_Color($A$7),3,IF([1]!Cell_Color(R82)=[1]!Cell_Color($A$8),4,IF([1]!Cell_Color(R82)=[1]!Cell_Color($A$9),4,0))))))))","v":6},{"$f":"(17-S82)*POWER(EXP(1),2*(4-IF([1]!Cell_Color(S82)=[1]!Cell_Color($A$4),1,IF([1]!Cell_Color(S82)=[1]!Cell_Color($A$5),2,IF([1]!Cell_Color(S82)=[1]!Cell_Color($A$6),3,IF([1]!Cell_Color(S82)=[1]!Cell_Color($A$7),3,IF([1]!Cell_Color(S82)=[1]!Cell_Color($A$8),4,IF([1]!Cell_Color(S82)=[1]!Cell_Color($A$9),4,0))))))))","v":12},{"$f":"(17-T82)*POWER(EXP(1),2*(4-IF([1]!Cell_Color(T82)=[1]!Cell_Color($A$4),1,IF([1]!Cell_Color(T82)=[1]!Cell_Color($A$5),2,IF([1]!Cell_Color(T82)=[1]!Cell_Color($A$6),3,IF([1]!Cell_Color(T82)=[1]!Cell_Color($A$7),3,IF([1]!Cell_Color(T82)=[1]!Cell_Color($A$8),4,IF([1]!Cell_Color(T82)=[1]!Cell_Color($A$9),4,0))))))))","v":12},{"$f":"(17-U82)*POWER(EXP(1),2*(4-IF([1]!Cell_Color(U82)=[1]!Cell_Color($A$4),1,IF([1]!Cell_Color(U82)=[1]!Cell_Color($A$5),2,IF([1]!Cell_Color(U82)=[1]!Cell_Color($A$6),3,IF([1]!Cell_Color(U82)=[1]!Cell_Color($A$7),3,IF([1]!Cell_Color(U82)=[1]!Cell_Color($A$8),4,IF([1]!Cell_Color(U82)=[1]!Cell_Color($A$9),4,0))))))))","v":10},{"$f":"(17-V82)*POWER(EXP(1),2*(4-IF([1]!Cell_Color(V82)=[1]!Cell_Color($A$4),1,IF([1]!Cell_Color(V82)=[1]!Cell_Color($A$5),2,IF([1]!Cell_Color(V82)=[1]!Cell_Color($A$6),3,IF([1]!Cell_Color(V82)=[1]!Cell_Color($A$7),3,IF([1]!Cell_Color(V82)=[1]!Cell_Color($A$8),4,IF([1]!Cell_Color(V82)=[1]!Cell_Color($A$9),4,0))))))))","v":15}]
[null,null,80,79,-1,80,null,80,"Печи Вашуташ СК",null,null,11,3,16,14,5,5,6,6,5,12,5,null,{"$f":"SUM(AB83:AF83)","v":49},{"$f":"SUM(AD83:AH83)","v":51},{"$f":"SUM(AE83:AI83)","v":51},null,{"$f":"(17-O83)*POWER(EXP(1),2*(4-IF([1]!Cell_Color(O83)=[1]!Cell_Color($A$4),1,IF([1]!Cell_Color(O83)=[1]!Cell_Color($A$5),2,IF([1]!Cell_Color(O83)=[1]!Cell_Color($A$6),3,IF([1]!Cell_Color(O83)=[1]!Cell_Color($A$7),3,IF([1]!Cell_Color(O83)=[1]!Cell_Color($A$8),4,IF([1]!Cell_Color(O83)=[1]!Cell_Color($A$9),4,0))))))))","v":3},{"$f":"(17-P83)*POWER(EXP(1),2*(4-IF([1]!Cell_Color(P83)=[1]!Cell_Color($A$4),1,IF([1]!Cell_Color(P83)=[1]!Cell_Color($A$5),2,IF([1]!Cell_Color(P83)=[1]!Cell_Color($A$6),3,IF([1]!Cell_Color(P83)=[1]!Cell_Color($A$7),3,IF([1]!Cell_Color(P83)=[1]!Cell_Color($A$8),4,IF([1]!Cell_Color(P83)=[1]!Cell_Color($A$9),4,0))))))))","v":12},{"$f":"(17-Q83)*POWER(EXP(1),2*(4-IF([1]!Cell_Color(Q83)=[1]!Cell_Color($A$4),1,IF([1]!Cell_Color(Q83)=[1]!Cell_Color($A$5),2,IF([1]!Cell_Color(Q83)=[1]!Cell_Color($A$6),3,IF([1]!Cell_Color(Q83)=[1]!Cell_Color($A$7),3,IF([1]!Cell_Color(Q83)=[1]!Cell_Color($A$8),4,IF([1]!Cell_Color(Q83)=[1]!Cell_Color($A$9),4,0))))))))","v":12},{"$f":"(17-R83)*POWER(EXP(1),2*(4-IF([1]!Cell_Color(R83)=[1]!Cell_Color($A$4),1,IF([1]!Cell_Color(R83)=[1]!Cell_Color($A$5),2,IF([1]!Cell_Color(R83)=[1]!Cell_Color($A$6),3,IF([1]!Cell_Color(R83)=[1]!Cell_Color($A$7),3,IF([1]!Cell_Color(R83)=[1]!Cell_Color($A$8),4,IF([1]!Cell_Color(R83)=[1]!Cell_Color($A$9),4,0))))))))","v":11},{"$f":"(17-S83)*POWER(EXP(1),2*(4-IF([1]!Cell_Color(S83)=[1]!Cell_Color($A$4),1,IF([1]!Cell_Color(S83)=[1]!Cell_Color($A$5),2,IF([1]!Cell_Color(S83)=[1]!Cell_Color($A$6),3,IF([1]!Cell_Color(S83)=[1]!Cell_Color($A$7),3,IF([1]!Cell_Color(S83)=[1]!Cell_Color($A$8),4,IF([1]!Cell_Color(S83)=[1]!Cell_Color($A$9),4,0))))))))","v":11},{"$f":"(17-T83)*POWER(EXP(1),2*(4-IF([1]!Cell_Color(T83)=[1]!Cell_Color($A$4),1,IF([1]!Cell_Color(T83)=[1]!Cell_Color($A$5),2,IF([1]!Cell_Color(T83)=[1]!Cell_Color($A$6),3,IF([1]!Cell_Color(T83)=[1]!Cell_Color($A$7),3,IF([1]!Cell_Color(T83)=[1]!Cell_Color($A$8),4,IF([1]!Cell_Color(T83)=[1]!Cell_Color($A$9),4,0))))))))","v":12},{"$f":"(17-U83)*POWER(EXP(1),2*(4-IF([1]!Cell_Color(U83)=[1]!Cell_Color($A$4),1,IF([1]!Cell_Color(U83)=[1]!Cell_Color($A$5),2,IF([1]!Cell_Color(U83)=[1]!Cell_Color($A$6),3,IF([1]!Cell_Color(U83)=[1]!Cell_Color($A$7),3,IF([1]!Cell_Color(U83)=[1]!Cell_Color($A$8),4,IF([1]!Cell_Color(U83)=[1]!Cell_Color($A$9),4,0))))))))","v":5},{"$f":"(17-V83)*POWER(EXP(1),2*(4-IF([1]!Cell_Color(V83)=[1]!Cell_Color($A$4),1,IF([1]!Cell_Color(V83)=[1]!Cell_Color($A$5),2,IF([1]!Cell_Color(V83)=[1]!Cell_Color($A$6),3,IF([1]!Cell_Color(V83)=[1]!Cell_Color($A$7),3,IF([1]!Cell_Color(V83)=[1]!Cell_Color($A$8),4,IF([1]!Cell_Color(V83)=[1]!Cell_Color($A$9),4,0))))))))","v":12}]
[null,null,81,86,5,84,3,81,"Икарус БСЕ",null,null,16,9,13,14,6,9,7,9,11,4,3,null,{"$f":"SUM(AB84:AF84)","v":40},{"$f":"SUM(AD84:AH84)","v":45},{"$f":"SUM(AE84:AI84)","v":51},null,{"$f":"(17-O84)*POWER(EXP(1),2*(4-IF([1]!Cell_Color(O84)=[1]!Cell_Color($A$4),1,IF([1]!Cell_Color(O84)=[1]!Cell_Color($A$5),2,IF([1]!Cell_Color(O84)=[1]!Cell_Color($A$6),3,IF([1]!Cell_Color(O84)=[1]!Cell_Color($A$7),3,IF([1]!Cell_Color(O84)=[1]!Cell_Color($A$8),4,IF([1]!Cell_Color(O84)=[1]!Cell_Color($A$9),4,0))))))))","v":3},{"$f":"(17-P84)*POWER(EXP(1),2*(4-IF([1]!Cell_Color(P84)=[1]!Cell_Color($A$4),1,IF([1]!Cell_Color(P84)=[1]!Cell_Color($A$5),2,IF([1]!Cell_Color(P84)=[1]!Cell_Color($A$6),3,IF([1]!Cell_Color(P84)=[1]!Cell_Color($A$7),3,IF([1]!Cell_Color(P84)=[1]!Cell_Color($A$8),4,IF([1]!Cell_Color(P84)=[1]!Cell_Color($A$9),4,0))))))))","v":11},{"$f":"(17-Q84)*POWER(EXP(1),2*(4-IF([1]!Cell_Color(Q84)=[1]!Cell_Color($A$4),1,IF([1]!Cell_Color(Q84)=[1]!Cell_Color($A$5),2,IF([1]!Cell_Color(Q84)=[1]!Cell_Color($A$6),3,IF([1]!Cell_Color(Q84)=[1]!Cell_Color($A$7),3,IF([1]!Cell_Color(Q84)=[1]!Cell_Color($A$8),4,IF([1]!Cell_Color(Q84)=[1]!Cell_Color($A$9),4,0))))))))","v":8},{"$f":"(17-R84)*POWER(EXP(1),2*(4-IF([1]!Cell_Color(R84)=[1]!Cell_Color($A$4),1,IF([1]!Cell_Color(R84)=[1]!Cell_Color($A$5),2,IF([1]!Cell_Color(R84)=[1]!Cell_Color($A$6),3,IF([1]!Cell_Color(R84)=[1]!Cell_Color($A$7),3,IF([1]!Cell_Color(R84)=[1]!Cell_Color($A$8),4,IF([1]!Cell_Color(R84)=[1]!Cell_Color($A$9),4,0))))))))","v":10},{"$f":"(17-S84)*POWER(EXP(1),2*(4-IF([1]!Cell_Color(S84)=[1]!Cell_Color($A$4),1,IF([1]!Cell_Color(S84)=[1]!Cell_Color($A$5),2,IF([1]!Cell_Color(S84)=[1]!Cell_Color($A$6),3,IF([1]!Cell_Color(S84)=[1]!Cell_Color($A$7),3,IF([1]!Cell_Color(S84)=[1]!Cell_Color($A$8),4,IF([1]!Cell_Color(S84)=[1]!Cell_Color($A$9),4,0))))))))","v":8},{"$f":"(17-T84)*POWER(EXP(1),2*(4-IF([1]!Cell_Color(T84)=[1]!Cell_Color($A$4),1,IF([1]!Cell_Color(T84)=[1]!Cell_Color($A$5),2,IF([1]!Cell_Color(T84)=[1]!Cell_Color($A$6),3,IF([1]!Cell_Color(T84)=[1]!Cell_Color($A$7),3,IF([1]!Cell_Color(T84)=[1]!Cell_Color($A$8),4,IF([1]!Cell_Color(T84)=[1]!Cell_Color($A$9),4,0))))))))","v":6},{"$f":"(17-U84)*POWER(EXP(1),2*(4-IF([1]!Cell_Color(U84)=[1]!Cell_Color($A$4),1,IF([1]!Cell_Color(U84)=[1]!Cell_Color($A$5),2,IF([1]!Cell_Color(U84)=[1]!Cell_Color($A$6),3,IF([1]!Cell_Color(U84)=[1]!Cell_Color($A$7),3,IF([1]!Cell_Color(U84)=[1]!Cell_Color($A$8),4,IF([1]!Cell_Color(U84)=[1]!Cell_Color($A$9),4,0))))))))","v":13},{"$f":"(17-V84)*POWER(EXP(1),2*(4-IF([1]!Cell_Color(V84)=[1]!Cell_Color($A$4),1,IF([1]!Cell_Color(V84)=[1]!Cell_Color($A$5),2,IF([1]!Cell_Color(V84)=[1]!Cell_Color($A$6),3,IF([1]!Cell_Color(V84)=[1]!Cell_Color($A$7),3,IF([1]!Cell_Color(V84)=[1]!Cell_Color($A$8),4,IF([1]!Cell_Color(V84)=[1]!Cell_Color($A$9),4,0))))))))","v":14}]
[null,null,82,94,12,87,5,82,"Сентлёринц СЕ",null,null,16,16,16,13,15,15,10,10,11,7,1,null,{"$f":"SUM(AB85:AF85)","v":22},{"$f":"SUM(AD85:AH85)","v":32},{"$f":"SUM(AE85:AI85)","v":46},null,{"$f":"(17-O85)*POWER(EXP(1),2*(4-IF([1]!Cell_Color(O85)=[1]!Cell_Color($A$4),1,IF([1]!Cell_Color(O85)=[1]!Cell_Color($A$5),2,IF([1]!Cell_Color(O85)=[1]!Cell_Color($A$6),3,IF([1]!Cell_Color(O85)=[1]!Cell_Color($A$7),3,IF([1]!Cell_Color(O85)=[1]!Cell_Color($A$8),4,IF([1]!Cell_Color(O85)=[1]!Cell_Color($A$9),4,0))))))))","v":4},{"$f":"(17-P85)*POWER(EXP(1),2*(4-IF([1]!Cell_Color(P85)=[1]!Cell_Color($A$4),1,IF([1]!Cell_Color(P85)=[1]!Cell_Color($A$5),2,IF([1]!Cell_Color(P85)=[1]!Cell_Color($A$6),3,IF([1]!Cell_Color(P85)=[1]!Cell_Color($A$7),3,IF([1]!Cell_Color(P85)=[1]!Cell_Color($A$8),4,IF([1]!Cell_Color(P85)=[1]!Cell_Color($A$9),4,0))))))))","v":2},{"$f":"(17-Q85)*POWER(EXP(1),2*(4-IF([1]!Cell_Color(Q85)=[1]!Cell_Color($A$4),1,IF([1]!Cell_Color(Q85)=[1]!Cell_Color($A$5),2,IF([1]!Cell_Color(Q85)=[1]!Cell_Color($A$6),3,IF([1]!Cell_Color(Q85)=[1]!Cell_Color($A$7),3,IF([1]!Cell_Color(Q85)=[1]!Cell_Color($A$8),4,IF([1]!Cell_Color(Q85)=[1]!Cell_Color($A$9),4,0))))))))","v":2},{"$f":"(17-R85)*POWER(EXP(1),2*(4-IF([1]!Cell_Color(R85)=[1]!Cell_Color($A$4),1,IF([1]!Cell_Color(R85)=[1]!Cell_Color($A$5),2,IF([1]!Cell_Color(R85)=[1]!Cell_Color($A$6),3,IF([1]!Cell_Color(R85)=[1]!Cell_Color($A$7),3,IF([1]!Cell_Color(R85)=[1]!Cell_Color($A$8),4,IF([1]!Cell_Color(R85)=[1]!Cell_Color($A$9),4,0))))))))","v":7},{"$f":"(17-S85)*POWER(EXP(1),2*(4-IF([1]!Cell_Color(S85)=[1]!Cell_Color($A$4),1,IF([1]!Cell_Color(S85)=[1]!Cell_Color($A$5),2,IF([1]!Cell_Color(S85)=[1]!Cell_Color($A$6),3,IF([1]!Cell_Color(S85)=[1]!Cell_Color($A$7),3,IF([1]!Cell_Color(S85)=[1]!Cell_Color($A$8),4,IF([1]!Cell_Color(S85)=[1]!Cell_Color($A$9),4,0))))))))","v":7},{"$f":"(17-T85)*POWER(EXP(1),2*(4-IF([1]!Cell_Color(T85)=[1]!Cell_Color($A$4),1,IF([1]!Cell_Color(T85)=[1]!Cell_Color($A$5),2,IF([1]!Cell_Color(T85)=[1]!Cell_Color($A$6),3,IF([1]!Cell_Color(T85)=[1]!Cell_Color($A$7),3,IF([1]!Cell_Color(T85)=[1]!Cell_Color($A$8),4,IF([1]!Cell_Color(T85)=[1]!Cell_Color($A$9),4,0))))))))","v":6},{"$f":"(17-U85)*POWER(EXP(1),2*(4-IF([1]!Cell_Color(U85)=[1]!Cell_Color($A$4),1,IF([1]!Cell_Color(U85)=[1]!Cell_Color($A$5),2,IF([1]!Cell_Color(U85)=[1]!Cell_Color($A$6),3,IF([1]!Cell_Color(U85)=[1]!Cell_Color($A$7),3,IF([1]!Cell_Color(U85)=[1]!Cell_Color($A$8),4,IF([1]!Cell_Color(U85)=[1]!Cell_Color($A$9),4,0))))))))","v":10},{"$f":"(17-V85)*POWER(EXP(1),2*(4-IF([1]!Cell_Color(V85)=[1]!Cell_Color($A$4),1,IF([1]!Cell_Color(V85)=[1]!Cell_Color($A$5),2,IF([1]!Cell_Color(V85)=[1]!Cell_Color($A$6),3,IF([1]!Cell_Color(V85)=[1]!Cell_Color($A$7),3,IF([1]!Cell_Color(V85)=[1]!Cell_Color($A$8),4,IF([1]!Cell_Color(V85)=[1]!Cell_Color($A$9),4,0))))))))","v":16}]
[null,null,83,53,-30,77,-6,83,"Видеотон",9,16,15,1,16,4,8,13,14,7,13,13,12,null,{"$f":"SUM(AB86:AF86)","v":224.28262686898884},{"$f":"SUM(AD86:AH86)","v":69.723392692514551},{"$f":"SUM(AE86:AI86)","v":45.167168296791949},null,{"$f":"(17-O86)*POWER(EXP(1),2*(4-IF([1]!Cell_Color(O86)=[1]!Cell_Color($A$4),1,IF([1]!Cell_Color(O86)=[1]!Cell_Color($A$5),2,IF([1]!Cell_Color(O86)=[1]!Cell_Color($A$6),3,IF([1]!Cell_Color(O86)=[1]!Cell_Color($A$7),3,IF([1]!Cell_Color(O86)=[1]!Cell_Color($A$8),4,IF([1]!Cell_Color(O86)=[1]!Cell_Color($A$9),4,0))))))))","v":96.05772928609845},{"$f":"(17-P86)*POWER(EXP(1),2*(4-IF([1]!Cell_Color(P86)=[1]!Cell_Color($A$4),1,IF([1]!Cell_Color(P86)=[1]!Cell_Color($A$5),2,IF([1]!Cell_Color(P86)=[1]!Cell_Color($A$6),3,IF([1]!Cell_Color(P86)=[1]!Cell_Color($A$7),3,IF([1]!Cell_Color(P86)=[1]!Cell_Color($A$8),4,IF([1]!Cell_Color(P86)=[1]!Cell_Color($A$9),4,0))))))))","v":66.501504890375841},{"$f":"(17-Q86)*POWER(EXP(1),2*(4-IF([1]!Cell_Color(Q86)=[1]!Cell_Color($A$4),1,IF([1]!Cell_Color(Q86)=[1]!Cell_Color($A$5),2,IF([1]!Cell_Color(Q86)=[1]!Cell_Color($A$6),3,IF([1]!Cell_Color(Q86)=[1]!Cell_Color($A$7),3,IF([1]!Cell_Color(Q86)=[1]!Cell_Color($A$8),4,IF([1]!Cell_Color(Q86)=[1]!Cell_Color($A$9),4,0))))))))","v":29.556224395722598},{"$f":"(17-R86)*POWER(EXP(1),2*(4-IF([1]!Cell_Color(R86)=[1]!Cell_Color($A$4),1,IF([1]!Cell_Color(R86)=[1]!Cell_Color($A$5),2,IF([1]!Cell_Color(R86)=[1]!Cell_Color($A$6),3,IF([1]!Cell_Color(R86)=[1]!Cell_Color($A$7),3,IF([1]!Cell_Color(R86)=[1]!Cell_Color($A$8),4,IF([1]!Cell_Color(R86)=[1]!Cell_Color($A$9),4,0))))))))","v":22.167168296791949},{"$f":"(17-S86)*POWER(EXP(1),2*(4-IF([1]!Cell_Color(S86)=[1]!Cell_Color($A$4),1,IF([1]!Cell_Color(S86)=[1]!Cell_Color($A$5),2,IF([1]!Cell_Color(S86)=[1]!Cell_Color($A$6),3,IF([1]!Cell_Color(S86)=[1]!Cell_Color($A$7),3,IF([1]!Cell_Color(S86)=[1]!Cell_Color($A$8),4,IF([1]!Cell_Color(S86)=[1]!Cell_Color($A$9),4,0))))))))","v":10},{"$f":"(17-T86)*POWER(EXP(1),2*(4-IF([1]!Cell_Color(T86)=[1]!Cell_Color($A$4),1,IF([1]!Cell_Color(T86)=[1]!Cell_Color($A$5),2,IF([1]!Cell_Color(T86)=[1]!Cell_Color($A$6),3,IF([1]!Cell_Color(T86)=[1]!Cell_Color($A$7),3,IF([1]!Cell_Color(T86)=[1]!Cell_Color($A$8),4,IF([1]!Cell_Color(T86)=[1]!Cell_Color($A$9),4,0))))))))","v":4},{"$f":"(17-U86)*POWER(EXP(1),2*(4-IF([1]!Cell_Color(U86)=[1]!Cell_Color($A$4),1,IF([1]!Cell_Color(U86)=[1]!Cell_Color($A$5),2,IF([1]!Cell_Color(U86)=[1]!Cell_Color($A$6),3,IF([1]!Cell_Color(U86)=[1]!Cell_Color($A$7),3,IF([1]!Cell_Color(U86)=[1]!Cell_Color($A$8),4,IF([1]!Cell_Color(U86)=[1]!Cell_Color($A$9),4,0))))))))","v":4},{"$f":"(17-V86)*POWER(EXP(1),2*(4-IF([1]!Cell_Color(V86)=[1]!Cell_Color($A$4),1,IF([1]!Cell_Color(V86)=[1]!Cell_Color($A$5),2,IF([1]!Cell_Color(V86)=[1]!Cell_Color($A$6),3,IF([1]!Cell_Color(V86)=[1]!Cell_Color($A$7),3,IF([1]!Cell_Color(V86)=[1]!Cell_Color($A$8),4,IF([1]!Cell_Color(V86)=[1]!Cell_Color($A$9),4,0))))))))","v":5}]
[null,null,84,81,-3,83,-1,84,"Чепел ФК",null,null,7,3,13,16,10,8,5,6,12,8,10,null,{"$f":"SUM(AB87:AF87)","v":46.389056098930652},{"$f":"SUM(AD87:AH87)","v":46},{"$f":"SUM(AE87:AI87)","v":44},null,{"$f":"(17-O87)*POWER(EXP(1),2*(4-IF([1]!Cell_Color(O87)=[1]!Cell_Color($A$4),1,IF([1]!Cell_Color(O87)=[1]!Cell_Color($A$5),2,IF([1]!Cell_Color(O87)=[1]!Cell_Color($A$6),3,IF([1]!Cell_Color(O87)=[1]!Cell_Color($A$7),3,IF([1]!Cell_Color(O87)=[1]!Cell_Color($A$8),4,IF([1]!Cell_Color(O87)=[1]!Cell_Color($A$9),4,0))))))))","v":7.3890560989306495},{"$f":"(17-P87)*POWER(EXP(1),2*(4-IF([1]!Cell_Color(P87)=[1]!Cell_Color($A$4),1,IF([1]!Cell_Color(P87)=[1]!Cell_Color($A$5),2,IF([1]!Cell_Color(P87)=[1]!Cell_Color($A$6),3,IF([1]!Cell_Color(P87)=[1]!Cell_Color($A$7),3,IF([1]!Cell_Color(P87)=[1]!Cell_Color($A$8),4,IF([1]!Cell_Color(P87)=[1]!Cell_Color($A$9),4,0))))))))","v":7},{"$f":"(17-Q87)*POWER(EXP(1),2*(4-IF([1]!Cell_Color(Q87)=[1]!Cell_Color($A$4),1,IF([1]!Cell_Color(Q87)=[1]!Cell_Color($A$5),2,IF([1]!Cell_Color(Q87)=[1]!Cell_Color($A$6),3,IF([1]!Cell_Color(Q87)=[1]!Cell_Color($A$7),3,IF([1]!Cell_Color(Q87)=[1]!Cell_Color($A$8),4,IF([1]!Cell_Color(Q87)=[1]!Cell_Color($A$9),4,0))))))))","v":9},{"$f":"(17-R87)*POWER(EXP(1),2*(4-IF([1]!Cell_Color(R87)=[1]!Cell_Color($A$4),1,IF([1]!Cell_Color(R87)=[1]!Cell_Color($A$5),2,IF([1]!Cell_Color(R87)=[1]!Cell_Color($A$6),3,IF([1]!Cell_Color(R87)=[1]!Cell_Color($A$7),3,IF([1]!Cell_Color(R87)=[1]!Cell_Color($A$8),4,IF([1]!Cell_Color(R87)=[1]!Cell_Color($A$9),4,0))))))))","v":12},{"$f":"(17-S87)*POWER(EXP(1),2*(4-IF([1]!Cell_Color(S87)=[1]!Cell_Color($A$4),1,IF([1]!Cell_Color(S87)=[1]!Cell_Color($A$5),2,IF([1]!Cell_Color(S87)=[1]!Cell_Color($A$6),3,IF([1]!Cell_Color(S87)=[1]!Cell_Color($A$7),3,IF([1]!Cell_Color(S87)=[1]!Cell_Color($A$8),4,IF([1]!Cell_Color(S87)=[1]!Cell_Color($A$9),4,0))))))))","v":11},{"$f":"(17-T87)*POWER(EXP(1),2*(4-IF([1]!Cell_Color(T87)=[1]!Cell_Color($A$4),1,IF([1]!Cell_Color(T87)=[1]!Cell_Color($A$5),2,IF([1]!Cell_Color(T87)=[1]!Cell_Color($A$6),3,IF([1]!Cell_Color(T87)=[1]!Cell_Color($A$7),3,IF([1]!Cell_Color(T87)=[1]!Cell_Color($A$8),4,IF([1]!Cell_Color(T87)=[1]!Cell_Color($A$9),4,0))))))))","v":5},{"$f":"(17-U87)*POWER(EXP(1),2*(4-IF([1]!Cell_Color(U87)=[1]!Cell_Color($A$4),1,IF([1]!Cell_Color(U87)=[1]!Cell_Color($A$5),2,IF([1]!Cell_Color(U87)=[1]!Cell_Color($A$6),3,IF([1]!Cell_Color(U87)=[1]!Cell_Color($A$7),3,IF([1]!Cell_Color(U87)=[1]!Cell_Color($A$8),4,IF([1]!Cell_Color(U87)=[1]!Cell_Color($A$9),4,0))))))))","v":9},{"$f":"(17-V87)*POWER(EXP(1),2*(4-IF([1]!Cell_Color(V87)=[1]!Cell_Color($A$4),1,IF([1]!Cell_Color(V87)=[1]!Cell_Color($A$5),2,IF([1]!Cell_Color(V87)=[1]!Cell_Color($A$6),3,IF([1]!Cell_Color(V87)=[1]!Cell_Color($A$7),3,IF([1]!Cell_Color(V87)=[1]!Cell_Color($A$8),4,IF([1]!Cell_Color(V87)=[1]!Cell_Color($A$9),4,0))))))))","v":7}]
[null,null,85,74,-11,86,1,85,"Барчи СК",14,16,14,4,4,12,14,14,11,12,7,4,16,null,{"$f":"SUM(AB88:AF88)","v":73.112448791445189},{"$f":"SUM(AD88:AH88)","v":37},{"$f":"SUM(AE88:AI88)","v":41.389056098930652},null,{"$f":"(17-O88)*POWER(EXP(1),2*(4-IF([1]!Cell_Color(O88)=[1]!Cell_Color($A$4),1,IF([1]!Cell_Color(O88)=[1]!Cell_Color($A$5),2,IF([1]!Cell_Color(O88)=[1]!Cell_Color($A$6),3,IF([1]!Cell_Color(O88)=[1]!Cell_Color($A$7),3,IF([1]!Cell_Color(O88)=[1]!Cell_Color($A$8),4,IF([1]!Cell_Color(O88)=[1]!Cell_Color($A$9),4,0))))))))","v":36.945280494653247},{"$f":"(17-P88)*POWER(EXP(1),2*(4-IF([1]!Cell_Color(P88)=[1]!Cell_Color($A$4),1,IF([1]!Cell_Color(P88)=[1]!Cell_Color($A$5),2,IF([1]!Cell_Color(P88)=[1]!Cell_Color($A$6),3,IF([1]!Cell_Color(P88)=[1]!Cell_Color($A$7),3,IF([1]!Cell_Color(P88)=[1]!Cell_Color($A$8),4,IF([1]!Cell_Color(P88)=[1]!Cell_Color($A$9),4,0))))))))","v":22.167168296791949},{"$f":"(17-Q88)*POWER(EXP(1),2*(4-IF([1]!Cell_Color(Q88)=[1]!Cell_Color($A$4),1,IF([1]!Cell_Color(Q88)=[1]!Cell_Color($A$5),2,IF([1]!Cell_Color(Q88)=[1]!Cell_Color($A$6),3,IF([1]!Cell_Color(Q88)=[1]!Cell_Color($A$7),3,IF([1]!Cell_Color(Q88)=[1]!Cell_Color($A$8),4,IF([1]!Cell_Color(Q88)=[1]!Cell_Color($A$9),4,0))))))))","v":3},{"$f":"(17-R88)*POWER(EXP(1),2*(4-IF([1]!Cell_Color(R88)=[1]!Cell_Color($A$4),1,IF([1]!Cell_Color(R88)=[1]!Cell_Color($A$5),2,IF([1]!Cell_Color(R88)=[1]!Cell_Color($A$6),3,IF([1]!Cell_Color(R88)=[1]!Cell_Color($A$7),3,IF([1]!Cell_Color(R88)=[1]!Cell_Color($A$8),4,IF([1]!Cell_Color(R88)=[1]!Cell_Color($A$9),4,0))))))))","v":6},{"$f":"(17-S88)*POWER(EXP(1),2*(4-IF([1]!Cell_Color(S88)=[1]!Cell_Color($A$4),1,IF([1]!Cell_Color(S88)=[1]!Cell_Color($A$5),2,IF([1]!Cell_Color(S88)=[1]!Cell_Color($A$6),3,IF([1]!Cell_Color(S88)=[1]!Cell_Color($A$7),3,IF([1]!Cell_Color(S88)=[1]!Cell_Color($A$8),4,IF([1]!Cell_Color(S88)=[1]!Cell_Color($A$9),4,0))))))))","v":5},{"$f":"(17-T88)*POWER(EXP(1),2*(4-IF([1]!Cell_Color(T88)=[1]!Cell_Color($A$4),1,IF([1]!Cell_Color(T88)=[1]!Cell_Color($A$5),2,IF([1]!Cell_Color(T88)=[1]!Cell_Color($A$6),3,IF([1]!Cell_Color(T88)=[1]!Cell_Color($A$7),3,IF([1]!Cell_Color(T88)=[1]!Cell_Color($A$8),4,IF([1]!Cell_Color(T88)=[1]!Cell_Color($A$9),4,0))))))))","v":10},{"$f":"(17-U88)*POWER(EXP(1),2*(4-IF([1]!Cell_Color(U88)=[1]!Cell_Color($A$4),1,IF([1]!Cell_Color(U88)=[1]!Cell_Color($A$5),2,IF([1]!Cell_Color(U88)=[1]!Cell_Color($A$6),3,IF([1]!Cell_Color(U88)=[1]!Cell_Color($A$7),3,IF([1]!Cell_Color(U88)=[1]!Cell_Color($A$8),4,IF([1]!Cell_Color(U88)=[1]!Cell_Color($A$9),4,0))))))))","v":13},{"$f":"(17-V88)*POWER(EXP(1),2*(4-IF([1]!Cell_Color(V88)=[1]!Cell_Color($A$4),1,IF([1]!Cell_Color(V88)=[1]!Cell_Color($A$5),2,IF([1]!Cell_Color(V88)=[1]!Cell_Color($A$6),3,IF([1]!Cell_Color(V88)=[1]!Cell_Color($A$7),3,IF([1]!Cell_Color(V88)=[1]!Cell_Color($A$8),4,IF([1]!Cell_Color(V88)=[1]!Cell_Color($A$9),4,0))))))))","v":7.3890560989306495}]
[null,null,86,88,2,85,-1,86,"Картель Секьюрити ФК",null,null,6,14,16,13,7,10,10,12,10,5,8,null,{"$f":"SUM(AB89:AF89)","v":33},{"$f":"SUM(AD89:AH89)","v":38},{"$f":"SUM(AE89:AI89)","v":40},null,{"$f":"(17-O89)*POWER(EXP(1),2*(4-IF([1]!Cell_Color(O89)=[1]!Cell_Color($A$4),1,IF([1]!Cell_Color(O89)=[1]!Cell_Color($A$5),2,IF([1]!Cell_Color(O89)=[1]!Cell_Color($A$6),3,IF([1]!Cell_Color(O89)=[1]!Cell_Color($A$7),3,IF([1]!Cell_Color(O89)=[1]!Cell_Color($A$8),4,IF([1]!Cell_Color(O89)=[1]!Cell_Color($A$9),4,0))))))))","v":4},{"$f":"(17-P89)*POWER(EXP(1),2*(4-IF([1]!Cell_Color(P89)=[1]!Cell_Color($A$4),1,IF([1]!Cell_Color(P89)=[1]!Cell_Color($A$5),2,IF([1]!Cell_Color(P89)=[1]!Cell_Color($A$6),3,IF([1]!Cell_Color(P89)=[1]!Cell_Color($A$7),3,IF([1]!Cell_Color(P89)=[1]!Cell_Color($A$8),4,IF([1]!Cell_Color(P89)=[1]!Cell_Color($A$9),4,0))))))))","v":10},{"$f":"(17-Q89)*POWER(EXP(1),2*(4-IF([1]!Cell_Color(Q89)=[1]!Cell_Color($A$4),1,IF([1]!Cell_Color(Q89)=[1]!Cell_Color($A$5),2,IF([1]!Cell_Color(Q89)=[1]!Cell_Color($A$6),3,IF([1]!Cell_Color(Q89)=[1]!Cell_Color($A$7),3,IF([1]!Cell_Color(Q89)=[1]!Cell_Color($A$8),4,IF([1]!Cell_Color(Q89)=[1]!Cell_Color($A$9),4,0))))))))","v":7},{"$f":"(17-R89)*POWER(EXP(1),2*(4-IF([1]!Cell_Color(R89)=[1]!Cell_Color($A$4),1,IF([1]!Cell_Color(R89)=[1]!Cell_Color($A$5),2,IF([1]!Cell_Color(R89)=[1]!Cell_Color($A$6),3,IF([1]!Cell_Color(R89)=[1]!Cell_Color($A$7),3,IF([1]!Cell_Color(R89)=[1]!Cell_Color($A$8),4,IF([1]!Cell_Color(R89)=[1]!Cell_Color($A$9),4,0))))))))","v":7},{"$f":"(17-S89)*POWER(EXP(1),2*(4-IF([1]!Cell_Color(S89)=[1]!Cell_Color($A$4),1,IF([1]!Cell_Color(S89)=[1]!Cell_Color($A$5),2,IF([1]!Cell_Color(S89)=[1]!Cell_Color($A$6),3,IF([1]!Cell_Color(S89)=[1]!Cell_Color($A$7),3,IF([1]!Cell_Color(S89)=[1]!Cell_Color($A$8),4,IF([1]!Cell_Color(S89)=[1]!Cell_Color($A$9),4,0))))))))","v":5},{"$f":"(17-T89)*POWER(EXP(1),2*(4-IF([1]!Cell_Color(T89)=[1]!Cell_Color($A$4),1,IF([1]!Cell_Color(T89)=[1]!Cell_Color($A$5),2,IF([1]!Cell_Color(T89)=[1]!Cell_Color($A$6),3,IF([1]!Cell_Color(T89)=[1]!Cell_Color($A$7),3,IF([1]!Cell_Color(T89)=[1]!Cell_Color($A$8),4,IF([1]!Cell_Color(T89)=[1]!Cell_Color($A$9),4,0))))))))","v":7},{"$f":"(17-U89)*POWER(EXP(1),2*(4-IF([1]!Cell_Color(U89)=[1]!Cell_Color($A$4),1,IF([1]!Cell_Color(U89)=[1]!Cell_Color($A$5),2,IF([1]!Cell_Color(U89)=[1]!Cell_Color($A$6),3,IF([1]!Cell_Color(U89)=[1]!Cell_Color($A$7),3,IF([1]!Cell_Color(U89)=[1]!Cell_Color($A$8),4,IF([1]!Cell_Color(U89)=[1]!Cell_Color($A$9),4,0))))))))","v":12},{"$f":"(17-V89)*POWER(EXP(1),2*(4-IF([1]!Cell_Color(V89)=[1]!Cell_Color($A$4),1,IF([1]!Cell_Color(V89)=[1]!Cell_Color($A$5),2,IF([1]!Cell_Color(V89)=[1]!Cell_Color($A$6),3,IF([1]!Cell_Color(V89)=[1]!Cell_Color($A$7),3,IF([1]!Cell_Color(V89)=[1]!Cell_Color($A$8),4,IF([1]!Cell_Color(V89)=[1]!Cell_Color($A$9),4,0))))))))","v":9}]
[null,null,87,68,-19,82,-5,87,"Карцаг",7,8,10,15,11,3,11,15,1,16,16,10,13,null,{"$f":"SUM(AB90:AF90)","v":96.501504890375855},{"$f":"SUM(AD90:AH90)","v":46.167168296791949},{"$f":"SUM(AE90:AI90)","v":35.389056098930652},null,{"$f":"(17-O90)*POWER(EXP(1),2*(4-IF([1]!Cell_Color(O90)=[1]!Cell_Color($A$4),1,IF([1]!Cell_Color(O90)=[1]!Cell_Color($A$5),2,IF([1]!Cell_Color(O90)=[1]!Cell_Color($A$6),3,IF([1]!Cell_Color(O90)=[1]!Cell_Color($A$7),3,IF([1]!Cell_Color(O90)=[1]!Cell_Color($A$8),4,IF([1]!Cell_Color(O90)=[1]!Cell_Color($A$9),4,0))))))))","v":14},{"$f":"(17-P90)*POWER(EXP(1),2*(4-IF([1]!Cell_Color(P90)=[1]!Cell_Color($A$4),1,IF([1]!Cell_Color(P90)=[1]!Cell_Color($A$5),2,IF([1]!Cell_Color(P90)=[1]!Cell_Color($A$6),3,IF([1]!Cell_Color(P90)=[1]!Cell_Color($A$7),3,IF([1]!Cell_Color(P90)=[1]!Cell_Color($A$8),4,IF([1]!Cell_Color(P90)=[1]!Cell_Color($A$9),4,0))))))))","v":44.334336593583899},{"$f":"(17-Q90)*POWER(EXP(1),2*(4-IF([1]!Cell_Color(Q90)=[1]!Cell_Color($A$4),1,IF([1]!Cell_Color(Q90)=[1]!Cell_Color($A$5),2,IF([1]!Cell_Color(Q90)=[1]!Cell_Color($A$6),3,IF([1]!Cell_Color(Q90)=[1]!Cell_Color($A$7),3,IF([1]!Cell_Color(Q90)=[1]!Cell_Color($A$8),4,IF([1]!Cell_Color(Q90)=[1]!Cell_Color($A$9),4,0))))))))","v":14.778112197861299},{"$f":"(17-R90)*POWER(EXP(1),2*(4-IF([1]!Cell_Color(R90)=[1]!Cell_Color($A$4),1,IF([1]!Cell_Color(R90)=[1]!Cell_Color($A$5),2,IF([1]!Cell_Color(R90)=[1]!Cell_Color($A$6),3,IF([1]!Cell_Color(R90)=[1]!Cell_Color($A$7),3,IF([1]!Cell_Color(R90)=[1]!Cell_Color($A$8),4,IF([1]!Cell_Color(R90)=[1]!Cell_Color($A$9),4,0))))))))","v":16},{"$f":"(17-S90)*POWER(EXP(1),2*(4-IF([1]!Cell_Color(S90)=[1]!Cell_Color($A$4),1,IF([1]!Cell_Color(S90)=[1]!Cell_Color($A$5),2,IF([1]!Cell_Color(S90)=[1]!Cell_Color($A$6),3,IF([1]!Cell_Color(S90)=[1]!Cell_Color($A$7),3,IF([1]!Cell_Color(S90)=[1]!Cell_Color($A$8),4,IF([1]!Cell_Color(S90)=[1]!Cell_Color($A$9),4,0))))))))","v":7.3890560989306495},{"$f":"(17-T90)*POWER(EXP(1),2*(4-IF([1]!Cell_Color(T90)=[1]!Cell_Color($A$4),1,IF([1]!Cell_Color(T90)=[1]!Cell_Color($A$5),2,IF([1]!Cell_Color(T90)=[1]!Cell_Color($A$6),3,IF([1]!Cell_Color(T90)=[1]!Cell_Color($A$7),3,IF([1]!Cell_Color(T90)=[1]!Cell_Color($A$8),4,IF([1]!Cell_Color(T90)=[1]!Cell_Color($A$9),4,0))))))))","v":1},{"$f":"(17-U90)*POWER(EXP(1),2*(4-IF([1]!Cell_Color(U90)=[1]!Cell_Color($A$4),1,IF([1]!Cell_Color(U90)=[1]!Cell_Color($A$5),2,IF([1]!Cell_Color(U90)=[1]!Cell_Color($A$6),3,IF([1]!Cell_Color(U90)=[1]!Cell_Color($A$7),3,IF([1]!Cell_Color(U90)=[1]!Cell_Color($A$8),4,IF([1]!Cell_Color(U90)=[1]!Cell_Color($A$9),4,0))))))))","v":7},{"$f":"(17-V90)*POWER(EXP(1),2*(4-IF([1]!Cell_Color(V90)=[1]!Cell_Color($A$4),1,IF([1]!Cell_Color(V90)=[1]!Cell_Color($A$5),2,IF([1]!Cell_Color(V90)=[1]!Cell_Color($A$6),3,IF([1]!Cell_Color(V90)=[1]!Cell_Color($A$7),3,IF([1]!Cell_Color(V90)=[1]!Cell_Color($A$8),4,IF([1]!Cell_Color(V90)=[1]!Cell_Color($A$9),4,0))))))))","v":4}]
[null,null,88,90,2,89,1,88,"В.Н.С.К.",null,null,10,7,11,5,12,14,13,14,7,9,9,null,{"$f":"SUM(AB91:AF91)","v":27},{"$f":"SUM(AD91:AH91)","v":28},{"$f":"SUM(AE91:AI91)","v":33},null,{"$f":"(17-O91)*POWER(EXP(1),2*(4-IF([1]!Cell_Color(O91)=[1]!Cell_Color($A$4),1,IF([1]!Cell_Color(O91)=[1]!Cell_Color($A$5),2,IF([1]!Cell_Color(O91)=[1]!Cell_Color($A$6),3,IF([1]!Cell_Color(O91)=[1]!Cell_Color($A$7),3,IF([1]!Cell_Color(O91)=[1]!Cell_Color($A$8),4,IF([1]!Cell_Color(O91)=[1]!Cell_Color($A$9),4,0))))))))","v":12},{"$f":"(17-P91)*POWER(EXP(1),2*(4-IF([1]!Cell_Color(P91)=[1]!Cell_Color($A$4),1,IF([1]!Cell_Color(P91)=[1]!Cell_Color($A$5),2,IF([1]!Cell_Color(P91)=[1]!Cell_Color($A$6),3,IF([1]!Cell_Color(P91)=[1]!Cell_Color($A$7),3,IF([1]!Cell_Color(P91)=[1]!Cell_Color($A$8),4,IF([1]!Cell_Color(P91)=[1]!Cell_Color($A$9),4,0))))))))","v":5},{"$f":"(17-Q91)*POWER(EXP(1),2*(4-IF([1]!Cell_Color(Q91)=[1]!Cell_Color($A$4),1,IF([1]!Cell_Color(Q91)=[1]!Cell_Color($A$5),2,IF([1]!Cell_Color(Q91)=[1]!Cell_Color($A$6),3,IF([1]!Cell_Color(Q91)=[1]!Cell_Color($A$7),3,IF([1]!Cell_Color(Q91)=[1]!Cell_Color($A$8),4,IF([1]!Cell_Color(Q91)=[1]!Cell_Color($A$9),4,0))))))))","v":3},{"$f":"(17-R91)*POWER(EXP(1),2*(4-IF([1]!Cell_Color(R91)=[1]!Cell_Color($A$4),1,IF([1]!Cell_Color(R91)=[1]!Cell_Color($A$5),2,IF([1]!Cell_Color(R91)=[1]!Cell_Color($A$6),3,IF([1]!Cell_Color(R91)=[1]!Cell_Color($A$7),3,IF([1]!Cell_Color(R91)=[1]!Cell_Color($A$8),4,IF([1]!Cell_Color(R91)=[1]!Cell_Color($A$9),4,0))))))))","v":4},{"$f":"(17-S91)*POWER(EXP(1),2*(4-IF([1]!Cell_Color(S91)=[1]!Cell_Color($A$4),1,IF([1]!Cell_Color(S91)=[1]!Cell_Color($A$5),2,IF([1]!Cell_Color(S91)=[1]!Cell_Color($A$6),3,IF([1]!Cell_Color(S91)=[1]!Cell_Color($A$7),3,IF([1]!Cell_Color(S91)=[1]!Cell_Color($A$8),4,IF([1]!Cell_Color(S91)=[1]!Cell_Color($A$9),4,0))))))))","v":3},{"$f":"(17-T91)*POWER(EXP(1),2*(4-IF([1]!Cell_Color(T91)=[1]!Cell_Color($A$4),1,IF([1]!Cell_Color(T91)=[1]!Cell_Color($A$5),2,IF([1]!Cell_Color(T91)=[1]!Cell_Color($A$6),3,IF([1]!Cell_Color(T91)=[1]!Cell_Color($A$7),3,IF([1]!Cell_Color(T91)=[1]!Cell_Color($A$8),4,IF([1]!Cell_Color(T91)=[1]!Cell_Color($A$9),4,0))))))))","v":10},{"$f":"(17-U91)*POWER(EXP(1),2*(4-IF([1]!Cell_Color(U91)=[1]!Cell_Color($A$4),1,IF([1]!Cell_Color(U91)=[1]!Cell_Color($A$5),2,IF([1]!Cell_Color(U91)=[1]!Cell_Color($A$6),3,IF([1]!Cell_Color(U91)=[1]!Cell_Color($A$7),3,IF([1]!Cell_Color(U91)=[1]!Cell_Color($A$8),4,IF([1]!Cell_Color(U91)=[1]!Cell_Color($A$9),4,0))))))))","v":8},{"$f":"(17-V91)*POWER(EXP(1),2*(4-IF([1]!Cell_Color(V91)=[1]!Cell_Color($A$4),1,IF([1]!Cell_Color(V91)=[1]!Cell_Color($A$5),2,IF([1]!Cell_Color(V91)=[1]!Cell_Color($A$6),3,IF([1]!Cell_Color(V91)=[1]!Cell_Color($A$7),3,IF([1]!Cell_Color(V91)=[1]!Cell_Color($A$8),4,IF([1]!Cell_Color(V91)=[1]!Cell_Color($A$9),4,0))))))))","v":8}]
[null,null,89,91,2,91,2,89,"ХСЕ",null,null,15,12,8,8,13,15,12,13,8,13,7,null,{"$f":"SUM(AB92:AF92)","v":24},{"$f":"SUM(AD92:AH92)","v":24},{"$f":"SUM(AE92:AI92)","v":32},null,{"$f":"(17-O92)*POWER(EXP(1),2*(4-IF([1]!Cell_Color(O92)=[1]!Cell_Color($A$4),1,IF([1]!Cell_Color(O92)=[1]!Cell_Color($A$5),2,IF([1]!Cell_Color(O92)=[1]!Cell_Color($A$6),3,IF([1]!Cell_Color(O92)=[1]!Cell_Color($A$7),3,IF([1]!Cell_Color(O92)=[1]!Cell_Color($A$8),4,IF([1]!Cell_Color(O92)=[1]!Cell_Color($A$9),4,0))))))))","v":9},{"$f":"(17-P92)*POWER(EXP(1),2*(4-IF([1]!Cell_Color(P92)=[1]!Cell_Color($A$4),1,IF([1]!Cell_Color(P92)=[1]!Cell_Color($A$5),2,IF([1]!Cell_Color(P92)=[1]!Cell_Color($A$6),3,IF([1]!Cell_Color(P92)=[1]!Cell_Color($A$7),3,IF([1]!Cell_Color(P92)=[1]!Cell_Color($A$8),4,IF([1]!Cell_Color(P92)=[1]!Cell_Color($A$9),4,0))))))))","v":4},{"$f":"(17-Q92)*POWER(EXP(1),2*(4-IF([1]!Cell_Color(Q92)=[1]!Cell_Color($A$4),1,IF([1]!Cell_Color(Q92)=[1]!Cell_Color($A$5),2,IF([1]!Cell_Color(Q92)=[1]!Cell_Color($A$6),3,IF([1]!Cell_Color(Q92)=[1]!Cell_Color($A$7),3,IF([1]!Cell_Color(Q92)=[1]!Cell_Color($A$8),4,IF([1]!Cell_Color(Q92)=[1]!Cell_Color($A$9),4,0))))))))","v":2},{"$f":"(17-R92)*POWER(EXP(1),2*(4-IF([1]!Cell_Color(R92)=[1]!Cell_Color($A$4),1,IF([1]!Cell_Color(R92)=[1]!Cell_Color($A$5),2,IF([1]!Cell_Color(R92)=[1]!Cell_Color($A$6),3,IF([1]!Cell_Color(R92)=[1]!Cell_Color($A$7),3,IF([1]!Cell_Color(R92)=[1]!Cell_Color($A$8),4,IF([1]!Cell_Color(R92)=[1]!Cell_Color($A$9),4,0))))))))","v":5},{"$f":"(17-S92)*POWER(EXP(1),2*(4-IF([1]!Cell_Color(S92)=[1]!Cell_Color($A$4),1,IF([1]!Cell_Color(S92)=[1]!Cell_Color($A$5),2,IF([1]!Cell_Color(S92)=[1]!Cell_Color($A$6),3,IF([1]!Cell_Color(S92)=[1]!Cell_Color($A$7),3,IF([1]!Cell_Color(S92)=[1]!Cell_Color($A$8),4,IF([1]!Cell_Color(S92)=[1]!Cell_Color($A$9),4,0))))))))","v":4},{"$f":"(17-T92)*POWER(EXP(1),2*(4-IF([1]!Cell_Color(T92)=[1]!Cell_Color($A$4),1,IF([1]!Cell_Color(T92)=[1]!Cell_Color($A$5),2,IF([1]!Cell_Color(T92)=[1]!Cell_Color($A$6),3,IF([1]!Cell_Color(T92)=[1]!Cell_Color($A$7),3,IF([1]!Cell_Color(T92)=[1]!Cell_Color($A$8),4,IF([1]!Cell_Color(T92)=[1]!Cell_Color($A$9),4,0))))))))","v":9},{"$f":"(17-U92)*POWER(EXP(1),2*(4-IF([1]!Cell_Color(U92)=[1]!Cell_Color($A$4),1,IF([1]!Cell_Color(U92)=[1]!Cell_Color($A$5),2,IF([1]!Cell_Color(U92)=[1]!Cell_Color($A$6),3,IF([1]!Cell_Color(U92)=[1]!Cell_Color($A$7),3,IF([1]!Cell_Color(U92)=[1]!Cell_Color($A$8),4,IF([1]!Cell_Color(U92)=[1]!Cell_Color($A$9),4,0))))))))","v":4},{"$f":"(17-V92)*POWER(EXP(1),2*(4-IF([1]!Cell_Color(V92)=[1]!Cell_Color($A$4),1,IF([1]!Cell_Color(V92)=[1]!Cell_Color($A$5),2,IF([1]!Cell_Color(V92)=[1]!Cell_Color($A$6),3,IF([1]!Cell_Color(V92)=[1]!Cell_Color($A$7),3,IF([1]!Cell_Color(V92)=[1]!Cell_Color($A$8),4,IF([1]!Cell_Color(V92)=[1]!Cell_Color($A$9),4,0))))))))","v":10}]
[null,null,90,95,5,90,null,90,"Эржебети СМТК",12,14,15,15,15,15,14,7,16,11,13,11,6,null,{"$f":"SUM(AB93:AF93)","v":22},{"$f":"SUM(AD93:AH93)","v":27},{"$f":"SUM(AE93:AI93)","v":28},null,{"$f":"(17-O93)*POWER(EXP(1),2*(4-IF([1]!Cell_Color(O93)=[1]!Cell_Color($A$4),1,IF([1]!Cell_Color(O93)=[1]!Cell_Color($A$5),2,IF([1]!Cell_Color(O93)=[1]!Cell_Color($A$6),3,IF([1]!Cell_Color(O93)=[1]!Cell_Color($A$7),3,IF([1]!Cell_Color(O93)=[1]!Cell_Color($A$8),4,IF([1]!Cell_Color(O93)=[1]!Cell_Color($A$9),4,0))))))))","v":2},{"$f":"(17-P93)*POWER(EXP(1),2*(4-IF([1]!Cell_Color(P93)=[1]!Cell_Color($A$4),1,IF([1]!Cell_Color(P93)=[1]!Cell_Color($A$5),2,IF([1]!Cell_Color(P93)=[1]!Cell_Color($A$6),3,IF([1]!Cell_Color(P93)=[1]!Cell_Color($A$7),3,IF([1]!Cell_Color(P93)=[1]!Cell_Color($A$8),4,IF([1]!Cell_Color(P93)=[1]!Cell_Color($A$9),4,0))))))))","v":3},{"$f":"(17-Q93)*POWER(EXP(1),2*(4-IF([1]!Cell_Color(Q93)=[1]!Cell_Color($A$4),1,IF([1]!Cell_Color(Q93)=[1]!Cell_Color($A$5),2,IF([1]!Cell_Color(Q93)=[1]!Cell_Color($A$6),3,IF([1]!Cell_Color(Q93)=[1]!Cell_Color($A$7),3,IF([1]!Cell_Color(Q93)=[1]!Cell_Color($A$8),4,IF([1]!Cell_Color(Q93)=[1]!Cell_Color($A$9),4,0))))))))","v":10},{"$f":"(17-R93)*POWER(EXP(1),2*(4-IF([1]!Cell_Color(R93)=[1]!Cell_Color($A$4),1,IF([1]!Cell_Color(R93)=[1]!Cell_Color($A$5),2,IF([1]!Cell_Color(R93)=[1]!Cell_Color($A$6),3,IF([1]!Cell_Color(R93)=[1]!Cell_Color($A$7),3,IF([1]!Cell_Color(R93)=[1]!Cell_Color($A$8),4,IF([1]!Cell_Color(R93)=[1]!Cell_Color($A$9),4,0))))))))","v":1},{"$f":"(17-S93)*POWER(EXP(1),2*(4-IF([1]!Cell_Color(S93)=[1]!Cell_Color($A$4),1,IF([1]!Cell_Color(S93)=[1]!Cell_Color($A$5),2,IF([1]!Cell_Color(S93)=[1]!Cell_Color($A$6),3,IF([1]!Cell_Color(S93)=[1]!Cell_Color($A$7),3,IF([1]!Cell_Color(S93)=[1]!Cell_Color($A$8),4,IF([1]!Cell_Color(S93)=[1]!Cell_Color($A$9),4,0))))))))","v":6},{"$f":"(17-T93)*POWER(EXP(1),2*(4-IF([1]!Cell_Color(T93)=[1]!Cell_Color($A$4),1,IF([1]!Cell_Color(T93)=[1]!Cell_Color($A$5),2,IF([1]!Cell_Color(T93)=[1]!Cell_Color($A$6),3,IF([1]!Cell_Color(T93)=[1]!Cell_Color($A$7),3,IF([1]!Cell_Color(T93)=[1]!Cell_Color($A$8),4,IF([1]!Cell_Color(T93)=[1]!Cell_Color($A$9),4,0))))))))","v":4},{"$f":"(17-U93)*POWER(EXP(1),2*(4-IF([1]!Cell_Color(U93)=[1]!Cell_Color($A$4),1,IF([1]!Cell_Color(U93)=[1]!Cell_Color($A$5),2,IF([1]!Cell_Color(U93)=[1]!Cell_Color($A$6),3,IF([1]!Cell_Color(U93)=[1]!Cell_Color($A$7),3,IF([1]!Cell_Color(U93)=[1]!Cell_Color($A$8),4,IF([1]!Cell_Color(U93)=[1]!Cell_Color($A$9),4,0))))))))","v":6},{"$f":"(17-V93)*POWER(EXP(1),2*(4-IF([1]!Cell_Color(V93)=[1]!Cell_Color($A$4),1,IF([1]!Cell_Color(V93)=[1]!Cell_Color($A$5),2,IF([1]!Cell_Color(V93)=[1]!Cell_Color($A$6),3,IF([1]!Cell_Color(V93)=[1]!Cell_Color($A$7),3,IF([1]!Cell_Color(V93)=[1]!Cell_Color($A$8),4,IF([1]!Cell_Color(V93)=[1]!Cell_Color($A$9),4,0))))))))","v":11}]
[null,null,91,83,-8,88,-3,91,"Бичке СК",null,null,5,5,2,14,14,10,14,11,10,10,13,null,{"$f":"SUM(AB94:AF94)","v":41.167168296791949},{"$f":"SUM(AD94:AH94)","v":30},{"$f":"SUM(AE94:AI94)","v":27},null,{"$f":"(17-O94)*POWER(EXP(1),2*(4-IF([1]!Cell_Color(O94)=[1]!Cell_Color($A$4),1,IF([1]!Cell_Color(O94)=[1]!Cell_Color($A$5),2,IF([1]!Cell_Color(O94)=[1]!Cell_Color($A$6),3,IF([1]!Cell_Color(O94)=[1]!Cell_Color($A$7),3,IF([1]!Cell_Color(O94)=[1]!Cell_Color($A$8),4,IF([1]!Cell_Color(O94)=[1]!Cell_Color($A$9),4,0))))))))","v":22.167168296791949},{"$f":"(17-P94)*POWER(EXP(1),2*(4-IF([1]!Cell_Color(P94)=[1]!Cell_Color($A$4),1,IF([1]!Cell_Color(P94)=[1]!Cell_Color($A$5),2,IF([1]!Cell_Color(P94)=[1]!Cell_Color($A$6),3,IF([1]!Cell_Color(P94)=[1]!Cell_Color($A$7),3,IF([1]!Cell_Color(P94)=[1]!Cell_Color($A$8),4,IF([1]!Cell_Color(P94)=[1]!Cell_Color($A$9),4,0))))))))","v":3},{"$f":"(17-Q94)*POWER(EXP(1),2*(4-IF([1]!Cell_Color(Q94)=[1]!Cell_Color($A$4),1,IF([1]!Cell_Color(Q94)=[1]!Cell_Color($A$5),2,IF([1]!Cell_Color(Q94)=[1]!Cell_Color($A$6),3,IF([1]!Cell_Color(Q94)=[1]!Cell_Color($A$7),3,IF([1]!Cell_Color(Q94)=[1]!Cell_Color($A$8),4,IF([1]!Cell_Color(Q94)=[1]!Cell_Color($A$9),4,0))))))))","v":7},{"$f":"(17-R94)*POWER(EXP(1),2*(4-IF([1]!Cell_Color(R94)=[1]!Cell_Color($A$4),1,IF([1]!Cell_Color(R94)=[1]!Cell_Color($A$5),2,IF([1]!Cell_Color(R94)=[1]!Cell_Color($A$6),3,IF([1]!Cell_Color(R94)=[1]!Cell_Color($A$7),3,IF([1]!Cell_Color(R94)=[1]!Cell_Color($A$8),4,IF([1]!Cell_Color(R94)=[1]!Cell_Color($A$9),4,0))))))))","v":3},{"$f":"(17-S94)*POWER(EXP(1),2*(4-IF([1]!Cell_Color(S94)=[1]!Cell_Color($A$4),1,IF([1]!Cell_Color(S94)=[1]!Cell_Color($A$5),2,IF([1]!Cell_Color(S94)=[1]!Cell_Color($A$6),3,IF([1]!Cell_Color(S94)=[1]!Cell_Color($A$7),3,IF([1]!Cell_Color(S94)=[1]!Cell_Color($A$8),4,IF([1]!Cell_Color(S94)=[1]!Cell_Color($A$9),4,0))))))))","v":6},{"$f":"(17-T94)*POWER(EXP(1),2*(4-IF([1]!Cell_Color(T94)=[1]!Cell_Color($A$4),1,IF([1]!Cell_Color(T94)=[1]!Cell_Color($A$5),2,IF([1]!Cell_Color(T94)=[1]!Cell_Color($A$6),3,IF([1]!Cell_Color(T94)=[1]!Cell_Color($A$7),3,IF([1]!Cell_Color(T94)=[1]!Cell_Color($A$8),4,IF([1]!Cell_Color(T94)=[1]!Cell_Color($A$9),4,0))))))))","v":7},{"$f":"(17-U94)*POWER(EXP(1),2*(4-IF([1]!Cell_Color(U94)=[1]!Cell_Color($A$4),1,IF([1]!Cell_Color(U94)=[1]!Cell_Color($A$5),2,IF([1]!Cell_Color(U94)=[1]!Cell_Color($A$6),3,IF([1]!Cell_Color(U94)=[1]!Cell_Color($A$7),3,IF([1]!Cell_Color(U94)=[1]!Cell_Color($A$8),4,IF([1]!Cell_Color(U94)=[1]!Cell_Color($A$9),4,0))))))))","v":7},{"$f":"(17-V94)*POWER(EXP(1),2*(4-IF([1]!Cell_Color(V94)=[1]!Cell_Color($A$4),1,IF([1]!Cell_Color(V94)=[1]!Cell_Color($A$5),2,IF([1]!Cell_Color(V94)=[1]!Cell_Color($A$6),3,IF([1]!Cell_Color(V94)=[1]!Cell_Color($A$7),3,IF([1]!Cell_Color(V94)=[1]!Cell_Color($A$8),4,IF([1]!Cell_Color(V94)=[1]!Cell_Color($A$9),4,0))))))))","v":4}]
[null,null,92,96,4,96,4,92,"Фельчут ФК",null,null,3,13,14,15,15,16,15,16,14,12,5,null,{"$f":"SUM(AB95:AF95)","v":20.778112197861297},{"$f":"SUM(AD95:AH95)","v":12},{"$f":"SUM(AE95:AI95)","v":23},null,{"$f":"(17-O95)*POWER(EXP(1),2*(4-IF([1]!Cell_Color(O95)=[1]!Cell_Color($A$4),1,IF([1]!Cell_Color(O95)=[1]!Cell_Color($A$5),2,IF([1]!Cell_Color(O95)=[1]!Cell_Color($A$6),3,IF([1]!Cell_Color(O95)=[1]!Cell_Color($A$7),3,IF([1]!Cell_Color(O95)=[1]!Cell_Color($A$8),4,IF([1]!Cell_Color(O95)=[1]!Cell_Color($A$9),4,0))))))))","v":14.778112197861299},{"$f":"(17-P95)*POWER(EXP(1),2*(4-IF([1]!Cell_Color(P95)=[1]!Cell_Color($A$4),1,IF([1]!Cell_Color(P95)=[1]!Cell_Color($A$5),2,IF([1]!Cell_Color(P95)=[1]!Cell_Color($A$6),3,IF([1]!Cell_Color(P95)=[1]!Cell_Color($A$7),3,IF([1]!Cell_Color(P95)=[1]!Cell_Color($A$8),4,IF([1]!Cell_Color(P95)=[1]!Cell_Color($A$9),4,0))))))))","v":2},{"$f":"(17-Q95)*POWER(EXP(1),2*(4-IF([1]!Cell_Color(Q95)=[1]!Cell_Color($A$4),1,IF([1]!Cell_Color(Q95)=[1]!Cell_Color($A$5),2,IF([1]!Cell_Color(Q95)=[1]!Cell_Color($A$6),3,IF([1]!Cell_Color(Q95)=[1]!Cell_Color($A$7),3,IF([1]!Cell_Color(Q95)=[1]!Cell_Color($A$8),4,IF([1]!Cell_Color(Q95)=[1]!Cell_Color($A$9),4,0))))))))","v":1},{"$f":"(17-R95)*POWER(EXP(1),2*(4-IF([1]!Cell_Color(R95)=[1]!Cell_Color($A$4),1,IF([1]!Cell_Color(R95)=[1]!Cell_Color($A$5),2,IF([1]!Cell_Color(R95)=[1]!Cell_Color($A$6),3,IF([1]!Cell_Color(R95)=[1]!Cell_Color($A$7),3,IF([1]!Cell_Color(R95)=[1]!Cell_Color($A$8),4,IF([1]!Cell_Color(R95)=[1]!Cell_Color($A$9),4,0))))))))","v":2},{"$f":"(17-S95)*POWER(EXP(1),2*(4-IF([1]!Cell_Color(S95)=[1]!Cell_Color($A$4),1,IF([1]!Cell_Color(S95)=[1]!Cell_Color($A$5),2,IF([1]!Cell_Color(S95)=[1]!Cell_Color($A$6),3,IF([1]!Cell_Color(S95)=[1]!Cell_Color($A$7),3,IF([1]!Cell_Color(S95)=[1]!Cell_Color($A$8),4,IF([1]!Cell_Color(S95)=[1]!Cell_Color($A$9),4,0))))))))","v":1},{"$f":"(17-T95)*POWER(EXP(1),2*(4-IF([1]!Cell_Color(T95)=[1]!Cell_Color($A$4),1,IF([1]!Cell_Color(T95)=[1]!Cell_Color($A$5),2,IF([1]!Cell_Color(T95)=[1]!Cell_Color($A$6),3,IF([1]!Cell_Color(T95)=[1]!Cell_Color($A$7),3,IF([1]!Cell_Color(T95)=[1]!Cell_Color($A$8),4,IF([1]!Cell_Color(T95)=[1]!Cell_Color($A$9),4,0))))))))","v":3},{"$f":"(17-U95)*POWER(EXP(1),2*(4-IF([1]!Cell_Color(U95)=[1]!Cell_Color($A$4),1,IF([1]!Cell_Color(U95)=[1]!Cell_Color($A$5),2,IF([1]!Cell_Color(U95)=[1]!Cell_Color($A$6),3,IF([1]!Cell_Color(U95)=[1]!Cell_Color($A$7),3,IF([1]!Cell_Color(U95)=[1]!Cell_Color($A$8),4,IF([1]!Cell_Color(U95)=[1]!Cell_Color($A$9),4,0))))))))","v":5},{"$f":"(17-V95)*POWER(EXP(1),2*(4-IF([1]!Cell_Color(V95)=[1]!Cell_Color($A$4),1,IF([1]!Cell_Color(V95)=[1]!Cell_Color($A$5),2,IF([1]!Cell_Color(V95)=[1]!Cell_Color($A$6),3,IF([1]!Cell_Color(V95)=[1]!Cell_Color($A$7),3,IF([1]!Cell_Color(V95)=[1]!Cell_Color($A$8),4,IF([1]!Cell_Color(V95)=[1]!Cell_Color($A$9),4,0))))))))","v":12}]
[null,null,93,93,null,92,-1,93,"Дьирмот СЕ",null,null,14,16,12,12,9,12,14,15,6,15,14,null,{"$f":"SUM(AB96:AF96)","v":23},{"$f":"SUM(AD96:AH96)","v":23},{"$f":"SUM(AE96:AI96)","v":21},null,{"$f":"(17-O96)*POWER(EXP(1),2*(4-IF([1]!Cell_Color(O96)=[1]!Cell_Color($A$4),1,IF([1]!Cell_Color(O96)=[1]!Cell_Color($A$5),2,IF([1]!Cell_Color(O96)=[1]!Cell_Color($A$6),3,IF([1]!Cell_Color(O96)=[1]!Cell_Color($A$7),3,IF([1]!Cell_Color(O96)=[1]!Cell_Color($A$8),4,IF([1]!Cell_Color(O96)=[1]!Cell_Color($A$9),4,0))))))))","v":5},{"$f":"(17-P96)*POWER(EXP(1),2*(4-IF([1]!Cell_Color(P96)=[1]!Cell_Color($A$4),1,IF([1]!Cell_Color(P96)=[1]!Cell_Color($A$5),2,IF([1]!Cell_Color(P96)=[1]!Cell_Color($A$6),3,IF([1]!Cell_Color(P96)=[1]!Cell_Color($A$7),3,IF([1]!Cell_Color(P96)=[1]!Cell_Color($A$8),4,IF([1]!Cell_Color(P96)=[1]!Cell_Color($A$9),4,0))))))))","v":8},{"$f":"(17-Q96)*POWER(EXP(1),2*(4-IF([1]!Cell_Color(Q96)=[1]!Cell_Color($A$4),1,IF([1]!Cell_Color(Q96)=[1]!Cell_Color($A$5),2,IF([1]!Cell_Color(Q96)=[1]!Cell_Color($A$6),3,IF([1]!Cell_Color(Q96)=[1]!Cell_Color($A$7),3,IF([1]!Cell_Color(Q96)=[1]!Cell_Color($A$8),4,IF([1]!Cell_Color(Q96)=[1]!Cell_Color($A$9),4,0))))))))","v":5},{"$f":"(17-R96)*POWER(EXP(1),2*(4-IF([1]!Cell_Color(R96)=[1]!Cell_Color($A$4),1,IF([1]!Cell_Color(R96)=[1]!Cell_Color($A$5),2,IF([1]!Cell_Color(R96)=[1]!Cell_Color($A$6),3,IF([1]!Cell_Color(R96)=[1]!Cell_Color($A$7),3,IF([1]!Cell_Color(R96)=[1]!Cell_Color($A$8),4,IF([1]!Cell_Color(R96)=[1]!Cell_Color($A$9),4,0))))))))","v":3},{"$f":"(17-S96)*POWER(EXP(1),2*(4-IF([1]!Cell_Color(S96)=[1]!Cell_Color($A$4),1,IF([1]!Cell_Color(S96)=[1]!Cell_Color($A$5),2,IF([1]!Cell_Color(S96)=[1]!Cell_Color($A$6),3,IF([1]!Cell_Color(S96)=[1]!Cell_Color($A$7),3,IF([1]!Cell_Color(S96)=[1]!Cell_Color($A$8),4,IF([1]!Cell_Color(S96)=[1]!Cell_Color($A$9),4,0))))))))","v":2},{"$f":"(17-T96)*POWER(EXP(1),2*(4-IF([1]!Cell_Color(T96)=[1]!Cell_Color($A$4),1,IF([1]!Cell_Color(T96)=[1]!Cell_Color($A$5),2,IF([1]!Cell_Color(T96)=[1]!Cell_Color($A$6),3,IF([1]!Cell_Color(T96)=[1]!Cell_Color($A$7),3,IF([1]!Cell_Color(T96)=[1]!Cell_Color($A$8),4,IF([1]!Cell_Color(T96)=[1]!Cell_Color($A$9),4,0))))))))","v":11},{"$f":"(17-U96)*POWER(EXP(1),2*(4-IF([1]!Cell_Color(U96)=[1]!Cell_Color($A$4),1,IF([1]!Cell_Color(U96)=[1]!Cell_Color($A$5),2,IF([1]!Cell_Color(U96)=[1]!Cell_Color($A$6),3,IF([1]!Cell_Color(U96)=[1]!Cell_Color($A$7),3,IF([1]!Cell_Color(U96)=[1]!Cell_Color($A$8),4,IF([1]!Cell_Color(U96)=[1]!Cell_Color($A$9),4,0))))))))","v":2},{"$f":"(17-V96)*POWER(EXP(1),2*(4-IF([1]!Cell_Color(V96)=[1]!Cell_Color($A$4),1,IF([1]!Cell_Color(V96)=[1]!Cell_Color($A$5),2,IF([1]!Cell_Color(V96)=[1]!Cell_Color($A$6),3,IF([1]!Cell_Color(V96)=[1]!Cell_Color($A$7),3,IF([1]!Cell_Color(V96)=[1]!Cell_Color($A$8),4,IF([1]!Cell_Color(V96)=[1]!Cell_Color($A$9),4,0))))))))","v":3}]
[null,null,94,82,-12,93,-1,94,"Киштарча ПФК",9,7,12,16,6,1,15,7,15,15,15,11,11,null,{"$f":"SUM(AB97:AF97)","v":44.778112197861297},{"$f":"SUM(AD97:AH97)","v":22},{"$f":"SUM(AE97:AI97)","v":18},null,{"$f":"(17-O97)*POWER(EXP(1),2*(4-IF([1]!Cell_Color(O97)=[1]!Cell_Color($A$4),1,IF([1]!Cell_Color(O97)=[1]!Cell_Color($A$5),2,IF([1]!Cell_Color(O97)=[1]!Cell_Color($A$6),3,IF([1]!Cell_Color(O97)=[1]!Cell_Color($A$7),3,IF([1]!Cell_Color(O97)=[1]!Cell_Color($A$8),4,IF([1]!Cell_Color(O97)=[1]!Cell_Color($A$9),4,0))))))))","v":16},{"$f":"(17-P97)*POWER(EXP(1),2*(4-IF([1]!Cell_Color(P97)=[1]!Cell_Color($A$4),1,IF([1]!Cell_Color(P97)=[1]!Cell_Color($A$5),2,IF([1]!Cell_Color(P97)=[1]!Cell_Color($A$6),3,IF([1]!Cell_Color(P97)=[1]!Cell_Color($A$7),3,IF([1]!Cell_Color(P97)=[1]!Cell_Color($A$8),4,IF([1]!Cell_Color(P97)=[1]!Cell_Color($A$9),4,0))))))))","v":14.778112197861299},{"$f":"(17-Q97)*POWER(EXP(1),2*(4-IF([1]!Cell_Color(Q97)=[1]!Cell_Color($A$4),1,IF([1]!Cell_Color(Q97)=[1]!Cell_Color($A$5),2,IF([1]!Cell_Color(Q97)=[1]!Cell_Color($A$6),3,IF([1]!Cell_Color(Q97)=[1]!Cell_Color($A$7),3,IF([1]!Cell_Color(Q97)=[1]!Cell_Color($A$8),4,IF([1]!Cell_Color(Q97)=[1]!Cell_Color($A$9),4,0))))))))","v":10},{"$f":"(17-R97)*POWER(EXP(1),2*(4-IF([1]!Cell_Color(R97)=[1]!Cell_Color($A$4),1,IF([1]!Cell_Color(R97)=[1]!Cell_Color($A$5),2,IF([1]!Cell_Color(R97)=[1]!Cell_Color($A$6),3,IF([1]!Cell_Color(R97)=[1]!Cell_Color($A$7),3,IF([1]!Cell_Color(R97)=[1]!Cell_Color($A$8),4,IF([1]!Cell_Color(R97)=[1]!Cell_Color($A$9),4,0))))))))","v":2},{"$f":"(17-S97)*POWER(EXP(1),2*(4-IF([1]!Cell_Color(S97)=[1]!Cell_Color($A$4),1,IF([1]!Cell_Color(S97)=[1]!Cell_Color($A$5),2,IF([1]!Cell_Color(S97)=[1]!Cell_Color($A$6),3,IF([1]!Cell_Color(S97)=[1]!Cell_Color($A$7),3,IF([1]!Cell_Color(S97)=[1]!Cell_Color($A$8),4,IF([1]!Cell_Color(S97)=[1]!Cell_Color($A$9),4,0))))))))","v":2},{"$f":"(17-T97)*POWER(EXP(1),2*(4-IF([1]!Cell_Color(T97)=[1]!Cell_Color($A$4),1,IF([1]!Cell_Color(T97)=[1]!Cell_Color($A$5),2,IF([1]!Cell_Color(T97)=[1]!Cell_Color($A$6),3,IF([1]!Cell_Color(T97)=[1]!Cell_Color($A$7),3,IF([1]!Cell_Color(T97)=[1]!Cell_Color($A$8),4,IF([1]!Cell_Color(T97)=[1]!Cell_Color($A$9),4,0))))))))","v":2},{"$f":"(17-U97)*POWER(EXP(1),2*(4-IF([1]!Cell_Color(U97)=[1]!Cell_Color($A$4),1,IF([1]!Cell_Color(U97)=[1]!Cell_Color($A$5),2,IF([1]!Cell_Color(U97)=[1]!Cell_Color($A$6),3,IF([1]!Cell_Color(U97)=[1]!Cell_Color($A$7),3,IF([1]!Cell_Color(U97)=[1]!Cell_Color($A$8),4,IF([1]!Cell_Color(U97)=[1]!Cell_Color($A$9),4,0))))))))","v":6},{"$f":"(17-V97)*POWER(EXP(1),2*(4-IF([1]!Cell_Color(V97)=[1]!Cell_Color($A$4),1,IF([1]!Cell_Color(V97)=[1]!Cell_Color($A$5),2,IF([1]!Cell_Color(V97)=[1]!Cell_Color($A$6),3,IF([1]!Cell_Color(V97)=[1]!Cell_Color($A$7),3,IF([1]!Cell_Color(V97)=[1]!Cell_Color($A$8),4,IF([1]!Cell_Color(V97)=[1]!Cell_Color($A$9),4,0))))))))","v":6}]
[null,null,95,89,-6,94,-1,95,"Демечер ФК",4,6,13,7,9,7,10,13,13,13,14,15,15,null,{"$f":"SUM(AB98:AF98)","v":29},{"$f":"SUM(AD98:AH98)","v":17},{"$f":"SUM(AE98:AI98)","v":15},null,{"$f":"(17-O98)*POWER(EXP(1),2*(4-IF([1]!Cell_Color(O98)=[1]!Cell_Color($A$4),1,IF([1]!Cell_Color(O98)=[1]!Cell_Color($A$5),2,IF([1]!Cell_Color(O98)=[1]!Cell_Color($A$6),3,IF([1]!Cell_Color(O98)=[1]!Cell_Color($A$7),3,IF([1]!Cell_Color(O98)=[1]!Cell_Color($A$8),4,IF([1]!Cell_Color(O98)=[1]!Cell_Color($A$9),4,0))))))))","v":10},{"$f":"(17-P98)*POWER(EXP(1),2*(4-IF([1]!Cell_Color(P98)=[1]!Cell_Color($A$4),1,IF([1]!Cell_Color(P98)=[1]!Cell_Color($A$5),2,IF([1]!Cell_Color(P98)=[1]!Cell_Color($A$6),3,IF([1]!Cell_Color(P98)=[1]!Cell_Color($A$7),3,IF([1]!Cell_Color(P98)=[1]!Cell_Color($A$8),4,IF([1]!Cell_Color(P98)=[1]!Cell_Color($A$9),4,0))))))))","v":7},{"$f":"(17-Q98)*POWER(EXP(1),2*(4-IF([1]!Cell_Color(Q98)=[1]!Cell_Color($A$4),1,IF([1]!Cell_Color(Q98)=[1]!Cell_Color($A$5),2,IF([1]!Cell_Color(Q98)=[1]!Cell_Color($A$6),3,IF([1]!Cell_Color(Q98)=[1]!Cell_Color($A$7),3,IF([1]!Cell_Color(Q98)=[1]!Cell_Color($A$8),4,IF([1]!Cell_Color(Q98)=[1]!Cell_Color($A$9),4,0))))))))","v":4},{"$f":"(17-R98)*POWER(EXP(1),2*(4-IF([1]!Cell_Color(R98)=[1]!Cell_Color($A$4),1,IF([1]!Cell_Color(R98)=[1]!Cell_Color($A$5),2,IF([1]!Cell_Color(R98)=[1]!Cell_Color($A$6),3,IF([1]!Cell_Color(R98)=[1]!Cell_Color($A$7),3,IF([1]!Cell_Color(R98)=[1]!Cell_Color($A$8),4,IF([1]!Cell_Color(R98)=[1]!Cell_Color($A$9),4,0))))))))","v":4},{"$f":"(17-S98)*POWER(EXP(1),2*(4-IF([1]!Cell_Color(S98)=[1]!Cell_Color($A$4),1,IF([1]!Cell_Color(S98)=[1]!Cell_Color($A$5),2,IF([1]!Cell_Color(S98)=[1]!Cell_Color($A$6),3,IF([1]!Cell_Color(S98)=[1]!Cell_Color($A$7),3,IF([1]!Cell_Color(S98)=[1]!Cell_Color($A$8),4,IF([1]!Cell_Color(S98)=[1]!Cell_Color($A$9),4,0))))))))","v":4},{"$f":"(17-T98)*POWER(EXP(1),2*(4-IF([1]!Cell_Color(T98)=[1]!Cell_Color($A$4),1,IF([1]!Cell_Color(T98)=[1]!Cell_Color($A$5),2,IF([1]!Cell_Color(T98)=[1]!Cell_Color($A$6),3,IF([1]!Cell_Color(T98)=[1]!Cell_Color($A$7),3,IF([1]!Cell_Color(T98)=[1]!Cell_Color($A$8),4,IF([1]!Cell_Color(T98)=[1]!Cell_Color($A$9),4,0))))))))","v":3},{"$f":"(17-U98)*POWER(EXP(1),2*(4-IF([1]!Cell_Color(U98)=[1]!Cell_Color($A$4),1,IF([1]!Cell_Color(U98)=[1]!Cell_Color($A$5),2,IF([1]!Cell_Color(U98)=[1]!Cell_Color($A$6),3,IF([1]!Cell_Color(U98)=[1]!Cell_Color($A$7),3,IF([1]!Cell_Color(U98)=[1]!Cell_Color($A$8),4,IF([1]!Cell_Color(U98)=[1]!Cell_Color($A$9),4,0))))))))","v":2},{"$f":"(17-V98)*POWER(EXP(1),2*(4-IF([1]!Cell_Color(V98)=[1]!Cell_Color($A$4),1,IF([1]!Cell_Color(V98)=[1]!Cell_Color($A$5),2,IF([1]!Cell_Color(V98)=[1]!Cell_Color($A$6),3,IF([1]!Cell_Color(V98)=[1]!Cell_Color($A$7),3,IF([1]!Cell_Color(V98)=[1]!Cell_Color($A$8),4,IF([1]!Cell_Color(V98)=[1]!Cell_Color($A$9),4,0))))))))","v":2}]
[null,null,96,72,-24,95,-1,96,"Казинцбарцика СК",5,9,13,14,1,11,13,16,16,16,16,14,14,null,{"$f":"SUM(AB99:AF99)","v":83.279617088237146},{"$f":"SUM(AD99:AH99)","v":13.389056098930649},{"$f":"SUM(AE99:AI99)","v":9},null,{"$f":"(17-O99)*POWER(EXP(1),2*(4-IF([1]!Cell_Color(O99)=[1]!Cell_Color($A$4),1,IF([1]!Cell_Color(O99)=[1]!Cell_Color($A$5),2,IF([1]!Cell_Color(O99)=[1]!Cell_Color($A$6),3,IF([1]!Cell_Color(O99)=[1]!Cell_Color($A$7),3,IF([1]!Cell_Color(O99)=[1]!Cell_Color($A$8),4,IF([1]!Cell_Color(O99)=[1]!Cell_Color($A$9),4,0))))))))","v":44.334336593583899},{"$f":"(17-P99)*POWER(EXP(1),2*(4-IF([1]!Cell_Color(P99)=[1]!Cell_Color($A$4),1,IF([1]!Cell_Color(P99)=[1]!Cell_Color($A$5),2,IF([1]!Cell_Color(P99)=[1]!Cell_Color($A$6),3,IF([1]!Cell_Color(P99)=[1]!Cell_Color($A$7),3,IF([1]!Cell_Color(P99)=[1]!Cell_Color($A$8),4,IF([1]!Cell_Color(P99)=[1]!Cell_Color($A$9),4,0))))))))","v":29.556224395722598},{"$f":"(17-Q99)*POWER(EXP(1),2*(4-IF([1]!Cell_Color(Q99)=[1]!Cell_Color($A$4),1,IF([1]!Cell_Color(Q99)=[1]!Cell_Color($A$5),2,IF([1]!Cell_Color(Q99)=[1]!Cell_Color($A$6),3,IF([1]!Cell_Color(Q99)=[1]!Cell_Color($A$7),3,IF([1]!Cell_Color(Q99)=[1]!Cell_Color($A$8),4,IF([1]!Cell_Color(Q99)=[1]!Cell_Color($A$9),4,0))))))))","v":7.3890560989306495},{"$f":"(17-R99)*POWER(EXP(1),2*(4-IF([1]!Cell_Color(R99)=[1]!Cell_Color($A$4),1,IF([1]!Cell_Color(R99)=[1]!Cell_Color($A$5),2,IF([1]!Cell_Color(R99)=[1]!Cell_Color($A$6),3,IF([1]!Cell_Color(R99)=[1]!Cell_Color($A$7),3,IF([1]!Cell_Color(R99)=[1]!Cell_Color($A$8),4,IF([1]!Cell_Color(R99)=[1]!Cell_Color($A$9),4,0))))))))","v":1},{"$f":"(17-S99)*POWER(EXP(1),2*(4-IF([1]!Cell_Color(S99)=[1]!Cell_Color($A$4),1,IF([1]!Cell_Color(S99)=[1]!Cell_Color($A$5),2,IF([1]!Cell_Color(S99)=[1]!Cell_Color($A$6),3,IF([1]!Cell_Color(S99)=[1]!Cell_Color($A$7),3,IF([1]!Cell_Color(S99)=[1]!Cell_Color($A$8),4,IF([1]!Cell_Color(S99)=[1]!Cell_Color($A$9),4,0))))))))","v":1},{"$f":"(17-T99)*POWER(EXP(1),2*(4-IF([1]!Cell_Color(T99)=[1]!Cell_Color($A$4),1,IF([1]!Cell_Color(T99)=[1]!Cell_Color($A$5),2,IF([1]!Cell_Color(T99)=[1]!Cell_Color($A$6),3,IF([1]!Cell_Color(T99)=[1]!Cell_Color($A$7),3,IF([1]!Cell_Color(T99)=[1]!Cell_Color($A$8),4,IF([1]!Cell_Color(T99)=[1]!Cell_Color($A$9),4,0))))))))","v":1},{"$f":"(17-U99)*POWER(EXP(1),2*(4-IF([1]!Cell_Color(U99)=[1]!Cell_Color($A$4),1,IF([1]!Cell_Color(U99)=[1]!Cell_Color($A$5),2,IF([1]!Cell_Color(U99)=[1]!Cell_Color($A$6),3,IF([1]!Cell_Color(U99)=[1]!Cell_Color($A$7),3,IF([1]!Cell_Color(U99)=[1]!Cell_Color($A$8),4,IF([1]!Cell_Color(U99)=[1]!Cell_Color($A$9),4,0))))))))","v":3},{"$f":"(17-V99)*POWER(EXP(1),2*(4-IF([1]!Cell_Color(V99)=[1]!Cell_Color($A$4),1,IF([1]!Cell_Color(V99)=[1]!Cell_Color($A$5),2,IF([1]!Cell_Color(V99)=[1]!Cell_Color($A$6),3,IF([1]!Cell_Color(V99)=[1]!Cell_Color($A$7),3,IF([1]!Cell_Color(V99)=[1]!Cell_Color($A$8),4,IF([1]!Cell_Color(V99)=[1]!Cell_Color($A$9),4,0))))))))","v":3}]

{"sheet":"Лист2","index":1,"n_rows":0,"n_cols":0,"rows_kept":0,"cut":false,"hidden":false,"merged":[]}

{"sheet":"Лист3","index":2,"n_rows":0,"n_cols":0,"rows_kept":0,"cut":false,"hidden":false,"merged":[]}